Shooting information for this photo
| Camera: | NIKON COOLPIX A900 |
| Exposure: | 0.0008 sec. (1/1250) |
| Aperture: | f/4.5 |
| Focal Length: | 5.4 mm (35 mm equivalent: 30.0 mm) |
| Flash: | Off, Did not fire |
| Exposure mode: | Aperture-priority AE |
| Max Aperture: | 3.4 |
| Resolution: | 240 x 240 dpi |
| Original Date: | 2019:08:12 14:46:56 |
| Created on: | 2019:08:12 14:46:56 |
| Modified on: | 2019:09:14 12:30:08 |
| Software: | Adobe Photoshop Lightroom 6.0 (Windows) |
| Already Applied | True |
| Auto Lateral CA | 0 |
| Auto White Version | 134348800 |
| Blacks 2012 | 0 |
| Blue Hue | 0 |
| Blue Saturation | 0 |
| Camera Profile | Adobe Standard |
| Circle Of Confusion | 0.005 mm |
| Clarity 2012 | 0 |
| Color Noise Reduction | 25 |
| Color Noise Reduction Detail | 50 |
| Color Noise Reduction Smoothness | 50 |
| Color Space | sRGB |
| Contrast | Normal |
| Contrast 2012 | 0 |
| Convert To Grayscale | True |
| Crop Angle | -2.29886 |
| Crop Bottom | 0.809085 |
| Crop Constrain To Warp | 0 |
| Crop Left | 0.167911 |
| Crop Right | 0.997058 |
| Crop Top | 0.084218 |
| Custom Rendered | Normal |
| Digital Zoom Ratio | 0 |
| Exposure 2012 | 0.00 |
| Exposure Compensation | 0 |
| Exposure Mode | Auto |
| Field Of View | 61.9 deg |
| Focal Length In 35mm Format | 30 mm |
| Format | image/jpeg |
| Gain Control | None |
| Grain Amount | 0 |
| Gray Mixer Aqua | +25 |
| Gray Mixer Blue | 0 |
| Gray Mixer Green | -5 |
| Gray Mixer Magenta | -40 |
| Gray Mixer Orange | +38 |
| Gray Mixer Purple | -30 |
| Gray Mixer Red | +50 |
| Gray Mixer Yellow | +36 |
| Green Hue | 0 |
| Green Saturation | 0 |
| Has Crop | True |
| Has Settings | True |
| Highlights 2012 | 0 |
| Hyperfocal Distance | 1.20 m |
| ISO | 200 |
| Image Size | 2989x4182 |
| Incremental Temperature | 0 |
| Incremental Tint | 0 |
| Lens Manual Distortion Amount | 0 |
| Lens Profile Enable | 0 |
| Lens Profile Setup | LensDefaults |
| Light Source | Unknown |
| Light Value | 13.6 |
| Luminance Smoothing | 0 |
| Metering Mode | Multi-segment |
| Parametric Darks | +18 |
| Parametric Highlight Split | 75 |
| Parametric Highlights | +50 |
| Parametric Lights | +40 |
| Parametric Midtone Split | 50 |
| Parametric Shadow Split | 25 |
| Parametric Shadows | 0 |
| Perspective Aspect | 0 |
| Perspective Horizontal | 0 |
| Perspective Rotate | 0.0 |
| Perspective Scale | 100 |
| Perspective Upright | 0 |
| Perspective Vertical | 0 |
| Post Crop Vignette Amount | 0 |
| Process Version | 6.7 |
| Raw File Name | DSCN0107-2.jpg |
| Red Hue | 0 |
| Red Saturation | 0 |
| Saturation | Normal |
| Scale Factor To 35 mm Equivalent | 5.6 |
| Scene Capture Type | Standard |
| Scene Type | Directly photographed |
| Sensitivity Type | Standard Output Sensitivity |
| Shadow Tint | 0 |
| Shadows 2012 | 0 |
| Sharpen Detail | 25 |
| Sharpen Edge Masking | 0 |
| Sharpen Radius | +1.0 |
| Sharpness | Normal |
| Split Toning Balance | 0 |
| Split Toning Highlight Hue | 0 |
| Split Toning Highlight Saturation | 0 |
| Split Toning Shadow Hue | 0 |
| Split Toning Shadow Saturation | 0 |
| Subject Distance Range | Unknown |
| Tone Curve | 0, 0, 255, 255 |
| Tone Curve Blue | 0, 0, 255, 255 |
| Tone Curve Green | 0, 0, 255, 255 |
| Tone Curve Name | Linear |
| Tone Curve Name 2012 | Strong Contrast |
| Tone Curve PV2012 | 0, 0, 32, 16, 64, 50, 128, 128, 192, 202, 255, 255 |
| Tone Curve PV2012 Blue | 0, 0, 255, 255 |
| Tone Curve PV2012 Green | 0, 0, 255, 255 |
| Tone Curve PV2012 Red | 0, 0, 255, 255 |
| Tone Curve Red | 0, 0, 255, 255 |
| Version | 9.0 |
| Vignette Amount | 0 |
| White Balance | Auto |
| Whites 2012 | 0 |
X