Shooting information for this photo
| Camera: | Panasonic DMC-GM5 |
| Exposure: | 0.3 sec. |
| Aperture: | f/5.6 |
| Focal Length: | 12.0 mm (35 mm equivalent: 24.0 mm) |
| Flash: | Off, Did not fire |
| Exposure mode: | Aperture-priority AE |
| Max Aperture: | 3.5 |
| Resolution: | 240 x 240 dpi |
| Original Date: | 2019:01:16 23:03:38.667 |
| Created on: | 2019:01:16 23:03:38.667 |
| Modified on: | 2019:01:17 11:48:12 |
| Software: | Adobe Photoshop Lightroom 6.0 (Windows) |
| Already Applied | True |
| Auto Lateral CA | 0 |
| Auto White Version | 134348800 |
| Blacks 2012 | -7 |
| Blue Hue | 0 |
| Blue Saturation | 0 |
| Camera Profile | Adobe Standard |
| Circle Of Confusion | 0.015 mm |
| Clarity 2012 | +24 |
| Color Noise Reduction | 25 |
| Color Noise Reduction Detail | 50 |
| Color Noise Reduction Smoothness | 50 |
| Color Space | sRGB |
| Contrast | Normal |
| Contrast 2012 | 0 |
| Convert To Grayscale | True |
| Crop Angle | 0 |
| Crop Bottom | 0.910739 |
| Crop Constrain To Warp | 0 |
| Crop Left | 0.003116 |
| Crop Right | 0.819299 |
| Crop Top | 0.186085 |
| Custom Rendered | Normal |
| Digital Zoom Ratio | 0 |
| Exposure 2012 | 0.00 |
| Exposure Compensation | 0 |
| Exposure Mode | Auto |
| Field Of View | 73.7 deg |
| Focal Length In 35mm Format | 24 mm |
| Format | image/jpeg |
| Gain Control | Low gain up |
| Grain Amount | 0 |
| Gray Mixer Aqua | +38 |
| Gray Mixer Blue | 0 |
| Gray Mixer Green | +30 |
| Gray Mixer Magenta | 0 |
| Gray Mixer Orange | +38 |
| Gray Mixer Purple | 0 |
| Gray Mixer Red | +25 |
| Gray Mixer Yellow | +40 |
| Green Hue | 0 |
| Green Saturation | 0 |
| Has Crop | True |
| Has Settings | True |
| Highlights 2012 | -50 |
| Hyperfocal Distance | 1.71 m |
| ISO | 200 |
| Image Size | 3748x2499 |
| Incremental Temperature | -5 |
| Incremental Tint | -36 |
| Lens | LUMIX G VARIO 12-32/F3.5-5.6 |
| Lens Manual Distortion Amount | 0 |
| Lens Model | LUMIX G VARIO 12-32/F3.5-5.6 |
| Lens Profile Enable | 0 |
| Lens Profile Setup | LensDefaults |
| Light Source | Unknown |
| Light Value | 5.6 |
| Luminance Smoothing | 0 |
| Metering Mode | Multi-segment |
| Parametric Darks | 0 |
| Parametric Highlight Split | 75 |
| Parametric Highlights | 0 |
| Parametric Lights | 0 |
| Parametric Midtone Split | 50 |
| Parametric Shadow Split | 25 |
| Parametric Shadows | 0 |
| Perspective Aspect | 0 |
| Perspective Horizontal | 0 |
| Perspective Rotate | 0.0 |
| Perspective Scale | 100 |
| Perspective Upright | 0 |
| Perspective Vertical | 0 |
| Post Crop Vignette Amount | 0 |
| Process Version | 6.7 |
| Raw File Name | P1710066-2.jpg |
| Red Hue | 0 |
| Red Saturation | 0 |
| Saturation | Normal |
| Scale Factor To 35 mm Equivalent | 2.0 |
| Scene Capture Type | Standard |
| Scene Type | Directly photographed |
| Sensing Method | One-chip color area |
| Sensitivity Type | Standard Output Sensitivity |
| Shadow Tint | 0 |
| Shadows 2012 | 0 |
| Sharpen Detail | 25 |
| Sharpen Edge Masking | 0 |
| Sharpen Radius | +1.0 |
| Sharpness | Normal |
| Split Toning Balance | 0 |
| Split Toning Highlight Hue | 0 |
| Split Toning Highlight Saturation | 0 |
| Split Toning Shadow Hue | 0 |
| Split Toning Shadow Saturation | 0 |
| Tone Curve | 0, 0, 255, 255 |
| Tone Curve Blue | 0, 0, 255, 255 |
| Tone Curve Green | 0, 0, 255, 255 |
| Tone Curve Name | Linear |
| Tone Curve Name 2012 | Custom |
| Tone Curve PV2012 | 0, 0, 173, 174, 255, 255 |
| Tone Curve PV2012 Blue | 0, 0, 255, 255 |
| Tone Curve PV2012 Green | 0, 0, 255, 255 |
| Tone Curve PV2012 Red | 0, 0, 255, 255 |
| Tone Curve Red | 0, 0, 255, 255 |
| Version | 9.0 |
| Vignette Amount | 0 |
| White Balance | Auto |
| Whites 2012 | 0 |
X