Shooting information for this photo
| Camera: | Panasonic DMC-GM5 |
| Exposure: | 0.00156 sec. (1/640) |
| Aperture: | f/5.6 |
| Focal Length: | 33.0 mm (35 mm equivalent: 66.0 mm) |
| Flash: | Off, Did not fire |
| Exposure mode: | Aperture-priority AE |
| Max Aperture: | 5.6 |
| Resolution: | 240 x 240 dpi |
| Original Date: | 2017:05:28 13:58:39.712 |
| Created on: | 2017:05:28 13:58:39.712 |
| Modified on: | 2018:09:30 10:28:22 |
| Software: | Adobe Photoshop Lightroom 6.0 (Windows) |
| Already Applied | True |
| Auto Lateral CA | 0 |
| Auto White Version | 134348800 |
| Blacks 2012 | -57 |
| Blue Hue | 0 |
| Blue Saturation | 0 |
| Camera Profile | Embedded |
| Circle Of Confusion | 0.015 mm |
| Clarity 2012 | +15 |
| Color Noise Reduction | 0 |
| Color Space | sRGB |
| Contrast | Normal |
| Contrast 2012 | -1 |
| Convert To Grayscale | False |
| Crop Angle | -0.556225 |
| Crop Bottom | 0.867128 |
| Crop Constrain To Warp | 0 |
| Crop Left | 0.091938 |
| Crop Right | 0.793665 |
| Crop Top | 0.180289 |
| Custom Rendered | Normal |
| Defringe Green Amount | 0 |
| Defringe Green Hue Hi | 60 |
| Defringe Green Hue Lo | 40 |
| Defringe Purple Amount | 0 |
| Defringe Purple Hue Hi | 70 |
| Defringe Purple Hue Lo | 30 |
| Digital Zoom Ratio | 0 |
| Exposure 2012 | +0.73 |
| Exposure Compensation | 0 |
| Exposure Mode | Auto |
| Field Of View | 30.5 deg |
| Focal Length In 35mm Format | 66 mm |
| Format | image/jpeg |
| Gain Control | Low gain up |
| Grain Amount | 0 |
| Green Hue | 0 |
| Green Saturation | 0 |
| Has Crop | True |
| Has Settings | True |
| Highlights 2012 | 0 |
| Hue Adjustment Aqua | 0 |
| Hue Adjustment Blue | 0 |
| Hue Adjustment Green | 0 |
| Hue Adjustment Magenta | 0 |
| Hue Adjustment Orange | 0 |
| Hue Adjustment Purple | 0 |
| Hue Adjustment Red | 0 |
| Hue Adjustment Yellow | 0 |
| Hyperfocal Distance | 12.94 m |
| ISO | 200 |
| Image Size | 3199x2399 |
| Incremental Temperature | 0 |
| Incremental Tint | 0 |
| Lens | LUMIX G VARIO PZ 14-42/F3.5-5.6 |
| Lens Manual Distortion Amount | 0 |
| Lens Model | LUMIX G VARIO PZ 14-42/F3.5-5.6 |
| Lens Profile Enable | 0 |
| Lens Profile Setup | LensDefaults |
| Light Source | Cloudy |
| Light Value | 13.3 |
| Luminance Adjustment Aqua | 0 |
| Luminance Adjustment Blue | 0 |
| Luminance Adjustment Green | 0 |
| Luminance Adjustment Magenta | 0 |
| Luminance Adjustment Orange | 0 |
| Luminance Adjustment Purple | 0 |
| Luminance Adjustment Red | 0 |
| Luminance Adjustment Yellow | 0 |
| Luminance Smoothing | 0 |
| Metering Mode | Multi-segment |
| Parametric Darks | 0 |
| Parametric Highlight Split | 75 |
| Parametric Highlights | 0 |
| Parametric Lights | 0 |
| Parametric Midtone Split | 50 |
| Parametric Shadow Split | 25 |
| Parametric Shadows | 0 |
| Perspective Aspect | 0 |
| Perspective Horizontal | 0 |
| Perspective Rotate | 0.0 |
| Perspective Scale | 100 |
| Perspective Upright | 0 |
| Perspective Vertical | 0 |
| Post Crop Vignette Amount | 0 |
| Process Version | 6.7 |
| Raw File Name | P1460817-2.jpg |
| Red Hue | 0 |
| Red Saturation | 0 |
| Saturation | Normal |
| Saturation Adjustment Aqua | 0 |
| Saturation Adjustment Blue | 0 |
| Saturation Adjustment Green | 0 |
| Saturation Adjustment Magenta | 0 |
| Saturation Adjustment Orange | 0 |
| Saturation Adjustment Purple | 0 |
| Saturation Adjustment Red | 0 |
| Saturation Adjustment Yellow | 0 |
| Scale Factor To 35 mm Equivalent | 2.0 |
| Scene Capture Type | Standard |
| Scene Type | Directly photographed |
| Sensing Method | One-chip color area |
| Sensitivity Type | Standard Output Sensitivity |
| Shadow Tint | 0 |
| Shadows 2012 | -9 |
| Sharpen Detail | 25 |
| Sharpen Edge Masking | 0 |
| Sharpen Radius | +1.0 |
| Sharpness | Normal |
| Split Toning Balance | 0 |
| Split Toning Highlight Hue | 0 |
| Split Toning Highlight Saturation | 0 |
| Split Toning Shadow Hue | 0 |
| Split Toning Shadow Saturation | 0 |
| Tone Curve | 0, 0, 255, 255 |
| Tone Curve Blue | 0, 0, 255, 255 |
| Tone Curve Green | 0, 0, 255, 255 |
| Tone Curve Name | Linear |
| Tone Curve Name 2012 | Linear |
| Tone Curve PV2012 | 0, 0, 255, 255 |
| Tone Curve PV2012 Blue | 0, 0, 255, 255 |
| Tone Curve PV2012 Green | 0, 0, 255, 255 |
| Tone Curve PV2012 Red | 0, 0, 255, 255 |
| Tone Curve Red | 0, 0, 255, 255 |
| Version | 9.0 |
| Vibrance | 0 |
| Vignette Amount | 0 |
| White Balance | Manual |
| Whites 2012 | -4 |
X