Shooting information for this photo
| Camera: | Canon EOS M6 Mark II |
| Exposure: | 0.0125 sec. (1/80) |
| Aperture: | f/11.0 |
| Focal Length: | 11.0 mm (35 mm equivalent: 19.0 mm) |
| Flash: | No Flash |
| Exposure mode: | Aperture-priority AE |
| Max Aperture: | 4.0 |
| Resolution: | 94 x 94 dpi |
| Original Date: | 2025:01:19 14:06:36.43 |
| Created on: | 2025:01:19 14:06:36.43 |
| Modified on: | 2025:01:30 22:47:56 |
| Software: | Adobe Photoshop Lightroom Classic 14.1.1 (Windows) |
| Already Applied | True |
| Approximate Focus Distance | 4294967295 |
| Auto Lateral CA | 0 |
| Blacks 2012 | 0 |
| Blue Hue | 0 |
| Blue Saturation | 0 |
| Camera Profile | Embedded |
| Circle Of Confusion | 0.017 mm |
| Clarity 2012 | +4 |
| Color Grade Blending | 50 |
| Color Grade Global Hue | 0 |
| Color Grade Global Lum | 0 |
| Color Grade Global Sat | 0 |
| Color Grade Highlight Lum | 0 |
| Color Grade Midtone Hue | 0 |
| Color Grade Midtone Lum | 0 |
| Color Grade Midtone Sat | 0 |
| Color Grade Shadow Lum | 0 |
| Color Noise Reduction | 0 |
| Color Space | sRGB |
| Compatible Version | 234881024 |
| Contrast 2012 | +24 |
| Convert To Grayscale | False |
| Crop Angle | 0 |
| Crop Bottom | 1 |
| Crop Constrain To Warp | 0 |
| Crop Left | 0 |
| Crop Right | 0.934426 |
| Crop Top | 0.065574 |
| Custom Rendered | Normal |
| Date Created | 2025:01:19 14:06:36.43+02:00 |
| Defringe Green Amount | 0 |
| Defringe Green Hue Hi | 60 |
| Defringe Green Hue Lo | 40 |
| Defringe Purple Amount | 0 |
| Defringe Purple Hue Hi | 70 |
| Defringe Purple Hue Lo | 30 |
| Dehaze | 0 |
| Description | Stones in the Bavarian Alps from a glacier. |
| Enhance Denoise Already Applied | True |
| Enhance Denoise Luma Amount | 57 |
| Enhance Denoise Version | 251658240 |
| Enhance Details Already Applied | True |
| Enhance Details Version | 218300416 |
| Exposure 2012 | +0.05 |
| Exposure Compensation | -1 |
| Exposure Mode | Auto |
| Field Of View | 86.9 deg |
| Firmware | 1.1.1 |
| Flash Compensation | 0 |
| Format | image/jpeg |
| Grain Amount | 0 |
| Green Hue | 0 |
| Green Saturation | 0 |
| HDR Edit Mode | 0 |
| Has Crop | True |
| Has Settings | True |
| Highlights 2012 | 0 |
| Hue Adjustment Aqua | -15 |
| Hue Adjustment Blue | -11 |
| Hue Adjustment Green | 0 |
| Hue Adjustment Magenta | -8 |
| Hue Adjustment Orange | 0 |
| Hue Adjustment Purple | -17 |
| Hue Adjustment Red | 0 |
| Hue Adjustment Yellow | 0 |
| Hyperfocal Distance | 0.63 m |
| ISO | 1250 |
| Image Description | Stones in the Bavarian Alps from a glacier. |
| Image Number | 0 |
| Image Size | 6504x4336 |
| Incremental Temperature | 0 |
| Incremental Tint | 0 |
| Lens | EF-M11-22mm f/4-5.6 IS STM |
| Lens ID | Canon EF-M11-22mm f/4-5.6 IS STM |
| Lens Info | 11-22mm f/? |
| Lens Manual Distortion Amount | 0 |
| Lens Model | EF-M11-22mm f/4-5.6 IS STM |
| Lens Profile Enable | 0 |
| Light Value | 9.6 |
| Luminance Adjustment Aqua | 0 |
| Luminance Adjustment Blue | -71 |
| Luminance Adjustment Green | 0 |
| Luminance Adjustment Magenta | 0 |
| Luminance Adjustment Orange | -39 |
| Luminance Adjustment Purple | 0 |
| Luminance Adjustment Red | 0 |
| Luminance Adjustment Yellow | 0 |
| Luminance Smoothing | 0 |
| Metering Mode | Multi-segment |
| Override Look Vignette | False |
| Parametric Darks | 0 |
| Parametric Highlight Split | 75 |
| Parametric Highlights | -31 |
| Parametric Lights | 0 |
| Parametric Midtone Split | 50 |
| Parametric Shadow Split | 25 |
| Parametric Shadows | 0 |
| Perspective Aspect | 0 |
| Perspective Horizontal | 0 |
| Perspective Rotate | 0.0 |
| Perspective Scale | 100 |
| Perspective Upright | 0 |
| Perspective Vertical | 0 |
| Perspective X | 0.00 |
| Perspective Y | 0.00 |
| Pick | 0 |
| Point Colors | -1.000000, -1.000000, -1.000000, -1.000000, -1.000000, -1.000000, -1.000000, -1.000000, -1.000000, -1.000000, -1.000000, -1.000000, -1.000000, -1.000000, -1.000000, -1.000000, -1.000000, -1.000000, -1.000000 |
| Post Crop Vignette Amount | 0 |
| Preserved File Name | _MG_5133.CR3 |
| Process Version | 15.4 |
| Range Mask Map Info Range Mask Map Info Lab Max | 0.984726 0.611261 0.795468 |
| Range Mask Map Info Range Mask Map Info Lab Min | 0.000824 0.410330 0.368917 |
| Range Mask Map Info Range Mask Map Info RGB Max | 0.874733 0.877483 0.882984 |
| Range Mask Map Info Range Mask Map Info RGB Min | 0.002298 0.002298 0.002298 |
| Raw File Name | _MG_5133-Verbessert-RR-Bearbei tet.tif |
| Recommended Exposure Index | 1250 |
| Red Hue | 0 |
| Red Saturation | 0 |
| Saturation | 0 |
| Saturation Adjustment Aqua | 0 |
| Saturation Adjustment Blue | -50 |
| Saturation Adjustment Green | 0 |
| Saturation Adjustment Magenta | 0 |
| Saturation Adjustment Orange | +2 |
| Saturation Adjustment Purple | 0 |
| Saturation Adjustment Red | 0 |
| Saturation Adjustment Yellow | 0 |
| Scale Factor To 35 mm Equivalent | 1.7 |
| Scene Capture Type | Standard |
| Sensitivity Type | Recommended Exposure Index |
| Shadow Tint | 0 |
| Shadows 2012 | +39 |
| Sharpness | 0 |
| Split Toning Balance | 0 |
| Split Toning Highlight Hue | 0 |
| Split Toning Highlight Saturation | 0 |
| Split Toning Shadow Hue | 0 |
| Split Toning Shadow Saturation | 0 |
| Subject | ATS, Baum, Bayern, Canon, EOS M6 M2, Entrauschen, Hochland, Holz, Miesbacher Oberland, Natur, Pflanze, Schliersee, Stein, Verbessert, Wald |
| Texture | 0 |
| Title | Steinewald + Rolling Stones forest |
| Tone Curve Name 2012 | Linear |
| Tone Curve PV2012 | 0, 0, 255, 255 |
| Tone Curve PV2012 Blue | 0, 0, 255, 255 |
| Tone Curve PV2012 Green | 0, 0, 255, 255 |
| Tone Curve PV2012 Red | 0, 0, 255, 255 |
| Version | 17.1 |
| Vibrance | 0 |
| Vignette Amount | 0 |
| Weighted Flat Subject | Natur, Pflanze, Baum, Wald, Holz, Entrauschen, Verbessert, Stein, ATS, Bayern, Canon, EOS M6 M2, Schliersee, Miesbacher Oberland, Hochland |
| White Balance | Auto |
| Whites 2012 | +7 |
X