Shooting information for this photo
| Camera: | Canon EOS R5 |
| Exposure: | 0.06667 sec. (1/15) |
| Aperture: | f/9.0 |
| Focal Length: | 28.0 mm (35 mm equivalent: 28.0 mm) |
| Flash: | No Flash |
| Exposure mode: | Aperture-priority AE |
| Max Aperture: | 4.0 |
| Resolution: | 94 x 94 dpi |
| Original Date: | 2023:05:29 10:00:22.47 |
| Created on: | 2023:05:29 10:00:22.47 |
| Modified on: | 2023:09:10 23:35:07.47 |
| Software: | Adobe Photoshop Lightroom Classic 12.5 (Windows) |
| Already Applied | True |
| Approximate Focus Distance | 4294967295 |
| Artist | LW |
| Auto Lateral CA | 0 |
| Blacks 2012 | 0 |
| Blue Hue | 0 |
| Blue Saturation | 0 |
| Camera Profile | Embedded |
| Circle Of Confusion | 0.030 mm |
| Clarity 2012 | 0 |
| Color Grade Blending | 50 |
| Color Grade Global Hue | 0 |
| Color Grade Global Lum | 0 |
| Color Grade Global Sat | 0 |
| Color Grade Highlight Lum | 0 |
| Color Grade Midtone Hue | 0 |
| Color Grade Midtone Lum | 0 |
| Color Grade Midtone Sat | 0 |
| Color Grade Shadow Lum | 0 |
| Color Noise Reduction | 0 |
| Color Space | sRGB |
| Compatible Version | 234881024 |
| Contrast 2012 | 0 |
| Convert To Grayscale | False |
| Creator | LW |
| Crop Angle | 0 |
| Crop Bottom | 1 |
| Crop Constrain To Warp | 0 |
| Crop Left | 0 |
| Crop Right | 1 |
| Crop Top | 0 |
| Custom Rendered | Normal |
| Date Created | 2023:05:29 10:00:22.047+01:00 |
| Defringe Green Amount | 0 |
| Defringe Green Hue Hi | 60 |
| Defringe Green Hue Lo | 40 |
| Defringe Purple Amount | 0 |
| Defringe Purple Hue Hi | 70 |
| Defringe Purple Hue Lo | 30 |
| Dehaze | 0 |
| Description | Bei Flintsbach sind in der Wolfschlucht einige Wasserfälle zu finden ++ There are some waterfalls in the Wolf Gorge near Flintsbach. https://www.chiemsee-alpenland .de/entdecken/tourenportal/wan dern-von-flintsbach-aus-zu-den -drei-wasserfaellen-98fa4df97c |
| Distortion Correction Already Applied | True |
| Exposure 2012 | 0.00 |
| Exposure Compensation | -4/3 |
| Exposure Mode | Auto |
| Field Of View | 65.5 deg |
| Firmware | 1.8.1 |
| Flash Compensation | 0 |
| Format | image/jpeg |
| Grain Amount | 0 |
| Green Hue | 0 |
| Green Saturation | 0 |
| Has Crop | False |
| Has Settings | True |
| Highlights 2012 | +18 |
| Hue Adjustment Aqua | 0 |
| Hue Adjustment Blue | 0 |
| Hue Adjustment Green | +2 |
| Hue Adjustment Magenta | 0 |
| Hue Adjustment Orange | 0 |
| Hue Adjustment Purple | 0 |
| Hue Adjustment Red | -1 |
| Hue Adjustment Yellow | -5 |
| Hyperfocal Distance | 2.89 m |
| ISO | 100 |
| Image Description | Bei Flintsbach sind in der Wolfschlucht einige Wasserfälle zu finden ++ There are some waterfalls in the Wolf Gorge near Flintsbach. https://www.chiemsee-alpenland .de/entdecken/tourenportal/wan dern-von-flintsbach-aus-zu-den -drei-wasserfaellen-98fa4df97c |
| Image Number | 0 |
| Image Size | 4817x7222 |
| Incremental Temperature | 0 |
| Incremental Tint | 0 |
| Lateral Chromatic Aberration Correction Already Applied | True |
| Lens | EF16-35mm f/4L IS USM |
| Lens ID | Canon EF16-35mm f/4L IS USM |
| Lens Info | 16-35mm f/? |
| Lens Manual Distortion Amount | 0 |
| Lens Model | EF16-35mm f/4L IS USM |
| Lens Profile Enable | 0 |
| Light Value | 10.2 |
| Luminance Adjustment Aqua | 0 |
| Luminance Adjustment Blue | -21 |
| Luminance Adjustment Green | -5 |
| Luminance Adjustment Magenta | 0 |
| Luminance Adjustment Orange | +19 |
| Luminance Adjustment Purple | 0 |
| Luminance Adjustment Red | 0 |
| Luminance Adjustment Yellow | +2 |
| Luminance Smoothing | 0 |
| Metering Mode | Multi-segment |
| Override Look Vignette | False |
| Parametric Darks | 0 |
| Parametric Highlight Split | 75 |
| Parametric Highlights | 0 |
| Parametric Lights | 0 |
| Parametric Midtone Split | 50 |
| Parametric Shadow Split | 25 |
| Parametric Shadows | 0 |
| Perspective Aspect | 0 |
| Perspective Horizontal | 0 |
| Perspective Rotate | 0.0 |
| Perspective Scale | 100 |
| Perspective Upright | 0 |
| Perspective Vertical | 0 |
| Perspective X | 0.00 |
| Perspective Y | 0.00 |
| Post Crop Vignette Amount | 0 |
| Preserved File Name | _V4A5941.CR3 |
| Process Version | 15.4 |
| Raw File Name | _V4A5941-Bearbeitet.tif |
| Recommended Exposure Index | 100 |
| Red Hue | 0 |
| Red Saturation | 0 |
| Saturation | 0 |
| Saturation Adjustment Aqua | 0 |
| Saturation Adjustment Blue | -23 |
| Saturation Adjustment Green | 0 |
| Saturation Adjustment Magenta | 0 |
| Saturation Adjustment Orange | 0 |
| Saturation Adjustment Purple | 0 |
| Saturation Adjustment Red | 0 |
| Saturation Adjustment Yellow | 0 |
| Scale Factor To 35 mm Equivalent | 1.0 |
| Scene Capture Type | Standard |
| Sensitivity Type | Recommended Exposure Index |
| Shadow Tint | 0 |
| Shadows 2012 | 0 |
| Sharpness | 0 |
| Split Toning Balance | 0 |
| Split Toning Highlight Hue | 0 |
| Split Toning Highlight Saturation | 0 |
| Split Toning Shadow Hue | 0 |
| Split Toning Shadow Saturation | 0 |
| Subject | ATS, Alpenregion, Bayern, Bayrischzell, Canon, Canyon, EF, EOS R5, Excire (de), Farben, Fotografie, Fullframe, Gewässer, Inhalt, Kontrastreich, Natur, Rosenheim, Wasserfall, grün |
| Texture | 0 |
| Title | Flintsbach - Wasserspiele in Wolfschlucht |
| Tone Curve Name 2012 | Linear |
| Tone Curve PV2012 | 0, 0, 255, 255 |
| Tone Curve PV2012 Blue | 0, 0, 255, 255 |
| Tone Curve PV2012 Green | 0, 0, 255, 255 |
| Tone Curve PV2012 Red | 0, 0, 255, 255 |
| Version | 15.5 |
| Vibrance | 0 |
| Vignette Amount | 0 |
| Vignette Correction Already Applied | True |
| Weighted Flat Subject | Alpenregion, ATS, Bayern, Bayrischzell, Canon, EF, EOS R5, grün, Farben, Excire (de), Kontrastreich, Fotografie, Gewässer, Natur, Inhalt, Canyon, Wasserfall, Fullframe, Rosenheim |
| White Balance | Auto |
| Whites 2012 | +39 |
X