Shooting information for this photo
| Camera: | HUAWEI VOG-L29 |
| Exposure: | 0.00067 sec. (1/1500) |
| Aperture: | f/1.6 |
| Focal Length: | 5.6 mm (35 mm equivalent: 27.0 mm) |
| Flash: | No Flash |
| Exposure mode: | Program AE |
| Max Aperture: | 1.6 |
| Resolution: | 240 x 240 dpi |
| Original Date: | 2019:06:27 18:21:33.123896 |
| Created on: | 2019:06:27 18:21:33 |
| Modified on: | 2022:01:29 23:02:13 |
| Software: | Adobe Photoshop Lightroom Classic 11.1 (Windows) |
| Already Applied | True |
| Auto Lateral CA | 0 |
| Blacks 2012 | 0 |
| Blue Hue | 0 |
| Blue Saturation | 0 |
| Brightness Value | 0 |
| Camera Profile | Embedded |
| Circle Of Confusion | 0.006 mm |
| Clarity 2012 | 0 |
| Color Grade Blending | 50 |
| Color Grade Global Hue | 0 |
| Color Grade Global Lum | 0 |
| Color Grade Global Sat | 0 |
| Color Grade Highlight Lum | 0 |
| Color Grade Midtone Hue | 0 |
| Color Grade Midtone Lum | 0 |
| Color Grade Midtone Sat | 0 |
| Color Grade Shadow Lum | 0 |
| Color Noise Reduction | 0 |
| Color Space | sRGB |
| Contrast | Normal |
| Contrast 2012 | 0 |
| Convert To Grayscale | False |
| Crop Angle | 0 |
| Crop Bottom | 1 |
| Crop Constrain To Warp | 0 |
| Crop Left | 0.01007 |
| Crop Right | 0.973816 |
| Crop Top | 0.036254 |
| Custom Rendered | Custom |
| Date Created | 2019:06:27 18:21:32.341948416 |
| Defringe Green Amount | 0 |
| Defringe Green Hue Hi | 60 |
| Defringe Green Hue Lo | 40 |
| Defringe Purple Amount | 0 |
| Defringe Purple Hue Hi | 70 |
| Defringe Purple Hue Lo | 30 |
| Dehaze | 0 |
| Description | Ein Leihradsystem |
| Digital Zoom Ratio | 1 |
| Exposure 2012 | 0.00 |
| Exposure Compensation | 0 |
| Exposure Mode | Auto |
| Field Of View | 67.4 deg |
| Focal Length In 35mm Format | 27 mm |
| Format | image/jpeg |
| Gain Control | None |
| Grain Amount | 0 |
| Green Hue | 0 |
| Green Saturation | 0 |
| Has Crop | True |
| Has Settings | True |
| Highlights 2012 | 0 |
| Hue Adjustment Aqua | 0 |
| Hue Adjustment Blue | 0 |
| Hue Adjustment Green | 0 |
| Hue Adjustment Magenta | 0 |
| Hue Adjustment Orange | 0 |
| Hue Adjustment Purple | 0 |
| Hue Adjustment Red | 0 |
| Hue Adjustment Yellow | 0 |
| Hyperfocal Distance | 3.12 m |
| ISO | 50 |
| Image Description | Ein Leihradsystem |
| Image Size | 2487x1658 |
| Incremental Temperature | 0 |
| Incremental Tint | 0 |
| Lens | HUAWEI P30 Pro Rear Main Camera |
| Lens Manual Distortion Amount | 0 |
| Lens Model | HUAWEI P30 Pro Rear Main Camera |
| Lens Profile Enable | 0 |
| Light Source | Daylight |
| Light Value | 12.9 |
| Luminance Adjustment Aqua | 0 |
| Luminance Adjustment Blue | +28 |
| Luminance Adjustment Green | 0 |
| Luminance Adjustment Magenta | 0 |
| Luminance Adjustment Orange | 0 |
| Luminance Adjustment Purple | 0 |
| Luminance Adjustment Red | 0 |
| Luminance Adjustment Yellow | 0 |
| Luminance Smoothing | 0 |
| Metering Mode | Multi-segment |
| Override Look Vignette | False |
| Parametric Darks | 0 |
| Parametric Highlight Split | 75 |
| Parametric Highlights | 0 |
| Parametric Lights | 0 |
| Parametric Midtone Split | 50 |
| Parametric Shadow Split | 25 |
| Parametric Shadows | 0 |
| Perspective Aspect | 0 |
| Perspective Horizontal | 0 |
| Perspective Rotate | 0.0 |
| Perspective Scale | 100 |
| Perspective Upright | 0 |
| Perspective Vertical | 0 |
| Perspective X | 0.00 |
| Perspective Y | 0.00 |
| Post Crop Vignette Amount | 0 |
| Preserved File Name | IMG_20190627_182131.jpg |
| Process Version | 11.0 |
| Red Hue | 0 |
| Red Saturation | 0 |
| Saturation | Normal |
| Saturation Adjustment Aqua | 0 |
| Saturation Adjustment Blue | +33 |
| Saturation Adjustment Green | 0 |
| Saturation Adjustment Magenta | 0 |
| Saturation Adjustment Orange | 0 |
| Saturation Adjustment Purple | 0 |
| Saturation Adjustment Red | 0 |
| Saturation Adjustment Yellow | 0 |
| Scale Factor To 35 mm Equivalent | 4.9 |
| Scene Capture Type | Standard |
| Scene Type | Directly photographed |
| Sensing Method | One-chip color area |
| Shadow Tint | 0 |
| Shadows 2012 | +55 |
| Sharpness | Normal |
| Split Toning Balance | 0 |
| Split Toning Highlight Hue | 0 |
| Split Toning Highlight Saturation | 0 |
| Split Toning Shadow Hue | 0 |
| Split Toning Shadow Saturation | 0 |
| Subject | Excire (de), Farben, Fotografie, Reihe, Ungesättigt, grau |
| Subject Distance Range | Unknown |
| Texture | 0 |
| Title | MVG-Rad |
| Tone Curve Name 2012 | Linear |
| Tone Curve PV2012 | 0, 0, 255, 255 |
| Tone Curve PV2012 Blue | 0, 0, 255, 255 |
| Tone Curve PV2012 Green | 0, 0, 255, 255 |
| Tone Curve PV2012 Red | 0, 0, 255, 255 |
| Version | 14.1 |
| Vibrance | 0 |
| Vignette Amount | 0 |
| Weighted Flat Subject | grau, Ungesättigt, Reihe |
| White Balance | Auto |
| Whites 2012 | 0 |
X