Shooting information for this photo
| Camera: | Canon EOS R5 |
| Exposure: | 0.001 sec. (1/1000) |
| Aperture: | f/11.0 |
| Focal Length: | 100.0 mm (35 mm equivalent: 99.8 mm) |
| Flash: | No Flash |
| Exposure mode: | Aperture-priority AE |
| Max Aperture: | 2.8 |
| Resolution: | 240 x 240 dpi |
| Original Date: | 2021:05:29 14:01:47.85 |
| Created on: | 2021:05:29 14:01:47.85 |
| Modified on: | 2021:06:01 22:42:41 |
| Software: | Adobe Photoshop Lightroom Classic 10.2 (Windows) |
| Already Applied | True |
| Approximate Focus Distance | 0.33 |
| Artist | LW |
| Auto Lateral CA | 1 |
| Blacks 2012 | -19 |
| Blue Hue | 0 |
| Blue Saturation | 0 |
| Camera Profile | Adobe Standard |
| Circle Of Confusion | 0.030 mm |
| Clarity 2012 | +23 |
| Color Grade Blending | 50 |
| Color Grade Global Hue | 0 |
| Color Grade Global Lum | 0 |
| Color Grade Global Sat | 0 |
| Color Grade Highlight Lum | 0 |
| Color Grade Midtone Hue | 0 |
| Color Grade Midtone Lum | 0 |
| Color Grade Midtone Sat | 0 |
| Color Grade Shadow Lum | 0 |
| Color Noise Reduction | 25 |
| Color Noise Reduction Detail | 50 |
| Color Noise Reduction Smoothness | 50 |
| Color Space | sRGB |
| Color Temperature | 5201 |
| Contrast 2012 | +7 |
| Creator | LW |
| Crop Angle | -17.888 |
| Crop Bottom | 0.672624 |
| Crop Constrain To Warp | 0 |
| Crop Left | 0.358145 |
| Crop Right | 0.867039 |
| Crop Top | 0.456511 |
| Custom Rendered | Normal |
| Date Created | 2021:05:29 14:01:47.85+01:00 |
| Defringe Green Amount | 0 |
| Defringe Green Hue Hi | 60 |
| Defringe Green Hue Lo | 40 |
| Defringe Purple Amount | 0 |
| Defringe Purple Hue Hi | 70 |
| Defringe Purple Hue Lo | 30 |
| Dehaze | 0 |
| Distortion Correction Already Applied | True |
| Exposure 2012 | -0.36 |
| Exposure Compensation | 0 |
| Exposure Mode | Auto |
| Field Of View | 20.4 deg |
| Firmware | 1.3.1 |
| Flash Compensation | 0 |
| Format | image/jpeg |
| Gradient Based Corr Active | true |
| Gradient Based Corr Amount | 1.000000 |
| Gradient Based Corr Brightness | 0.000000 |
| Gradient Based Corr Clarity 2012 | 0.000000 |
| Gradient Based Corr Contrast 2012 | -0.477030 |
| Gradient Based Corr Correction Range Mask Color Amount | 0.500000 |
| Gradient Based Corr Correction Range Mask Depth Feather | 0.500000 |
| Gradient Based Corr Correction Range Mask Depth Max | 1.000000 |
| Gradient Based Corr Correction Range Mask Depth Min | 0.000000 |
| Gradient Based Corr Correction Range Mask Lum Feather | 0.500000 |
| Gradient Based Corr Correction Range Mask Lum Max | 1.000000 |
| Gradient Based Corr Correction Range Mask Lum Min | 0.000000 |
| Gradient Based Corr Correction Range Mask Type | 0 |
| Gradient Based Corr Correction Range Mask Version | +2 |
| Gradient Based Corr Defringe | 0.000000 |
| Gradient Based Corr Exposure 2012 | 0.000000 |
| Gradient Based Corr Highlights 2012 | 0.342760 |
| Gradient Based Corr Hue | 240.000000 |
| Gradient Based Corr Local Blacks 2012 | 0.000000 |
| Gradient Based Corr Local Dehaze | 0.000000 |
| Gradient Based Corr Local Hue | 0.000000 |
| Gradient Based Corr Local Texture | 0.000000 |
| Gradient Based Corr Local Whites 2012 | 0.000000 |
| Gradient Based Corr Luminance Noise | 0.000000 |
| Gradient Based Corr Mask Full X | 0.740823 |
| Gradient Based Corr Mask Full Y | 0.681618 |
| Gradient Based Corr Mask Value | 1.000000 |
| Gradient Based Corr Mask What | Mask/Gradient |
| Gradient Based Corr Mask Zero X | 0.676753 |
| Gradient Based Corr Mask Zero Y | 0.566613 |
| Gradient Based Corr Moire | 0.000000 |
| Gradient Based Corr Saturation | 0.000000 |
| Gradient Based Corr Shadows 2012 | 1.000000 |
| Gradient Based Corr Sharpness | 0.000000 |
| Gradient Based Corr Temperature | 0.000000 |
| Gradient Based Corr Tint | 0.000000 |
| Gradient Based Corr What | Correction |
| Grain Amount | 0 |
| Green Hue | 0 |
| Green Saturation | 0 |
| Has Crop | True |
| Has Settings | True |
| Highlights 2012 | -100 |
| Hue Adjustment Aqua | 0 |
| Hue Adjustment Blue | 0 |
| Hue Adjustment Green | 0 |
| Hue Adjustment Magenta | 0 |
| Hue Adjustment Orange | 0 |
| Hue Adjustment Purple | 0 |
| Hue Adjustment Red | 0 |
| Hue Adjustment Yellow | 0 |
| Hyperfocal Distance | 30.21 m |
| ISO | 3200 |
| Image Number | 0 |
| Image Size | 3605x2405 |
| Lateral Chromatic Aberration Correction Already Applied | True |
| Lens | EF100mm f/2.8L Macro IS USM |
| Lens ID | Canon EF 100mm f/2.8L Macro IS USM |
| Lens Info | 100mm f/? |
| Lens Manual Distortion Amount | 0 |
| Lens Model | EF100mm f/2.8L Macro IS USM |
| Lens Profile Distortion Scale | 100 |
| Lens Profile Enable | 1 |
| Lens Profile Filename | Canon EOS 5D Mark II (Canon EF 100mm f2.8 L Macro IS USM) - RAW.lcp |
| Lens Profile Is Embedded | False |
| Lens Profile Name | Adobe (Canon EF 100mm f2.8 L Macro IS USM) |
| Lens Profile Setup | LensDefaults |
| Lens Profile Vignetting Scale | 100 |
| Light Value | 11.9 |
| Look Amount | 1.000000 |
| Look Group | Profiles |
| Look Name | Adobe Color |
| Look Parameters Camera Profile | Adobe Standard |
| Look Parameters Convert To Grayscale | False |
| Look Parameters Look Table | E1095149FDB39D7A057BAB208837E2 E1 |
| Look Parameters Process Version | 11.0 |
| Look Parameters Tone Curve PV2012 | 0, 0, 22, 16, 40, 35, 127, 127, 224, 230, 240, 246, 255, 255 |
| Look Parameters Tone Curve PV2012 Blue | 0, 0, 255, 255 |
| Look Parameters Tone Curve PV2012 Green | 0, 0, 255, 255 |
| Look Parameters Tone Curve PV2012 Red | 0, 0, 255, 255 |
| Look Parameters Version | 13.2 |
| Look Supports Amount | false |
| Look Supports Monochrome | false |
| Look Supports Output Referred | false |
| Luminance Adjustment Aqua | 0 |
| Luminance Adjustment Blue | 0 |
| Luminance Adjustment Green | +36 |
| Luminance Adjustment Magenta | +22 |
| Luminance Adjustment Orange | +25 |
| Luminance Adjustment Purple | +55 |
| Luminance Adjustment Red | 0 |
| Luminance Adjustment Yellow | 0 |
| Luminance Smoothing | 0 |
| Metering Mode | Multi-segment |
| Override Look Vignette | False |
| Paint Correction Active | true |
| Paint Correction Amount | 1.000000 |
| Paint Correction Brightness | 0.000000 |
| Paint Correction Clarity 2012 | 0.000000 |
| Paint Correction Contrast 2012 | 0.000000 |
| Paint Correction Correction Range Mask Color Amount | 0.500000 |
| Paint Correction Correction Range Mask Depth Feather | 0.500000 |
| Paint Correction Correction Range Mask Depth Max | 1.000000 |
| Paint Correction Correction Range Mask Depth Min | 0.000000 |
| Paint Correction Correction Range Mask Lum Feather | 0.500000 |
| Paint Correction Correction Range Mask Lum Max | 1.000000 |
| Paint Correction Correction Range Mask Lum Min | 0.000000 |
| Paint Correction Correction Range Mask Type | 0 |
| Paint Correction Correction Range Mask Version | +2 |
| Paint Correction Defringe | 0.000000 |
| Paint Correction Exposure 2012 | -0.081250 |
| Paint Correction Highlights 2012 | -1.000000 |
| Paint Correction Hue | 240.000000 |
| Paint Correction Local Blacks 2012 | 0.000000 |
| Paint Correction Local Dehaze | 0.000000 |
| Paint Correction Local Hue | 0.000000 |
| Paint Correction Local Texture | 0.000000 |
| Paint Correction Local Whites 2012 | 0.000000 |
| Paint Correction Luminance Noise | 0.000000 |
| Paint Correction Mask Center Weight | 0.146839 |
| Paint Correction Mask Flow | 0.389000 |
| Paint Correction Mask Radius | 0.029079 |
| Paint Correction Mask Value | 1.000000 |
| Paint Correction Mask What | Mask/Paint |
| Paint Correction Moire | 0.000000 |
| Paint Correction Saturation | 0.000000 |
| Paint Correction Shadows 2012 | 0.000000 |
| Paint Correction Sharpness | 0.000000 |
| Paint Correction Temperature | 0.000000 |
| Paint Correction Tint | 0.000000 |
| Paint Correction What | Correction |
| Parametric Darks | -8 |
| Parametric Highlight Split | 75 |
| Parametric Highlights | +3 |
| Parametric Lights | +11 |
| Parametric Midtone Split | 50 |
| Parametric Shadow Split | 25 |
| Parametric Shadows | -14 |
| Perspective Aspect | 0 |
| Perspective Horizontal | 0 |
| Perspective Rotate | 0.0 |
| Perspective Scale | 100 |
| Perspective Upright | 0 |
| Perspective Vertical | 0 |
| Perspective X | 0.00 |
| Perspective Y | 0.00 |
| Post Crop Vignette Amount | 0 |
| Preserved File Name | _V4A0925.CR3 |
| Process Version | 11.0 |
| Raw File Name | _V4A0925.CR3 |
| Recommended Exposure Index | 3200 |
| Red Hue | 0 |
| Red Saturation | 0 |
| Saturation | -2 |
| Saturation Adjustment Aqua | 0 |
| Saturation Adjustment Blue | 0 |
| Saturation Adjustment Green | +53 |
| Saturation Adjustment Magenta | 0 |
| Saturation Adjustment Orange | 0 |
| Saturation Adjustment Purple | 0 |
| Saturation Adjustment Red | 0 |
| Saturation Adjustment Yellow | 0 |
| Scale Factor To 35 mm Equivalent | 1.0 |
| Scene Capture Type | Standard |
| Sensitivity Type | Recommended Exposure Index |
| Shadow Tint | 0 |
| Shadows 2012 | +100 |
| Sharpen Detail | 25 |
| Sharpen Edge Masking | 0 |
| Sharpen Radius | +1.0 |
| Sharpness | 40 |
| Split Toning Balance | 0 |
| Split Toning Highlight Hue | 0 |
| Split Toning Highlight Saturation | 0 |
| Split Toning Shadow Hue | 0 |
| Split Toning Shadow Saturation | 0 |
| Subject | EF, EOS R5, Fullframe |
| Texture | 0 |
| Tint | +23 |
| Title | Graue Fleischfliege (Sarcophaga carnaria) |
| Tone Curve Name 2012 | Linear |
| Tone Curve PV2012 | 0, 0, 255, 255 |
| Tone Curve PV2012 Blue | 0, 0, 255, 255 |
| Tone Curve PV2012 Green | 0, 0, 255, 255 |
| Tone Curve PV2012 Red | 0, 0, 255, 255 |
| Version | 13.2 |
| Vibrance | +13 |
| Vignette Amount | 0 |
| Vignette Correction Already Applied | True |
| White Balance | Auto |
| Whites 2012 | +15 |
X