Shooting information for this photo
| Camera: | Canon EOS R5 |
| Exposure: | 0.01667 sec. (1/60) |
| Aperture: | f/16.0 |
| Focal Length: | 100.0 mm (35 mm equivalent: 99.8 mm) |
| Flash: | No Flash |
| Exposure mode: | Aperture-priority AE |
| Max Aperture: | 2.8 |
| Resolution: | 240 x 240 dpi |
| Original Date: | 2021:05:08 10:52:27.22 |
| Created on: | 2021:05:08 10:52:27.22 |
| Modified on: | 2021:05:08 11:27:21 |
| Software: | Adobe Photoshop Lightroom Classic 10.2 (Windows) |
| Already Applied | True |
| Approximate Focus Distance | 0.69 |
| Artist | LW |
| Auto Lateral CA | 1 |
| Blacks 2012 | -9 |
| Blue Hue | 0 |
| Blue Saturation | 0 |
| Camera Profile | Adobe Standard |
| Circle Of Confusion | 0.030 mm |
| Clarity 2012 | 0 |
| Color Grade Blending | 50 |
| Color Grade Global Hue | 0 |
| Color Grade Global Lum | 0 |
| Color Grade Global Sat | 0 |
| Color Grade Highlight Lum | 0 |
| Color Grade Midtone Hue | 0 |
| Color Grade Midtone Lum | 0 |
| Color Grade Midtone Sat | 0 |
| Color Grade Shadow Lum | 0 |
| Color Noise Reduction | 25 |
| Color Noise Reduction Detail | 50 |
| Color Noise Reduction Smoothness | 50 |
| Color Space | sRGB |
| Color Temperature | 4850 |
| Contrast 2012 | +6 |
| Creator | LW |
| Crop Angle | -1.374 |
| Crop Bottom | 0.90946 |
| Crop Constrain To Warp | 0 |
| Crop Left | 0.025338 |
| Crop Right | 0.9183 |
| Crop Top | 0.062165 |
| Custom Rendered | Normal |
| Date Created | 2021:05:08 10:52:27.22+01:00 |
| Defringe Green Amount | 0 |
| Defringe Green Hue Hi | 60 |
| Defringe Green Hue Lo | 40 |
| Defringe Purple Amount | 0 |
| Defringe Purple Hue Hi | 70 |
| Defringe Purple Hue Lo | 30 |
| Dehaze | 0 |
| Description | Ein Speicherfund: Die Kleinbild-Kamera hat ein Wechselobjektiv und Zentralverschluss. Belichtungszeit, Blende und Fokus werden an Objektivringen manuell eingestellt. Iso musste noch selbst berechnet werden bzw. mit einem externen Belichtungsmesser. |
| Distortion Correction Already Applied | True |
| Exposure 2012 | -0.46 |
| Exposure Compensation | +1/3 |
| Exposure Mode | Auto |
| Field Of View | 20.4 deg |
| Firmware | 1.3.1 |
| Flash Compensation | 0 |
| Format | image/jpeg |
| Grain Amount | 0 |
| Green Hue | 0 |
| Green Saturation | 0 |
| Has Crop | True |
| Has Settings | True |
| Highlights 2012 | -58 |
| Hue Adjustment Aqua | 0 |
| Hue Adjustment Blue | 0 |
| Hue Adjustment Green | 0 |
| Hue Adjustment Magenta | 0 |
| Hue Adjustment Orange | 0 |
| Hue Adjustment Purple | 0 |
| Hue Adjustment Red | 0 |
| Hue Adjustment Yellow | 0 |
| Hyperfocal Distance | 20.77 m |
| ISO | 200 |
| Image Description | Ein Speicherfund: Die Kleinbild-Kamera hat ein Wechselobjektiv und Zentralverschluss. Belichtungszeit, Blende und Fokus werden an Objektivringen manuell eingestellt. Iso musste noch selbst berechnet werden bzw. mit einem externen Belichtungsmesser. |
| Image Number | 0 |
| Image Size | 7202x4804 |
| Lateral Chromatic Aberration Correction Already Applied | True |
| Lens | EF100mm f/2.8L Macro IS USM |
| Lens ID | Canon EF 100mm f/2.8L Macro IS USM |
| Lens Info | 100mm f/? |
| Lens Manual Distortion Amount | 0 |
| Lens Model | EF100mm f/2.8L Macro IS USM |
| Lens Profile Distortion Scale | 100 |
| Lens Profile Enable | 1 |
| Lens Profile Filename | Canon EOS 5D Mark II (Canon EF 100mm f2.8 L Macro IS USM) - RAW.lcp |
| Lens Profile Is Embedded | False |
| Lens Profile Name | Adobe (Canon EF 100mm f2.8 L Macro IS USM) |
| Lens Profile Setup | LensDefaults |
| Lens Profile Vignetting Scale | 100 |
| Light Value | 12.9 |
| Look Amount | 1.000000 |
| Look Group | Profiles |
| Look Name | Adobe Color |
| Look Parameters Camera Profile | Adobe Standard |
| Look Parameters Convert To Grayscale | False |
| Look Parameters Look Table | E1095149FDB39D7A057BAB208837E2 E1 |
| Look Parameters Process Version | 11.0 |
| Look Parameters Tone Curve PV2012 | 0, 0, 22, 16, 40, 35, 127, 127, 224, 230, 240, 246, 255, 255 |
| Look Parameters Tone Curve PV2012 Blue | 0, 0, 255, 255 |
| Look Parameters Tone Curve PV2012 Green | 0, 0, 255, 255 |
| Look Parameters Tone Curve PV2012 Red | 0, 0, 255, 255 |
| Look Parameters Version | 13.2 |
| Look Supports Amount | false |
| Look Supports Monochrome | false |
| Look Supports Output Referred | false |
| Luminance Adjustment Aqua | 0 |
| Luminance Adjustment Blue | 0 |
| Luminance Adjustment Green | 0 |
| Luminance Adjustment Magenta | 0 |
| Luminance Adjustment Orange | 0 |
| Luminance Adjustment Purple | 0 |
| Luminance Adjustment Red | 0 |
| Luminance Adjustment Yellow | 0 |
| Luminance Smoothing | 0 |
| Metering Mode | Multi-segment |
| Override Look Vignette | False |
| Paint Correction Active | true |
| Paint Correction Amount | 1.000000 |
| Paint Correction Brightness | 0.000000 |
| Paint Correction Clarity 2012 | 0.784750 |
| Paint Correction Contrast 2012 | 0.004480 |
| Paint Correction Correction Range Mask Color Amount | 0.500000 |
| Paint Correction Correction Range Mask Depth Feather | 0.500000 |
| Paint Correction Correction Range Mask Depth Max | 1.000000 |
| Paint Correction Correction Range Mask Depth Min | 0.000000 |
| Paint Correction Correction Range Mask Lum Feather | 0.500000 |
| Paint Correction Correction Range Mask Lum Max | 1.000000 |
| Paint Correction Correction Range Mask Lum Min | 0.000000 |
| Paint Correction Correction Range Mask Type | 0 |
| Paint Correction Correction Range Mask Version | +2 |
| Paint Correction Defringe | 0.000000 |
| Paint Correction Exposure 2012 | 0.000000 |
| Paint Correction Highlights 2012 | -0.103140 |
| Paint Correction Hue | 240.000000 |
| Paint Correction Local Blacks 2012 | 0.000000 |
| Paint Correction Local Dehaze | 0.000000 |
| Paint Correction Local Hue | 0.000000 |
| Paint Correction Local Texture | 0.569510 |
| Paint Correction Local Whites 2012 | 0.000000 |
| Paint Correction Luminance Noise | 0.000000 |
| Paint Correction Mask Center Weight | 0.146839 |
| Paint Correction Mask Flow | 0.389000 |
| Paint Correction Mask Radius | 0.063471 |
| Paint Correction Mask Value | 1.000000 |
| Paint Correction Mask What | Mask/Paint |
| Paint Correction Moire | 0.000000 |
| Paint Correction Saturation | 0.000000 |
| Paint Correction Shadows 2012 | 0.542600 |
| Paint Correction Sharpness | 0.000000 |
| Paint Correction Temperature | 0.000000 |
| Paint Correction Tint | 0.000000 |
| Paint Correction What | Correction |
| Parametric Darks | 0 |
| Parametric Highlight Split | 75 |
| Parametric Highlights | 0 |
| Parametric Lights | 0 |
| Parametric Midtone Split | 50 |
| Parametric Shadow Split | 25 |
| Parametric Shadows | 0 |
| Perspective Aspect | 0 |
| Perspective Horizontal | 0 |
| Perspective Rotate | 0.0 |
| Perspective Scale | 100 |
| Perspective Upright | 0 |
| Perspective Vertical | 0 |
| Perspective X | 0.00 |
| Perspective Y | 0.00 |
| Post Crop Vignette Amount | 0 |
| Preserved File Name | _V4A0278.CR3 |
| Process Version | 11.0 |
| Raw File Name | _V4A0278.CR3 |
| Recommended Exposure Index | 200 |
| Red Hue | 0 |
| Red Saturation | 0 |
| Saturation | -2 |
| Saturation Adjustment Aqua | 0 |
| Saturation Adjustment Blue | 0 |
| Saturation Adjustment Green | 0 |
| Saturation Adjustment Magenta | 0 |
| Saturation Adjustment Orange | 0 |
| Saturation Adjustment Purple | 0 |
| Saturation Adjustment Red | 0 |
| Saturation Adjustment Yellow | 0 |
| Scale Factor To 35 mm Equivalent | 1.0 |
| Scene Capture Type | Standard |
| Sensitivity Type | Recommended Exposure Index |
| Shadow Tint | 0 |
| Shadows 2012 | +95 |
| Sharpen Detail | 25 |
| Sharpen Edge Masking | 0 |
| Sharpen Radius | +1.0 |
| Sharpness | 40 |
| Split Toning Balance | 0 |
| Split Toning Highlight Hue | 0 |
| Split Toning Highlight Saturation | 0 |
| Split Toning Shadow Hue | 0 |
| Split Toning Shadow Saturation | 0 |
| Texture | 0 |
| Tint | +9 |
| Title | AkArette 0 (1949 - 52): |
| Tone Curve Name 2012 | Linear |
| Tone Curve PV2012 | 0, 0, 255, 255 |
| Tone Curve PV2012 Blue | 0, 0, 255, 255 |
| Tone Curve PV2012 Green | 0, 0, 255, 255 |
| Tone Curve PV2012 Red | 0, 0, 255, 255 |
| Version | 13.2 |
| Vibrance | +15 |
| Vignette Amount | 0 |
| Vignette Correction Already Applied | True |
| White Balance | Auto |
| Whites 2012 | +7 |
X