Shooting information for this photo
| Camera: | Canon EOS 5D Mark IV |
| Exposure: | 0.005 sec. (1/200) |
| Aperture: | f/11.0 |
| Focal Length: | 16.0 mm (35 mm equivalent: 18.3 mm) |
| Flash: | Off, Did not fire |
| Exposure mode: | Aperture-priority AE |
| Max Aperture: | 4.0 |
| Resolution: | 240 x 240 dpi |
| Original Date: | 2018:10:02 11:13:56 |
| Created on: | 2018:10:02 11:13:56.00 |
| Modified on: | 2018:10:29 21:56:34 |
| Software: | Adobe Photoshop Lightroom Classic 8.0 (Windows) |
| Already Applied | True |
| Approximate Focus Distance | 4294967295 |
| Auto Lateral CA | 0 |
| Blacks 2012 | -28 |
| Blue Hue | 0 |
| Blue Saturation | 0 |
| Camera Profile | Adobe Standard |
| Circle Of Confusion | 0.026 mm |
| City | Ettal |
| Clarity 2012 | 0 |
| Color Noise Reduction | 25 |
| Color Noise Reduction Detail | 50 |
| Color Noise Reduction Smoothness | 50 |
| Color Space | sRGB |
| Color Temperature | 4736 |
| Contrast 2012 | -23 |
| Convert To Grayscale | False |
| Country | Deutschland |
| Country Code | DE |
| Crop Angle | 0 |
| Crop Bottom | 0.973847 |
| Crop Constrain To Warp | 1 |
| Crop Left | 0.094532 |
| Crop Right | 0.93456 |
| Crop Top | 0.028815 |
| Custom Rendered | Normal |
| Date Created | 2018:10:02 11:13:56.00 |
| Defringe Green Amount | 0 |
| Defringe Green Hue Hi | 60 |
| Defringe Green Hue Lo | 40 |
| Defringe Purple Amount | 0 |
| Defringe Purple Hue Hi | 70 |
| Defringe Purple Hue Lo | 30 |
| Dehaze | 0 |
| Exposure 2012 | 0.00 |
| Exposure Compensation | 0 |
| Exposure Mode | Auto |
| Field Of View | 89.0 deg |
| Firmware | 1.1.2 |
| Flash Compensation | 0 |
| Format | image/jpeg |
| Grain Amount | 0 |
| Green Hue | 0 |
| Green Saturation | 0 |
| Has Crop | True |
| Has Extended XMP | A7638A72B5024DCF88D4D22AFC4B0C E6 |
| Has Settings | True |
| Highlights 2012 | -100 |
| Hue Adjustment Aqua | 0 |
| Hue Adjustment Blue | 0 |
| Hue Adjustment Green | 0 |
| Hue Adjustment Magenta | 0 |
| Hue Adjustment Orange | 0 |
| Hue Adjustment Purple | 0 |
| Hue Adjustment Red | 0 |
| Hue Adjustment Yellow | 0 |
| Hyperfocal Distance | 0.89 m |
| ISO | 100 |
| Image Number | 0 |
| Image Size | 4234x5645 |
| Lens | EF16-35mm f/4L IS USM |
| Lens ID | Canon EF16-35mm f/4L IS USM |
| Lens Info | 16-35mm f/? |
| Lens Manual Distortion Amount | 0 |
| Lens Model | EF16-35mm f/4L IS USM |
| Lens Profile Chromatic Aberration Scale | 100 |
| Lens Profile Distortion Scale | 100 |
| Lens Profile Enable | 0 |
| Lens Profile Filename | Canon EOS-1Ds Mark III (Canon EF 16-35mm f4L IS USM v2) - RAW.lcp |
| Lens Profile Name | Adobe (Canon EF 16-35mm f/4L IS USM) v2 |
| Lens Profile Setup | LensDefaults |
| Lens Profile Vignetting Scale | 100 |
| Light Value | 14.6 |
| Look Amount | 1.000000 |
| Look Group | Profiles |
| Look Name | Adobe Color |
| Look Parameters Camera Profile | Adobe Standard |
| Look Parameters Convert To Grayscale | False |
| Look Parameters Look Table | E1095149FDB39D7A057BAB208837E2 E1 |
| Look Parameters Process Version | 11.0 |
| Look Parameters Tone Curve PV2012 | 0, 0, 22, 16, 40, 35, 127, 127, 224, 230, 240, 246, 255, 255 |
| Look Parameters Tone Curve PV2012 Blue | 0, 0, 255, 255 |
| Look Parameters Tone Curve PV2012 Green | 0, 0, 255, 255 |
| Look Parameters Tone Curve PV2012 Red | 0, 0, 255, 255 |
| Look Parameters Version | 11.0 |
| Look Supports Amount | false |
| Look Supports Monochrome | false |
| Look Supports Output Referred | false |
| Luminance Adjustment Aqua | 0 |
| Luminance Adjustment Blue | +27 |
| Luminance Adjustment Green | 0 |
| Luminance Adjustment Magenta | -6 |
| Luminance Adjustment Orange | +34 |
| Luminance Adjustment Purple | -8 |
| Luminance Adjustment Red | 0 |
| Luminance Adjustment Yellow | +30 |
| Luminance Smoothing | 0 |
| Metering Mode | Multi-segment |
| Override Look Vignette | False |
| Paint Correction Active | true |
| Paint Correction Amount | 1.000000 |
| Paint Correction Brightness | 0.000000 |
| Paint Correction Clarity 2012 | -0.120370 |
| Paint Correction Contrast 2012 | -0.092590 |
| Paint Correction Correction Range Mask Color Amount | 0.500000 |
| Paint Correction Correction Range Mask Depth Feather | 0.500000 |
| Paint Correction Correction Range Mask Depth Max | 1.000000 |
| Paint Correction Correction Range Mask Depth Min | 0.000000 |
| Paint Correction Correction Range Mask Lum Feather | 0.500000 |
| Paint Correction Correction Range Mask Lum Max | 1.000000 |
| Paint Correction Correction Range Mask Lum Min | 0.000000 |
| Paint Correction Correction Range Mask Point Models | 0.667427 0.354002 0.168200 0.878297 0.444028 0 |
| Paint Correction Correction Range Mask Type | 0 |
| Paint Correction Correction Range Mask Version | +2 |
| Paint Correction Defringe | 0.000000 |
| Paint Correction Exposure 2012 | 0.000000 |
| Paint Correction Highlights 2012 | 0.000000 |
| Paint Correction Hue | 50.000000 |
| Paint Correction Local Blacks 2012 | 0.000000 |
| Paint Correction Local Dehaze | 0.000000 |
| Paint Correction Local Whites 2012 | 0.518520 |
| Paint Correction Luminance Noise | 0.000000 |
| Paint Correction Mask Center Weight | 0.000000 |
| Paint Correction Mask Flow | 1.000000 |
| Paint Correction Mask Radius | 0.025083 |
| Paint Correction Mask Value | 1.000000 |
| Paint Correction Mask What | Mask/Paint |
| Paint Correction Moire | 0.000000 |
| Paint Correction Saturation | 0.000000 |
| Paint Correction Shadows 2012 | 0.259260 |
| Paint Correction Sharpness | 0.000000 |
| Paint Correction Temperature | 0.000000 |
| Paint Correction Tint | 0.000000 |
| Paint Correction What | Correction |
| Parametric Darks | +7 |
| Parametric Highlight Split | 75 |
| Parametric Highlights | -44 |
| Parametric Lights | +3 |
| Parametric Midtone Split | 50 |
| Parametric Shadow Split | 25 |
| Parametric Shadows | -2 |
| Perspective Aspect | 0 |
| Perspective Horizontal | +12 |
| Perspective Rotate | 0.0 |
| Perspective Scale | 100 |
| Perspective Upright | 0 |
| Perspective Vertical | -1 |
| Perspective X | 0.00 |
| Perspective Y | 0.00 |
| Post Crop Vignette Amount | 0 |
| Process Version | 10.0 |
| Range Mask Map Info Range Mask Map Info Lab Max | 0.999557 0.545327 0.529961 |
| Range Mask Map Info Range Mask Map Info Lab Min | 0.000275 0.489570 0.447776 |
| Range Mask Map Info Range Mask Map Info RGB Max | 0.997299 0.999161 0.998093 |
| Range Mask Map Info Range Mask Map Info RGB Min | 0.000961 0.000961 0.000793 |
| Rating | 1 |
| Raw File Name | _D3A0691.CR2 |
| Recommended Exposure Index | 100 |
| Red Hue | 0 |
| Red Saturation | 0 |
| Saturation | -1 |
| Saturation Adjustment Aqua | 0 |
| Saturation Adjustment Blue | +23 |
| Saturation Adjustment Green | -1 |
| Saturation Adjustment Magenta | -15 |
| Saturation Adjustment Orange | 0 |
| Saturation Adjustment Purple | -24 |
| Saturation Adjustment Red | 0 |
| Saturation Adjustment Yellow | -1 |
| Scale Factor To 35 mm Equivalent | 1.1 |
| Scene Capture Type | Standard |
| Sensitivity Type | Recommended Exposure Index |
| Shadow Tint | 0 |
| Shadows 2012 | +100 |
| Sharpen Detail | 25 |
| Sharpen Edge Masking | 0 |
| Sharpen Radius | +1.0 |
| Sharpness | 40 |
| Split Toning Balance | 0 |
| Split Toning Highlight Hue | 0 |
| Split Toning Highlight Saturation | 0 |
| Split Toning Shadow Hue | 0 |
| Split Toning Shadow Saturation | 0 |
| State | Bayern |
| Subject | 5D M4, Bayern, Fullframe |
| Tint | -14 |
| Title | Kloster Ettal |
| Tone Curve | 0, 0, 255, 255 |
| Tone Curve Blue | 0, 0, 255, 255 |
| Tone Curve Green | 0, 0, 255, 255 |
| Tone Curve Name | Linear |
| Tone Curve Name 2012 | Linear |
| Tone Curve PV2012 | 0, 0, 255, 255 |
| Tone Curve PV2012 Blue | 0, 0, 255, 255 |
| Tone Curve PV2012 Green | 0, 0, 255, 255 |
| Tone Curve PV2012 Red | 0, 0, 255, 255 |
| Tone Curve Red | 0, 0, 255, 255 |
| Tone Map Strength | 0 |
| Version | 11.0 |
| Vibrance | +13 |
| Vignette Amount | 0 |
| White Balance | Auto |
| Whites 2012 | +37 |
GPS Information |
| GPS Altitude | 880 m |
| GPS Date Stamp | 2018:10:02 |
| GPS Date/Time | 2018:10:02 09:11:37.264Z |
| GPS Dilution Of Precision | 4.4 |
| GPS Latitude | 47 deg 34' 13.22" N |
| GPS Latitude Ref | North |
| GPS Longitude | 11 deg 5' 42.08" E |
| GPS Longitude Ref | East |
| GPS Map Datum | WGS-84 |
| GPS Measure Mode | 3-Dimensional Measurement |
| GPS Position | 47 deg 34' 13.22" N, 11 deg 5' 42.08" E |
| GPS Satellites | 6 |
| GPS Status | Measurement Active |
| GPS Time Stamp | 09:11:37.264 |
| GPS Version ID | 2.3.0.0 |
X