Shooting information for this photo
| Camera: | Canon EOS 5D Mark IV |
| Exposure: | 0.0125 sec. (1/80) |
| Aperture: | f/6.3 |
| Focal Length: | 16.0 mm (35 mm equivalent: 16.0 mm) |
| Flash: | Off, Did not fire |
| Exposure mode: | Program AE |
| Max Aperture: | 4.0 |
| Resolution: | 240 x 240 dpi |
| Original Date: | 2018:05:12 14:07:51.00 |
| Created on: | 2018:05:12 14:07:51.00 |
| Modified on: | 2018:09:02 23:44:28 |
| Software: | Adobe Photoshop Lightroom Classic 7.5 (Windows) |
| Already Applied | True |
| Approximate Focus Distance | 4294967295 |
| Auto Lateral CA | 0 |
| Blacks 2012 | -7 |
| Blue Hue | 0 |
| Blue Saturation | 0 |
| Camera Profile | Adobe Standard |
| Circle Of Confusion | 0.030 mm |
| City | Ferrara |
| Clarity 2012 | 0 |
| Color Noise Reduction | 25 |
| Color Noise Reduction Detail | 50 |
| Color Noise Reduction Smoothness | 50 |
| Color Space | sRGB |
| Color Temperature | 4972 |
| Contrast 2012 | -27 |
| Convert To Grayscale | False |
| Country | Italien |
| Country Code | IT |
| Custom Rendered | Normal |
| Date Created | 2018:05:12 14:07:51.00 |
| Defringe Green Amount | 0 |
| Defringe Green Hue Hi | 60 |
| Defringe Green Hue Lo | 40 |
| Defringe Purple Amount | 0 |
| Defringe Purple Hue Hi | 70 |
| Defringe Purple Hue Lo | 30 |
| Dehaze | 0 |
| Description | Oldtown |
| Exposure 2012 | -0.43 |
| Exposure Compensation | -1/3 |
| Exposure Mode | Auto |
| Field Of View | 96.7 deg |
| Firmware | 1.1.2 |
| Flash Compensation | 0 |
| Format | image/jpeg |
| Grain Amount | 0 |
| Green Hue | 0 |
| Green Saturation | 0 |
| Has Crop | False |
| Has Settings | True |
| Highlights 2012 | -71 |
| Hue Adjustment Aqua | 0 |
| Hue Adjustment Blue | 0 |
| Hue Adjustment Green | 0 |
| Hue Adjustment Magenta | 0 |
| Hue Adjustment Orange | 0 |
| Hue Adjustment Purple | 0 |
| Hue Adjustment Red | 0 |
| Hue Adjustment Yellow | 0 |
| Hyperfocal Distance | 1.35 m |
| ISO | 100 |
| Image Description | Oldtown |
| Image Number | 0 |
| Image Size | 6720x4480 |
| Lens | EF16-35mm f/4L IS USM |
| Lens ID | Canon EF16-35mm f/4L IS USM |
| Lens Info | 16-35mm f/? |
| Lens Manual Distortion Amount | 0 |
| Lens Model | EF16-35mm f/4L IS USM |
| Lens Profile Enable | 0 |
| Lens Profile Setup | LensDefaults |
| Light Value | 11.6 |
| Look Amount | 1.000000 |
| Look Group | Profiles |
| Look Name | Adobe Color |
| Look Parameters Camera Profile | Adobe Standard |
| Look Parameters Convert To Grayscale | False |
| Look Parameters Look Table | E1095149FDB39D7A057BAB208837E2 E1 |
| Look Parameters Process Version | 10.0 |
| Look Parameters Tone Curve PV2012 | 0, 0, 22, 16, 40, 35, 127, 127, 224, 230, 240, 246, 255, 255 |
| Look Parameters Tone Curve PV2012 Blue | 0, 0, 255, 255 |
| Look Parameters Tone Curve PV2012 Green | 0, 0, 255, 255 |
| Look Parameters Tone Curve PV2012 Red | 0, 0, 255, 255 |
| Look Parameters Version | 10.5 |
| Look Supports Amount | false |
| Look Supports Monochrome | false |
| Look Supports Output Referred | false |
| Luminance Adjustment Aqua | 0 |
| Luminance Adjustment Blue | -4 |
| Luminance Adjustment Green | 0 |
| Luminance Adjustment Magenta | 0 |
| Luminance Adjustment Orange | 0 |
| Luminance Adjustment Purple | 0 |
| Luminance Adjustment Red | 0 |
| Luminance Adjustment Yellow | 0 |
| Luminance Smoothing | 0 |
| Metering Mode | Multi-segment |
| Override Look Vignette | False |
| Paint Correction Active | true |
| Paint Correction Amount | 1.000000 |
| Paint Correction Brightness | 0.000000 |
| Paint Correction Clarity 2012 | 0.000000 |
| Paint Correction Contrast 2012 | 0.000000 |
| Paint Correction Correction Range Mask Color Amount | 0.500000 |
| Paint Correction Correction Range Mask Lum Feather | 0.500000 |
| Paint Correction Correction Range Mask Lum Max | 1.000000 |
| Paint Correction Correction Range Mask Lum Min | 0.000000 |
| Paint Correction Correction Range Mask Type | 0 |
| Paint Correction Correction Range Mask Version | +2 |
| Paint Correction Defringe | 0.000000 |
| Paint Correction Exposure 2012 | 0.000000 |
| Paint Correction Highlights 2012 | 0.000000 |
| Paint Correction Hue | 240.000000 |
| Paint Correction Local Blacks 2012 | 0.000000 |
| Paint Correction Local Dehaze | 0.000000 |
| Paint Correction Local Whites 2012 | 0.333330 |
| Paint Correction Luminance Noise | 0.000000 |
| Paint Correction Mask Center Weight | 0.000000 |
| Paint Correction Mask Flow | 1.000000 |
| Paint Correction Mask Radius | 0.021064 |
| Paint Correction Mask Value | 1.000000 |
| Paint Correction Mask What | Mask/Paint |
| Paint Correction Moire | 0.000000 |
| Paint Correction Saturation | 0.000000 |
| Paint Correction Shadows 2012 | 0.138890 |
| Paint Correction Sharpness | 0.000000 |
| Paint Correction Temperature | 0.000000 |
| Paint Correction Tint | 0.000000 |
| Paint Correction What | Correction |
| Parametric Darks | +17 |
| Parametric Highlight Split | 75 |
| Parametric Highlights | -36 |
| Parametric Lights | -28 |
| Parametric Midtone Split | 50 |
| Parametric Shadow Split | 25 |
| Parametric Shadows | 0 |
| Perspective Aspect | 0 |
| Perspective Horizontal | 0 |
| Perspective Rotate | 0.0 |
| Perspective Scale | 100 |
| Perspective Upright | 0 |
| Perspective Vertical | 0 |
| Perspective X | 0.00 |
| Perspective Y | 0.00 |
| Post Crop Vignette Amount | 0 |
| Process Version | 10.0 |
| Rating | 1 |
| Raw File Name | _D3A8746.CR2 |
| Recommended Exposure Index | 100 |
| Red Hue | 0 |
| Red Saturation | 0 |
| Saturation | -1 |
| Saturation Adjustment Aqua | 0 |
| Saturation Adjustment Blue | 0 |
| Saturation Adjustment Green | 0 |
| Saturation Adjustment Magenta | 0 |
| Saturation Adjustment Orange | 0 |
| Saturation Adjustment Purple | 0 |
| Saturation Adjustment Red | 0 |
| Saturation Adjustment Yellow | 0 |
| Scale Factor To 35 mm Equivalent | 1.0 |
| Scene Capture Type | Standard |
| Sensitivity Type | Recommended Exposure Index |
| Shadow Tint | 0 |
| Shadows 2012 | +89 |
| Sharpen Detail | 25 |
| Sharpen Edge Masking | 0 |
| Sharpen Radius | +1.0 |
| Sharpness | 40 |
| Split Toning Balance | 0 |
| Split Toning Highlight Hue | 0 |
| Split Toning Highlight Saturation | 0 |
| Split Toning Shadow Hue | 0 |
| Split Toning Shadow Saturation | 0 |
| State | Emilia-Romagna |
| Tint | -47 |
| Title | Ferrara |
| Tone Curve | 0, 0, 255, 255 |
| Tone Curve Blue | 0, 0, 255, 255 |
| Tone Curve Green | 0, 0, 255, 255 |
| Tone Curve Name | Linear |
| Tone Curve Name 2012 | Linear |
| Tone Curve PV2012 | 0, 0, 255, 255 |
| Tone Curve PV2012 Blue | 0, 0, 255, 255 |
| Tone Curve PV2012 Green | 0, 0, 255, 255 |
| Tone Curve PV2012 Red | 0, 0, 255, 255 |
| Tone Curve Red | 0, 0, 255, 255 |
| Tone Map Strength | 0 |
| Version | 10.5 |
| Vibrance | +14 |
| Vignette Amount | 0 |
| White Balance | Auto |
| Whites 2012 | +49 |
GPS Information |
| GPS Altitude | 51.1 m Below Sea Level |
| GPS Altitude Ref | Below Sea Level |
| GPS Date Stamp | 2018:05:12 |
| GPS Date/Time | 2018:05:12 12:07:40.411Z |
| GPS Dilution Of Precision | 1.8 |
| GPS Latitude | 44 deg 49' 59.30" N |
| GPS Latitude Ref | North |
| GPS Longitude | 11 deg 37' 7.95" E |
| GPS Longitude Ref | East |
| GPS Map Datum | WGS-84 |
| GPS Measure Mode | 3-Dimensional Measurement |
| GPS Position | 44 deg 49' 59.30" N, 11 deg 37' 7.95" E |
| GPS Satellites | 9 |
| GPS Status | Measurement Active |
| GPS Time Stamp | 12:07:40.411 |
| GPS Version ID | 2.3.0.0 |
X