Shooting information for this photo
| Camera: | Canon EOS M5 |
| Exposure: | 0.01667 sec. (1/60) |
| Aperture: | f/20.0 |
| Focal Length: | 45.0 mm (35 mm equivalent: 75.6 mm) |
| Flash: | Off, Did not fire |
| Exposure mode: | Aperture-priority AE |
| Max Aperture: | 6.3 |
| Resolution: | 240 x 240 dpi |
| Original Date: | 2017:10:15 16:18:18.03 |
| Created on: | 2017:10:15 16:18:18.03 |
| Modified on: | 2019:12:01 21:11:08 |
| Software: | Adobe Photoshop Lightroom Classic 9.0 (Windows) |
| Already Applied | True |
| Approximate Focus Distance | 4294967295 |
| Auto Lateral CA | 0 |
| Blacks 2012 | 0 |
| Blue Hue | 0 |
| Blue Saturation | 0 |
| Camera Profile | Camera Faithful |
| Circle Of Confusion | 0.018 mm |
| Clarity 2012 | -20 |
| Color Noise Reduction | 25 |
| Color Noise Reduction Detail | 50 |
| Color Noise Reduction Smoothness | 50 |
| Color Space | sRGB |
| Color Temperature | 6100 |
| Contrast 2012 | +1 |
| Convert To Grayscale | False |
| Crop Angle | 0 |
| Crop Bottom | 1 |
| Crop Constrain To Warp | 0 |
| Crop Left | 0.000001 |
| Crop Right | 0.959827 |
| Crop Top | 0.040174 |
| Custom Rendered | Normal |
| Date Created | 2017:10:15 16:18:18.03 |
| Defringe Green Amount | 0 |
| Defringe Green Hue Hi | 60 |
| Defringe Green Hue Lo | 40 |
| Defringe Purple Amount | 0 |
| Defringe Purple Hue Hi | 70 |
| Defringe Purple Hue Lo | 30 |
| Dehaze | 0 |
| Description | Auffahrt zur Schwaigeralm (ca. 1130m) mit Ausblick auf das herbstliche Gaißach. http://bergtouren.hohmann-edv. de/huettentouren/b.php/0/38/Ba yerische_Voralpen/Isarwinkel/S chwaigeralm.html |
| Digital Zoom Ratio | 1 |
| Exposure 2012 | 0.00 |
| Exposure Compensation | -1/3 |
| Exposure Mode | Manual |
| Field Of View | 26.8 deg |
| Firmware | 1.01 |
| Flash Compensation | 0 |
| Format | image/jpeg |
| Grain Amount | 0 |
| Green Hue | 0 |
| Green Saturation | 0 |
| Has Crop | True |
| Has Extended XMP | DC0B2403DDE1064E02C5A8EB0D132A B5 |
| Has Settings | True |
| Highlights 2012 | -100 |
| Hue Adjustment Aqua | 0 |
| Hue Adjustment Blue | 0 |
| Hue Adjustment Green | 0 |
| Hue Adjustment Magenta | -71 |
| Hue Adjustment Orange | 0 |
| Hue Adjustment Purple | -100 |
| Hue Adjustment Red | 0 |
| Hue Adjustment Yellow | 0 |
| Hyperfocal Distance | 5.66 m |
| ISO | 1600 |
| Image Description | Auffahrt zur Schwaigeralm (ca. 1130m) mit Ausblick auf das herbstliche Gaißach. http://bergtouren.hohmann-edv. de/huettentouren/b.php/0/38/Ba yerische_Voralpen/Isarwinkel/S chwaigeralm.html |
| Image Number | 0 |
| Image Size | 5759x3839 |
| Lens | EF-M15-45mm f/3.5-6.3 IS STM |
| Lens ID | Canon EF-M15-45mm f/3.5-6.3 IS STM |
| Lens Info | 15-45mm f/? |
| Lens Manual Distortion Amount | 0 |
| Lens Model | EF-M15-45mm f/3.5-6.3 IS STM |
| Lens Profile Enable | 0 |
| Lens Profile Setup | LensDefaults |
| Light Value | 10.6 |
| Luminance Adjustment Aqua | 0 |
| Luminance Adjustment Blue | +7 |
| Luminance Adjustment Green | 0 |
| Luminance Adjustment Magenta | +92 |
| Luminance Adjustment Orange | 0 |
| Luminance Adjustment Purple | +55 |
| Luminance Adjustment Red | 0 |
| Luminance Adjustment Yellow | 0 |
| Luminance Noise Reduction Contrast | 0 |
| Luminance Noise Reduction Detail | 50 |
| Luminance Smoothing | 17 |
| Metering Mode | Multi-segment |
| Override Look Vignette | False |
| Paint Correction Active | true |
| Paint Correction Amount | 1.000000 |
| Paint Correction Brightness | 0.000000 |
| Paint Correction Clarity 2012 | 0.000000 |
| Paint Correction Contrast 2012 | 0.120370 |
| Paint Correction Correction Range Mask Color Amount | 0.500000 |
| Paint Correction Correction Range Mask Depth Feather | 0.500000 |
| Paint Correction Correction Range Mask Depth Max | 1.000000 |
| Paint Correction Correction Range Mask Depth Min | 0.000000 |
| Paint Correction Correction Range Mask Lum Feather | 0.500000 |
| Paint Correction Correction Range Mask Lum Max | 1.000000 |
| Paint Correction Correction Range Mask Lum Min | 0.000000 |
| Paint Correction Correction Range Mask Type | 0 |
| Paint Correction Correction Range Mask Version | +2 |
| Paint Correction Defringe | 0.000000 |
| Paint Correction Exposure 2012 | 0.000000 |
| Paint Correction Highlights 2012 | 0.287040 |
| Paint Correction Hue | 240.000000 |
| Paint Correction Local Blacks 2012 | -0.203700 |
| Paint Correction Local Dehaze | 0.000000 |
| Paint Correction Local Whites 2012 | 0.453700 |
| Paint Correction Luminance Noise | 0.000000 |
| Paint Correction Mask Center Weight | 0.047805 |
| Paint Correction Mask Flow | 1.000000 |
| Paint Correction Mask Radius | 0.023606 |
| Paint Correction Mask Value | 0.636000 |
| Paint Correction Mask What | Mask/Paint |
| Paint Correction Moire | 0.000000 |
| Paint Correction Saturation | 0.000000 |
| Paint Correction Shadows 2012 | 0.287040 |
| Paint Correction Sharpness | 0.000000 |
| Paint Correction Temperature | 0.203700 |
| Paint Correction Tint | 0.000000 |
| Paint Correction What | Correction |
| Parametric Darks | 0 |
| Parametric Highlight Split | 75 |
| Parametric Highlights | 0 |
| Parametric Lights | 0 |
| Parametric Midtone Split | 50 |
| Parametric Shadow Split | 25 |
| Parametric Shadows | 0 |
| Perspective Aspect | 0 |
| Perspective Horizontal | 0 |
| Perspective Rotate | 0.0 |
| Perspective Scale | 100 |
| Perspective Upright | 0 |
| Perspective Vertical | 0 |
| Perspective X | 0.00 |
| Perspective Y | 0.00 |
| Post Crop Vignette Amount | 0 |
| Process Version | 6.7 |
| Raw File Name | IMG_2507.CR2 |
| Recommended Exposure Index | 1600 |
| Red Hue | 0 |
| Red Saturation | 0 |
| Saturation | 0 |
| Saturation Adjustment Aqua | 0 |
| Saturation Adjustment Blue | -4 |
| Saturation Adjustment Green | 0 |
| Saturation Adjustment Magenta | -26 |
| Saturation Adjustment Orange | 0 |
| Saturation Adjustment Purple | -14 |
| Saturation Adjustment Red | 0 |
| Saturation Adjustment Yellow | 0 |
| Scale Factor To 35 mm Equivalent | 1.7 |
| Scene Capture Type | Standard |
| Sensing Method | One-chip color area |
| Sensitivity Type | Recommended Exposure Index |
| Shadow Tint | 0 |
| Shadows 2012 | +100 |
| Sharpen Detail | 25 |
| Sharpen Edge Masking | 0 |
| Sharpen Radius | +1.0 |
| Sharpness | 25 |
| Split Toning Balance | 0 |
| Split Toning Highlight Hue | 0 |
| Split Toning Highlight Saturation | 0 |
| Split Toning Shadow Hue | 0 |
| Split Toning Shadow Saturation | 0 |
| Subject | ATS, Alpenregion, Ausflugsziele, EOS M5, Gaißach, Miesbacher Oberland, Waakirchen |
| Texture | 0 |
| Tint | +1 |
| Title | ißach - auf dem Weg zur Schwaigeralm (1130m) |
| Tone Curve | 0, 0, 255, 255 |
| Tone Curve Blue | 0, 0, 255, 255 |
| Tone Curve Green | 0, 0, 255, 255 |
| Tone Curve Name | Linear |
| Tone Curve Name 2012 | Linear |
| Tone Curve PV2012 | 0, 0, 255, 255 |
| Tone Curve PV2012 Blue | 0, 0, 255, 255 |
| Tone Curve PV2012 Green | 0, 0, 255, 255 |
| Tone Curve PV2012 Red | 0, 0, 255, 255 |
| Tone Curve Red | 0, 0, 255, 255 |
| Tone Map Strength | 0 |
| Version | 12.0 |
| Vibrance | +21 |
| Vignette Amount | 0 |
| White Balance | Auto |
| Whites 2012 | +52 |
X