Shooting information for this photo
| Camera: | Canon EOS 5D Mark IV |
| Exposure: | 0.0004 sec. (1/2500) |
| Aperture: | f/4.0 |
| Focal Length: | 24.0 mm (35 mm equivalent: 25.1 mm) |
| Flash: | Off, Did not fire |
| Exposure mode: | Aperture-priority AE |
| Max Aperture: | 4.0 |
| Resolution: | 240 x 240 dpi |
| Original Date: | 2017:08:18 13:59:28 |
| Created on: | 2017:08:18 13:59:28.00 |
| Modified on: | 2017:08:20 22:15:14 |
| Software: | Adobe Photoshop Lightroom 6.12 (Windows) |
| Already Applied | True |
| Approximate Focus Distance | 4294967295 |
| Auto Lateral CA | 0 |
| Auto White Version | 134348800 |
| Blacks 2012 | 0 |
| Blue Hue | 0 |
| Blue Saturation | 0 |
| Camera Profile | Camera Faithful |
| Circle Of Confusion | 0.029 mm |
| City | Bratislava |
| Clarity 2012 | 0 |
| Color Noise Reduction | 25 |
| Color Noise Reduction Detail | 50 |
| Color Noise Reduction Smoothness | 50 |
| Color Space | sRGB |
| Color Temperature | 5350 |
| Contrast 2012 | 0 |
| Convert To Grayscale | False |
| Country | Slowakei |
| Country Code | SK |
| Crop Angle | 0 |
| Crop Bottom | 0.947661 |
| Crop Constrain To Warp | 0 |
| Crop Left | 0 |
| Crop Right | 1 |
| Crop Top | 0.103912 |
| Custom Rendered | Normal |
| Date Created | 2017:08:18 13:59:28.00 |
| Defringe Green Amount | 0 |
| Defringe Green Hue Hi | 60 |
| Defringe Green Hue Lo | 40 |
| Defringe Purple Amount | 0 |
| Defringe Purple Hue Hi | 70 |
| Defringe Purple Hue Lo | 30 |
| Dehaze | 0 |
| Distortion Correction Already Applied | True |
| Exposure 2012 | -0.19 |
| Exposure Compensation | -1/3 |
| Exposure Mode | Auto |
| Field Of View | 71.2 deg |
| Firmware | 1.0.4 |
| Flash Compensation | 0 |
| Format | image/jpeg |
| Gradient Based Corr Active | true |
| Gradient Based Corr Amount | 1.000000 |
| Gradient Based Corr Brightness | 0.000000 |
| Gradient Based Corr Clarity 2012 | 0.250000 |
| Gradient Based Corr Contrast 2012 | 0.111110 |
| Gradient Based Corr Defringe | 0.000000 |
| Gradient Based Corr Exposure 2012 | -0.064750 |
| Gradient Based Corr Highlights 2012 | 0.555560 |
| Gradient Based Corr Hue | 240.000000 |
| Gradient Based Corr Local Blacks 2012 | 0.000000 |
| Gradient Based Corr Local Dehaze | 0.000000 |
| Gradient Based Corr Local Whites 2012 | 0.740740 |
| Gradient Based Corr Luminance Noise | 0.000000 |
| Gradient Based Corr Mask Full X | 0.647175 |
| Gradient Based Corr Mask Full Y | 0.181053 |
| Gradient Based Corr Mask Value | 1.000000 |
| Gradient Based Corr Mask What | Mask/Gradient |
| Gradient Based Corr Mask Zero X | 0.649741 |
| Gradient Based Corr Mask Zero Y | 0.728952 |
| Gradient Based Corr Moire | 0.000000 |
| Gradient Based Corr Saturation | 0.000000 |
| Gradient Based Corr Shadows 2012 | 0.240740 |
| Gradient Based Corr Sharpness | 0.000000 |
| Gradient Based Corr Temperature | 0.000000 |
| Gradient Based Corr Tint | 0.000000 |
| Gradient Based Corr What | Correction |
| Grain Amount | 0 |
| Green Hue | 0 |
| Green Saturation | 0 |
| Has Crop | True |
| Has Settings | True |
| Highlights 2012 | -100 |
| Hue Adjustment Aqua | 0 |
| Hue Adjustment Blue | 0 |
| Hue Adjustment Green | 0 |
| Hue Adjustment Magenta | 0 |
| Hue Adjustment Orange | 0 |
| Hue Adjustment Purple | 0 |
| Hue Adjustment Red | 0 |
| Hue Adjustment Yellow | 0 |
| Hyperfocal Distance | 5.02 m |
| ISO | 100 |
| Image Number | 0 |
| Image Size | 6720x3780 |
| Lens | EF16-35mm f/4L IS USM |
| Lens ID | Canon EF16-35mm f/4L IS USM |
| Lens Info | 16-35mm f/? |
| Lens Manual Distortion Amount | 0 |
| Lens Model | EF16-35mm f/4L IS USM |
| Lens Profile Chromatic Aberration Scale | 100 |
| Lens Profile Distortion Scale | 100 |
| Lens Profile Enable | 1 |
| Lens Profile Filename | Canon EOS-1Ds Mark III (Canon EF 16-35mm f4L IS USM v2) - RAW.lcp |
| Lens Profile Name | Adobe (Canon EF 16-35mm f/4L IS USM) v2 |
| Lens Profile Setup | LensDefaults |
| Lens Profile Vignetting Scale | 100 |
| Light Value | 15.3 |
| Luminance Adjustment Aqua | 0 |
| Luminance Adjustment Blue | +16 |
| Luminance Adjustment Green | 0 |
| Luminance Adjustment Magenta | 0 |
| Luminance Adjustment Orange | +16 |
| Luminance Adjustment Purple | 0 |
| Luminance Adjustment Red | +16 |
| Luminance Adjustment Yellow | +1 |
| Luminance Smoothing | 0 |
| Metering Mode | Multi-segment |
| Parametric Darks | +29 |
| Parametric Highlight Split | 75 |
| Parametric Highlights | +7 |
| Parametric Lights | -15 |
| Parametric Midtone Split | 50 |
| Parametric Shadow Split | 25 |
| Parametric Shadows | 0 |
| Perspective Aspect | 0 |
| Perspective Horizontal | 0 |
| Perspective Rotate | 0.0 |
| Perspective Scale | 100 |
| Perspective Upright | 5 |
| Perspective Vertical | 0 |
| Perspective X | 0.00 |
| Perspective Y | 0.00 |
| Post Crop Vignette Amount | 0 |
| Process Version | 6.7 |
| Rating | 1 |
| Recommended Exposure Index | 100 |
| Red Hue | 0 |
| Red Saturation | 0 |
| Saturation | 0 |
| Saturation Adjustment Aqua | 0 |
| Saturation Adjustment Blue | +27 |
| Saturation Adjustment Green | 0 |
| Saturation Adjustment Magenta | 0 |
| Saturation Adjustment Orange | 0 |
| Saturation Adjustment Purple | 0 |
| Saturation Adjustment Red | +2 |
| Saturation Adjustment Yellow | 0 |
| Scale Factor To 35 mm Equivalent | 1.0 |
| Scene Capture Type | Standard |
| Sensitivity Type | Recommended Exposure Index |
| Shadow Tint | 0 |
| Shadows 2012 | +86 |
| Sharpen Detail | 25 |
| Sharpen Edge Masking | 0 |
| Sharpen Radius | +1.0 |
| Sharpness | 25 |
| Split Toning Balance | 0 |
| Split Toning Highlight Hue | 0 |
| Split Toning Highlight Saturation | 0 |
| Split Toning Shadow Hue | 0 |
| Split Toning Shadow Saturation | 0 |
| State | Bratislavský kraj |
| Tint | -3 |
| Title | Bratislava - castle |
| Tone Curve | 0, 0, 255, 255 |
| Tone Curve Blue | 0, 0, 255, 255 |
| Tone Curve Green | 0, 0, 255, 255 |
| Tone Curve Name | Linear |
| Tone Curve Name 2012 | Linear |
| Tone Curve PV2012 | 0, 0, 255, 255 |
| Tone Curve PV2012 Blue | 0, 0, 255, 255 |
| Tone Curve PV2012 Green | 0, 0, 255, 255 |
| Tone Curve PV2012 Red | 0, 0, 255, 255 |
| Tone Curve Red | 0, 0, 255, 255 |
| Tone Map Strength | 0 |
| Version | 9.12 |
| Vibrance | 0 |
| Vignette Amount | 0 |
| Vignette Correction Already Applied | True |
| White Balance | Auto |
| Whites 2012 | +52 |
GPS Information |
| GPS Altitude | 218.3 m Above Sea Level |
| GPS Altitude Ref | Above Sea Level |
| GPS Date Stamp | 2017:08:18 |
| GPS Date/Time | 2017:08:18 11:59:21.901Z |
| GPS Dilution Of Precision | 2.4 |
| GPS Latitude | 48 deg 8' 33.69" N |
| GPS Latitude Ref | North |
| GPS Longitude | 17 deg 6' 2.03" E |
| GPS Longitude Ref | East |
| GPS Map Datum | WGS-84 |
| GPS Measure Mode | 3-Dimensional Measurement |
| GPS Position | 48 deg 8' 33.69" N, 17 deg 6' 2.03" E |
| GPS Satellites | 9 |
| GPS Status | Measurement Active |
| GPS Time Stamp | 11:59:21.901 |
| GPS Version ID | 2.3.0.0 |
X