Shooting information for this photo
| Camera: | SONY DSC-RX100M3 |
| Exposure: | 0.00625 sec. (1/160) |
| Aperture: | f/2.8 |
| Focal Length: | 8.8 mm (35 mm equivalent: 24.0 mm) |
| Flash: | Off, Did not fire |
| Exposure mode: | Aperture-priority AE |
| Max Aperture: | 1.8 |
| Resolution: | 240 x 240 dpi |
| Original Date: | 2016:08:23 10:09:26 |
| Created on: | 2016:08:23 10:09:26 |
| Modified on: | 2019:12:01 21:08:34 |
| Software: | Adobe Photoshop Lightroom Classic 9.0 (Windows) |
| Already Applied | True |
| Auto Lateral CA | 0 |
| Blacks 2012 | -7 |
| Blue Hue | 0 |
| Blue Saturation | 0 |
| Brightness Value | 9.96640625 |
| Camera Profile | Adobe Standard |
| Circle Of Confusion | 0.011 mm |
| Clarity 2012 | +2 |
| Color Noise Reduction | 25 |
| Color Noise Reduction Detail | 50 |
| Color Noise Reduction Smoothness | 50 |
| Color Space | sRGB |
| Color Temperature | 4950 |
| Contrast | Normal |
| Contrast 2012 | +39 |
| Convert To Grayscale | False |
| Crop Angle | -3.092 |
| Crop Bottom | 0.924539 |
| Crop Constrain To Warp | 0 |
| Crop Left | 0.054651 |
| Crop Right | 0.950178 |
| Crop Top | 0.130181 |
| Custom Rendered | Normal |
| Date Created | 2016:08:23 10:09:26 |
| Defringe Green Amount | 0 |
| Defringe Green Hue Hi | 60 |
| Defringe Green Hue Lo | 40 |
| Defringe Purple Amount | 0 |
| Defringe Purple Hue Hi | 70 |
| Defringe Purple Hue Lo | 30 |
| Dehaze | 0 |
| Digital Zoom Ratio | 1 |
| Distortion Correction Already Applied | True |
| Exposure 2012 | -0.05 |
| Exposure Compensation | 0 |
| Exposure Mode | Auto |
| Field Of View | 73.7 deg |
| Focal Length In 35mm Format | 24 mm |
| Format | image/jpeg |
| Grain Amount | 0 |
| Green Hue | 0 |
| Green Saturation | 0 |
| Has Crop | True |
| Has Settings | True |
| Highlights 2012 | -80 |
| Hue Adjustment Aqua | 0 |
| Hue Adjustment Blue | 0 |
| Hue Adjustment Green | 0 |
| Hue Adjustment Magenta | 0 |
| Hue Adjustment Orange | 0 |
| Hue Adjustment Purple | 0 |
| Hue Adjustment Red | 0 |
| Hue Adjustment Yellow | 0 |
| Hyperfocal Distance | 2.51 m |
| ISO | 80 |
| Image Size | 4737x3158 |
| Lateral Chromatic Aberration Correction Already Applied | True |
| Lens | 24-70mm F1.8-2.8 |
| Lens Info | 8.8-25.7mm f/1.8-2.8 |
| Lens Manual Distortion Amount | 0 |
| Lens Model | 24-70mm F1.8-2.8 |
| Lens Profile Enable | 0 |
| Lens Profile Setup | LensDefaults |
| Light Source | Unknown |
| Light Value | 10.6 |
| Luminance Adjustment Aqua | +81 |
| Luminance Adjustment Blue | +56 |
| Luminance Adjustment Green | +16 |
| Luminance Adjustment Magenta | 0 |
| Luminance Adjustment Orange | 0 |
| Luminance Adjustment Purple | 0 |
| Luminance Adjustment Red | 0 |
| Luminance Adjustment Yellow | +24 |
| Luminance Smoothing | 0 |
| Metering Mode | Multi-segment |
| Override Look Vignette | False |
| Parametric Darks | +5 |
| Parametric Highlight Split | 75 |
| Parametric Highlights | +36 |
| Parametric Lights | -4 |
| Parametric Midtone Split | 50 |
| Parametric Shadow Split | 25 |
| Parametric Shadows | +30 |
| Perspective Aspect | 0 |
| Perspective Horizontal | 0 |
| Perspective Rotate | 0.0 |
| Perspective Scale | 100 |
| Perspective Upright | 0 |
| Perspective Vertical | 0 |
| Perspective X | 0.00 |
| Perspective Y | 0.00 |
| Post Crop Vignette Amount | 0 |
| Process Version | 6.7 |
| Raw File Name | _DSC1019.ARW |
| Recommended Exposure Index | 80 |
| Red Hue | 0 |
| Red Saturation | 0 |
| Saturation | Normal |
| Saturation Adjustment Aqua | -100 |
| Saturation Adjustment Blue | 0 |
| Saturation Adjustment Green | 0 |
| Saturation Adjustment Magenta | 0 |
| Saturation Adjustment Orange | 0 |
| Saturation Adjustment Purple | 0 |
| Saturation Adjustment Red | 0 |
| Saturation Adjustment Yellow | 0 |
| Scale Factor To 35 mm Equivalent | 2.7 |
| Scene Capture Type | Standard |
| Scene Type | Directly photographed |
| Sensitivity Type | Recommended Exposure Index |
| Shadow Tint | 0 |
| Shadows 2012 | +84 |
| Sharpen Detail | 61 |
| Sharpen Edge Masking | 79 |
| Sharpen Radius | +1.4 |
| Sharpness | Normal |
| Split Toning Balance | 0 |
| Split Toning Highlight Hue | 0 |
| Split Toning Highlight Saturation | 0 |
| Split Toning Shadow Hue | 0 |
| Split Toning Shadow Saturation | 0 |
| Subject | ATS, Alpenregion, Bayrischzell, Miesbach, Miesbacher Oberland |
| Texture | 0 |
| Tint | +10 |
| Title | Kloo-Ascher-Tal (885 m) |
| Tone Curve | 0, 0, 255, 255 |
| Tone Curve Blue | 0, 0, 255, 255 |
| Tone Curve Green | 0, 0, 255, 255 |
| Tone Curve Name | Linear |
| Tone Curve Name 2012 | Custom |
| Tone Curve PV2012 | 0, 0, 48, 46, 131, 136, 214, 201, 255, 255 |
| Tone Curve PV2012 Blue | 0, 0, 255, 255 |
| Tone Curve PV2012 Green | 0, 0, 255, 255 |
| Tone Curve PV2012 Red | 0, 0, 255, 255 |
| Tone Curve Red | 0, 0, 255, 255 |
| Tone Map Strength | 0 |
| Version | 12.0 |
| Vibrance | +34 |
| Vignette Amount | 0 |
| White Balance | Auto |
| Whites 2012 | +11 |
X