Shooting information for this photo
Camera: | Canon EOS 5D Mark III |
Exposure: | 0.025 sec. (1/40) |
Aperture: | f/6.3 |
Focal Length: | 12.0 mm (35 mm equivalent: 12.5 mm) |
Flash: | Off, Did not fire |
Exposure mode: | Aperture-priority AE |
Max Aperture: | 4.6 |
Resolution: | 240 x 240 dpi |
Original Date: | 2016:05:16 16:13:06.2 |
Created on: | 2016:05:16 16:13:06 |
Modified on: | 2019:12:08 11:28:53 |
Software: | Adobe Photoshop Lightroom Classic 9.0 (Windows) |
Already Applied | True |
Approximate Focus Distance | 1.82 |
Artist | LeoW |
Auto Lateral CA | 0 |
Blacks 2012 | 0 |
Blue Hue | 0 |
Blue Saturation | 0 |
Camera Profile | Embedded |
Circle Of Confusion | 0.029 mm |
Clarity 2012 | 0 |
Color Noise Reduction | 0 |
Color Space | sRGB |
Contrast 2012 | 0 |
Convert To Grayscale | False |
Creator | LeoW |
Custom Rendered | Normal |
Date Created | 2016:05:16 16:13:06.002 |
Defringe Green Amount | 0 |
Defringe Green Hue Hi | 60 |
Defringe Green Hue Lo | 40 |
Defringe Purple Amount | 0 |
Defringe Purple Hue Hi | 70 |
Defringe Purple Hue Lo | 30 |
Dehaze | 0 |
Description | built 1910 |
Exposure 2012 | 0.00 |
Exposure Compensation | 0 |
Exposure Mode | Auto |
Field Of View | 110.7 deg |
Firmware | 1.3.3 |
Flash Compensation | 0 |
Format | image/jpeg |
Grain Amount | 0 |
Green Hue | 0 |
Green Saturation | 0 |
Has Crop | False |
Has Settings | True |
Highlights 2012 | +11 |
Hue Adjustment Aqua | 0 |
Hue Adjustment Blue | 0 |
Hue Adjustment Green | 0 |
Hue Adjustment Magenta | 0 |
Hue Adjustment Orange | 0 |
Hue Adjustment Purple | 0 |
Hue Adjustment Red | 0 |
Hue Adjustment Yellow | 0 |
Hyperfocal Distance | 0.79 m |
ISO | 3200 |
Image Description | built 1910 |
Image Number | 0 |
Image Size | 5483x3801 |
Incremental Temperature | 0 |
Incremental Tint | 0 |
Is Merged HDR | True |
Lens | 12-24mm |
Lens ID | Sigma 8-16mm f/4.5-5.6 DC HSM + 1.4x |
Lens Info | 12-24mm f/? |
Lens Manual Distortion Amount | 0 |
Lens Model | 12-24mm |
Lens Profile Enable | 0 |
Lens Profile Setup | LensDefaults |
Light Value | 5.6 |
Luminance Adjustment Aqua | 0 |
Luminance Adjustment Blue | 0 |
Luminance Adjustment Green | 0 |
Luminance Adjustment Magenta | 0 |
Luminance Adjustment Orange | 0 |
Luminance Adjustment Purple | 0 |
Luminance Adjustment Red | 0 |
Luminance Adjustment Yellow | 0 |
Luminance Noise Reduction Contrast | 0 |
Luminance Noise Reduction Detail | 100 |
Luminance Smoothing | 11 |
Metering Mode | Multi-segment |
Override Look Vignette | False |
Paint Correction Active | true |
Paint Correction Amount | 1.000000 |
Paint Correction Brightness | 0.000000 |
Paint Correction Clarity 2012 | 0.000000 |
Paint Correction Contrast 2012 | 0.000000 |
Paint Correction Correction Range Mask Color Amount | 0.500000 |
Paint Correction Correction Range Mask Depth Feather | 0.500000 |
Paint Correction Correction Range Mask Depth Max | 1.000000 |
Paint Correction Correction Range Mask Depth Min | 0.000000 |
Paint Correction Correction Range Mask Lum Feather | 0.500000 |
Paint Correction Correction Range Mask Lum Max | 1.000000 |
Paint Correction Correction Range Mask Lum Min | 0.000000 |
Paint Correction Correction Range Mask Type | 0 |
Paint Correction Correction Range Mask Version | +2 |
Paint Correction Defringe | 0.000000 |
Paint Correction Exposure 2012 | 0.000000 |
Paint Correction Highlights 2012 | 0.231480 |
Paint Correction Hue | 0.000000 |
Paint Correction Local Blacks 2012 | 0.000000 |
Paint Correction Local Dehaze | 0.000000 |
Paint Correction Local Whites 2012 | 0.240740 |
Paint Correction Luminance Noise | 0.000000 |
Paint Correction Mask Center Weight | 0.123882 |
Paint Correction Mask Flow | 1.000000 |
Paint Correction Mask Radius | 0.122018 |
Paint Correction Mask Value | 0.323000 |
Paint Correction Mask What | Mask/Paint |
Paint Correction Moire | 0.000000 |
Paint Correction Saturation | 0.000000 |
Paint Correction Shadows 2012 | 0.222220 |
Paint Correction Sharpness | 0.000000 |
Paint Correction Temperature | 0.000000 |
Paint Correction Tint | 0.000000 |
Paint Correction What | Correction |
Parametric Darks | +17 |
Parametric Highlight Split | 75 |
Parametric Highlights | -21 |
Parametric Lights | +14 |
Parametric Midtone Split | 50 |
Parametric Shadow Split | 25 |
Parametric Shadows | 0 |
Perspective Aspect | 0 |
Perspective Horizontal | 0 |
Perspective Rotate | 0.0 |
Perspective Scale | 100 |
Perspective Upright | 0 |
Perspective Vertical | 0 |
Perspective X | 0.00 |
Perspective Y | 0.00 |
Post Crop Vignette Amount | 0 |
Process Version | 6.7 |
Recommended Exposure Index | 3200 |
Red Hue | 0 |
Red Saturation | 0 |
Saturation | 0 |
Saturation Adjustment Aqua | 0 |
Saturation Adjustment Blue | 0 |
Saturation Adjustment Green | 0 |
Saturation Adjustment Magenta | 0 |
Saturation Adjustment Orange | 0 |
Saturation Adjustment Purple | 0 |
Saturation Adjustment Red | 0 |
Saturation Adjustment Yellow | 0 |
Scale Factor To 35 mm Equivalent | 1.0 |
Scene Capture Type | Standard |
Sensitivity Type | Recommended Exposure Index |
Shadow Tint | 0 |
Shadows 2012 | +9 |
Sharpen Detail | 25 |
Sharpen Edge Masking | 0 |
Sharpen Radius | +1.0 |
Sharpness | 0 |
Split Toning Balance | 0 |
Split Toning Highlight Hue | 0 |
Split Toning Highlight Saturation | 0 |
Split Toning Shadow Hue | 0 |
Split Toning Shadow Saturation | 0 |
Subject | ATS, Alpenregion, Miesbach, Miesbacher Oberland, Region Taubenberg, Weyarn |
Texture | 0 |
Title | Lookout tower + Aussichtsturm Taubenberg |
Tone Curve | 0, 0, 255, 255 |
Tone Curve Blue | 0, 0, 255, 255 |
Tone Curve Green | 0, 0, 255, 255 |
Tone Curve Name | Linear |
Tone Curve Name 2012 | Linear |
Tone Curve PV2012 | 0, 0, 255, 255 |
Tone Curve PV2012 Blue | 0, 0, 255, 255 |
Tone Curve PV2012 Green | 0, 0, 255, 255 |
Tone Curve PV2012 Red | 0, 0, 255, 255 |
Tone Curve Red | 0, 0, 255, 255 |
Tone Map Strength | 0 |
Version | 12.0 |
Vibrance | 0 |
Vignette Amount | 0 |
White Balance | Manual |
Whites 2012 | +15 |