Shooting information for this photo
| Camera: | NIKON CORPORATION NIKON D300 |
| Exposure: | 0.00125 sec. (1/800) |
| Aperture: | f/8.0 |
| Focal Length: | 18.0 mm (35 mm equivalent: 27.0 mm) |
| Flash: | No Flash |
| Exposure mode: | Aperture-priority AE |
| Max Aperture: | 3.5 |
| Resolution: | 240 x 240 dpi |
| Dimension: | 1600 x 952 pixels |
| Original Date: | 2012:07:29 15:42:59.00 |
| Digitized Date: | 2012:07:29 15:42:59.00+02:00 |
| Created on: | 2012:07:29 15:42:59.00 |
| Modified on: | 2012:07:30 02:16:14 |
| Software: | Ver.1.00 |
| Already Applied | True |
| Blue Hue | 0 |
| Blue Saturation | 0 |
| Brightness | +50 |
| CFA Pattern | [Red,Green][Green,Blue] |
| Camera Profile | Camera Neutral |
| Chromatic Aberration B | 0 |
| Chromatic Aberration R | -48 |
| Circle Of Confusion | 0.020 mm |
| Clarity | +19 |
| Color Noise Reduction | 25 |
| Color Temperature | 5000 |
| Contrast | +25 |
| Convert To Grayscale | False |
| Crop Angle | -0.446369 |
| Crop Bottom | 0.827937 |
| Crop Height | 952 |
| Crop Left | 0.053536 |
| Crop Right | 0.982212 |
| Crop Top | 0.010843 |
| Crop Unit | pixels |
| Crop Width | 1600 |
| Custom Rendered | Normal |
| Defringe | 0 |
| Depth Of Field | inf (2.02 m - inf) |
| Digital Zoom Ratio | 1 |
| Exposure | 0.00 |
| Exposure Compensation | 0 |
| Exposure Mode | Auto |
| Field Of View | 67.4 deg |
| Fill Light | 20 |
| Flash Fired | False |
| Flash Function | False |
| Flash Mode | Unknown |
| Flash Red Eye Mode | False |
| Flash Return | No return detection |
| Focal Length In 35mm Format | 27 mm |
| Gain Control | None |
| Green Hue | 0 |
| Green Saturation | 0 |
| Has Crop | True |
| Has Settings | True |
| Highlight Recovery | 0 |
| Hue Adjustment Aqua | 0 |
| Hue Adjustment Blue | 0 |
| Hue Adjustment Green | 0 |
| Hue Adjustment Magenta | 0 |
| Hue Adjustment Orange | 0 |
| Hue Adjustment Purple | 0 |
| Hue Adjustment Red | 0 |
| Hue Adjustment Yellow | 0 |
| Hyperfocal Distance | 2.02 m |
| ISO | 200 |
| Image Number | 25302 |
| Image Size | 1600x952 |
| Lens | 18.0-135.0 mm f/3.5-5.6 |
| Lens ID | AF-S DX Zoom-Nikkor 18-135mm f/3.5-5.6G IF-ED |
| Lens Info | 18-135mm f/3.5-5.6 |
| Light Source | Fine Weather |
| Light Value | 14.6 |
| Luminance Adjustment Aqua | 0 |
| Luminance Adjustment Blue | 0 |
| Luminance Adjustment Green | 0 |
| Luminance Adjustment Magenta | 0 |
| Luminance Adjustment Orange | 0 |
| Luminance Adjustment Purple | 0 |
| Luminance Adjustment Red | 0 |
| Luminance Adjustment Yellow | 0 |
| Luminance Smoothing | 0 |
| Metering Mode | Multi-segment |
| Parametric Darks | +48 |
| Parametric Highlight Split | 75 |
| Parametric Highlights | +28 |
| Parametric Lights | -13 |
| Parametric Midtone Split | 50 |
| Parametric Shadow Split | 13 |
| Parametric Shadows | -56 |
| Post Crop Vignette Amount | 0 |
| Red Hue | 0 |
| Red Saturation | 0 |
| Saturation | +9 |
| Saturation Adjustment Aqua | 0 |
| Saturation Adjustment Blue | +50 |
| Saturation Adjustment Green | 0 |
| Saturation Adjustment Magenta | 0 |
| Saturation Adjustment Orange | 0 |
| Saturation Adjustment Purple | 0 |
| Saturation Adjustment Red | 0 |
| Saturation Adjustment Yellow | 0 |
| Scale Factor To 35 mm Equivalent | 1.5 |
| Scene Capture Type | Standard |
| Scene Type | Directly photographed |
| Sensing Method | One-chip color area |
| Shadow Tint | 0 |
| Shadows | 5 |
| Sharpen Detail | 29 |
| Sharpen Edge Masking | 17 |
| Sharpen Radius | +0.8 |
| Sharpness | 71 |
| Split Toning Balance | 0 |
| Split Toning Highlight Hue | 0 |
| Split Toning Highlight Saturation | 0 |
| Split Toning Shadow Hue | 0 |
| Split Toning Shadow Saturation | 0 |
| Subject | Bergisches, Tour |
| Subject Distance | 4294967295 m |
| Subject Distance Range | Unknown |
| Tint | +1 |
| Title | Geschafft! Ironie der Geschichte: man sieht die Landschaft nicht. |
| Tone Curve | 0, 0, 32, 22, 64, 56, 128, 128, 192, 196, 255, 255 |
| Tone Curve Name | Medium Contrast |
| User Comment | by LGW, lgw@dark-reality.de |
| Version | 5.7 |
| Vibrance | +12 |
| Vignette Amount | 0 |
| White Balance | As Shot |
X