Shooting information for this photo
| Camera: | NIKON CORPORATION NIKON D300 |
| Exposure: | 0.004 sec. (1/250) |
| Aperture: | f/5.6 |
| Focal Length: | 14.0 mm (35 mm equivalent: 21.0 mm) |
| Flash: | On, Return detected |
| Exposure mode: | Manual |
| Max Aperture: | 2.8 |
| Resolution: | 240 x 240 dpi |
| Dimension: | 1600 x 1063 pixels |
| Original Date: | 2011:11:01 15:03:04.77 |
| Digitized Date: | 2011:11:01 15:03:04.77+01:00 |
| Created on: | 2011:11:01 15:03:04.77 |
| Modified on: | 2011:11:01 23:14:48 |
| Software: | Ver.1.00 |
| Already Applied | True |
| Blue Hue | 0 |
| Blue Saturation | 0 |
| Brightness | +50 |
| CFA Pattern | [Red,Green][Green,Blue] |
| Camera Profile | Camera Neutral |
| Chromatic Aberration B | 0 |
| Chromatic Aberration R | 0 |
| Circle Of Confusion | 0.020 mm |
| Clarity | 0 |
| Color Noise Reduction | 25 |
| Color Temperature | 5394 |
| Contrast | +25 |
| Convert To Grayscale | False |
| Crop Angle | 0 |
| Crop Bottom | 0.920266 |
| Crop Height | 1063 |
| Crop Left | 0.059603 |
| Crop Right | 0.979869 |
| Crop Top | 0 |
| Crop Unit | pixels |
| Crop Width | 1600 |
| Custom Rendered | Normal |
| Defringe | 0 |
| Depth Of Field | 35.24 m (0.86 - 36.10) |
| Digital Zoom Ratio | 1 |
| Exposure | 0.00 |
| Exposure Compensation | +2/3 |
| Exposure Mode | Manual |
| Field Of View | 81.2 deg |
| Fill Light | 0 |
| Flash Fired | True |
| Flash Function | False |
| Flash Mode | On |
| Flash Red Eye Mode | False |
| Flash Return | Return detected |
| Focal Length In 35mm Format | 21 mm |
| Gain Control | Low gain up |
| Green Hue | 0 |
| Green Saturation | 0 |
| Has Crop | True |
| Has Settings | True |
| Highlight Recovery | 21 |
| Hue Adjustment Aqua | 0 |
| Hue Adjustment Blue | 0 |
| Hue Adjustment Green | 0 |
| Hue Adjustment Magenta | 0 |
| Hue Adjustment Orange | 0 |
| Hue Adjustment Purple | 0 |
| Hue Adjustment Red | 0 |
| Hue Adjustment Yellow | 0 |
| Hyperfocal Distance | 1.75 m |
| ISO | 400 |
| Image Number | 17708 |
| Image Size | 1600x1063 |
| Lens | 14.0 mm f/2.8 |
| Lens ID | Sigma 14mm F2.8 EX Aspherical HSM |
| Lens Info | 14mm f/2.8 |
| Light Source | Fine Weather |
| Light Value | 10.9 |
| Luminance Adjustment Aqua | 0 |
| Luminance Adjustment Blue | 0 |
| Luminance Adjustment Green | 0 |
| Luminance Adjustment Magenta | 0 |
| Luminance Adjustment Orange | 0 |
| Luminance Adjustment Purple | 0 |
| Luminance Adjustment Red | 0 |
| Luminance Adjustment Yellow | 0 |
| Luminance Smoothing | 0 |
| Metering Mode | Multi-segment |
| Parametric Darks | +36 |
| Parametric Highlight Split | 86 |
| Parametric Highlights | +27 |
| Parametric Lights | -19 |
| Parametric Midtone Split | 55 |
| Parametric Shadow Split | 21 |
| Parametric Shadows | -58 |
| Post Crop Vignette Amount | 0 |
| Red Hue | 0 |
| Red Saturation | 0 |
| Saturation | 0 |
| Saturation Adjustment Aqua | 0 |
| Saturation Adjustment Blue | 0 |
| Saturation Adjustment Green | 0 |
| Saturation Adjustment Magenta | 0 |
| Saturation Adjustment Orange | 0 |
| Saturation Adjustment Purple | 0 |
| Saturation Adjustment Red | 0 |
| Saturation Adjustment Yellow | 0 |
| Scale Factor To 35 mm Equivalent | 1.5 |
| Scene Capture Type | Standard |
| Scene Type | Directly photographed |
| Sensing Method | One-chip color area |
| Shadow Tint | 0 |
| Shadows | 5 |
| Sharpen Detail | 25 |
| Sharpen Edge Masking | 0 |
| Sharpen Radius | +1.0 |
| Sharpness | 25 |
| Split Toning Balance | 0 |
| Split Toning Highlight Hue | 0 |
| Split Toning Highlight Saturation | 0 |
| Split Toning Shadow Hue | 0 |
| Split Toning Shadow Saturation | 0 |
| Subject | F650, Holte, Motorrad, Wald |
| Subject Distance | 1.68 m |
| Subject Distance Range | Unknown |
| Tint | +1 |
| Title | Natürliche Umbegung |
| Tone Curve | 0, 0, 32, 22, 64, 56, 128, 128, 192, 196, 255, 255 |
| Tone Curve Name | Medium Contrast |
| User Comment | by LGW, lgw@dark-reality.de |
| Version | 5.7 |
| Vibrance | 0 |
| Vignette Amount | 0 |
| White Balance | Custom |
X