Shooting information for this photo
| Camera: | NIKON CORPORATION NIKON D300 |
| Exposure: | 0.004 sec. (1/250) |
| Aperture: | f/5.6 |
| Focal Length: | 35.0 mm (35 mm equivalent: 52.0 mm) |
| Flash: | No Flash |
| Exposure mode: | Aperture-priority AE |
| Max Aperture: | 1.7 |
| Resolution: | 240 x 240 dpi |
| Dimension: | 1200 x 797 pixels |
| Original Date: | 2011:08:26 18:20:54.92 |
| Digitized Date: | 2011:08:26 18:20:54.92+02:00 |
| Created on: | 2011:08:26 18:20:54.92 |
| Modified on: | 2011:08:29 13:52:49 |
| Software: | Ver.1.00 |
| Already Applied | True |
| Blue Hue | 0 |
| Blue Saturation | 0 |
| Brightness | +50 |
| CFA Pattern | [Red,Green][Green,Blue] |
| Camera Profile | Camera Neutral |
| Chromatic Aberration B | 0 |
| Chromatic Aberration R | 0 |
| Circle Of Confusion | 0.020 mm |
| Clarity | 0 |
| Color Noise Reduction | 25 |
| Color Temperature | 5000 |
| Contrast | +25 |
| Convert To Grayscale | False |
| Custom Rendered | Normal |
| Defringe | 0 |
| Depth Of Field | inf (10.82 m - inf) |
| Digital Zoom Ratio | 1 |
| Exposure | 0.00 |
| Exposure Compensation | 0 |
| Exposure Mode | Auto |
| Field Of View | 38.2 deg |
| Fill Light | 0 |
| Flash Fired | False |
| Flash Function | False |
| Flash Mode | Unknown |
| Flash Red Eye Mode | False |
| Flash Return | No return detection |
| Focal Length In 35mm Format | 52 mm |
| Gain Control | Low gain up |
| Green Hue | 0 |
| Green Saturation | 0 |
| Has Crop | False |
| Has Settings | True |
| Highlight Recovery | 0 |
| Hue Adjustment Aqua | 0 |
| Hue Adjustment Blue | 0 |
| Hue Adjustment Green | 0 |
| Hue Adjustment Magenta | 0 |
| Hue Adjustment Orange | 0 |
| Hue Adjustment Purple | 0 |
| Hue Adjustment Red | 0 |
| Hue Adjustment Yellow | 0 |
| Hyperfocal Distance | 10.82 m |
| ISO | 400 |
| Image Number | 17089 |
| Image Size | 1200x797 |
| Lens | 35.0 mm f/1.8 |
| Lens ID | AF-S DX Nikkor 35mm f/1.8G |
| Lens Info | 35mm f/1.8 |
| Light Source | Fine Weather |
| Light Value | 10.9 |
| Luminance Adjustment Aqua | 0 |
| Luminance Adjustment Blue | 0 |
| Luminance Adjustment Green | 0 |
| Luminance Adjustment Magenta | 0 |
| Luminance Adjustment Orange | 0 |
| Luminance Adjustment Purple | 0 |
| Luminance Adjustment Red | 0 |
| Luminance Adjustment Yellow | 0 |
| Luminance Smoothing | 0 |
| Metering Mode | Multi-segment |
| Parametric Darks | 0 |
| Parametric Highlight Split | 75 |
| Parametric Highlights | +3 |
| Parametric Lights | +10 |
| Parametric Midtone Split | 50 |
| Parametric Shadow Split | 25 |
| Parametric Shadows | -12 |
| Post Crop Vignette Amount | 0 |
| Red Hue | 0 |
| Red Saturation | 0 |
| Saturation | 0 |
| Saturation Adjustment Aqua | 0 |
| Saturation Adjustment Blue | 0 |
| Saturation Adjustment Green | 0 |
| Saturation Adjustment Magenta | 0 |
| Saturation Adjustment Orange | 0 |
| Saturation Adjustment Purple | 0 |
| Saturation Adjustment Red | 0 |
| Saturation Adjustment Yellow | 0 |
| Scale Factor To 35 mm Equivalent | 1.5 |
| Scene Capture Type | Standard |
| Scene Type | Directly photographed |
| Sensing Method | One-chip color area |
| Shadow Tint | 0 |
| Shadows | 5 |
| Sharpen Detail | 25 |
| Sharpen Edge Masking | 0 |
| Sharpen Radius | +1.0 |
| Sharpness | 25 |
| Split Toning Balance | 0 |
| Split Toning Highlight Hue | 0 |
| Split Toning Highlight Saturation | 0 |
| Split Toning Shadow Hue | 0 |
| Split Toning Shadow Saturation | 0 |
| Subject | F-Treffen |
| Subject Distance | 4294967295 m |
| Subject Distance Range | Unknown |
| Tint | +1 |
| Title | F! |
| Tone Curve | 0, 0, 32, 22, 64, 56, 128, 128, 192, 196, 255, 255 |
| Tone Curve Name | Medium Contrast |
| User Comment | by LGW, lgw@dark-reality.de |
| Version | 5.7 |
| Vibrance | 0 |
| Vignette Amount | 0 |
| White Balance | As Shot |
X