Shooting information for this photo
Camera: | Canon EOS 350D DIGITAL |
Exposure: | 0.025 sec. (1/40) |
Aperture: | f/4.0 |
Focal Length: | 18.0 mm (35 mm equivalent: 29.2 mm) |
Flash: | Off, Did not fire |
Exposure mode: | Program AE |
Max Aperture: | 3.5 |
Resolution: | 96 x 96 dpi |
Original Date: | 2006:09:27 16:53:17 |
Digitized Date: | 2006:09:27 16:53:17+01:00 |
Created on: | 2006:09:27 16:53:17 |
Modified on: | 2007:08:06 20:58:37 |
Already Applied | True |
Artist | unknown |
Blue Hue | 0 |
Blue Saturation | 0 |
Brightness | +50 |
Camera Profile | ACR 3.1 |
Chromatic Aberration B | 0 |
Chromatic Aberration R | 0 |
Circle Of Confusion | 0.019 mm |
Clarity | 0 |
Color Noise Reduction | 25 |
Color Temperature | 4050 |
Contrast | 0 |
Convert To Grayscale | False |
Creator | unknown |
Custom Rendered | Normal |
Defringe | 0 |
Exposure | 0.00 |
Exposure Compensation | +1/3 |
Exposure Mode | Auto |
Field Of View | 63.3 deg |
Fill Light | 0 |
Firmware | 1.0.3 |
Flash Compensation | -0.333333333333333 |
Flash Fired | False |
Flash Function | False |
Flash Mode | Off |
Flash Red Eye Mode | False |
Flash Return | No return detection |
Green Hue | 0 |
Green Saturation | 0 |
Has Crop | False |
Has Settings | True |
Highlight Recovery | 0 |
Hue Adjustment Aqua | 0 |
Hue Adjustment Blue | 0 |
Hue Adjustment Green | 0 |
Hue Adjustment Magenta | 0 |
Hue Adjustment Orange | 0 |
Hue Adjustment Purple | 0 |
Hue Adjustment Red | 0 |
Hue Adjustment Yellow | 0 |
Hyperfocal Distance | 4.37 m |
ISO | 1600 |
Image Number | 84 |
Image Size | 2048x1365 |
Lens | 18.0-55.0 mm |
Lens Info | 18-55mm f/? |
Light Value | 5.3 |
Luminance Adjustment Aqua | 0 |
Luminance Adjustment Blue | 0 |
Luminance Adjustment Green | 0 |
Luminance Adjustment Magenta | 0 |
Luminance Adjustment Orange | 0 |
Luminance Adjustment Purple | 0 |
Luminance Adjustment Red | 0 |
Luminance Adjustment Yellow | 0 |
Luminance Smoothing | 0 |
Metering Mode | Partial |
Owner Name | unknown |
Parametric Darks | -15 |
Parametric Highlight Split | 75 |
Parametric Highlights | +8 |
Parametric Lights | +15 |
Parametric Midtone Split | 50 |
Parametric Shadow Split | 25 |
Parametric Shadows | -30 |
Red Hue | 0 |
Red Saturation | 0 |
Saturation | 0 |
Saturation Adjustment Aqua | 0 |
Saturation Adjustment Blue | 0 |
Saturation Adjustment Green | 0 |
Saturation Adjustment Magenta | 0 |
Saturation Adjustment Orange | 0 |
Saturation Adjustment Purple | 0 |
Saturation Adjustment Red | 0 |
Saturation Adjustment Yellow | 0 |
Scale Factor To 35 mm Equivalent | 1.6 |
Scene Capture Type | Standard |
Shadow Tint | 0 |
Shadows | 5 |
Sharpen Detail | 25 |
Sharpen Edge Masking | 0 |
Sharpen Radius | +1.0 |
Sharpness | 25 |
Split Toning Balance | 0 |
Split Toning Highlight Hue | 0 |
Split Toning Highlight Saturation | 0 |
Split Toning Shadow Hue | 0 |
Split Toning Shadow Saturation | 0 |
Time Zone Offset | 1 1 |
Tint | +12 |
Tone Curve | 0, 0, 32, 22, 64, 56, 128, 128, 192, 196, 255, 255 |
Tone Curve Name | Medium Contrast |
Version | 1.0 |
Vibrance | 0 |
Vignette Amount | 0 |
White Balance | Auto |