Shooting information for this photo
| Camera: | NIKON CORPORATION NIKON 1 V1 |
| Exposure: | 0.01 sec. (1/100) |
| Aperture: | f/6.3 |
| Focal Length: | 110.0 mm (35 mm equivalent: 297.0 mm) |
| Flash: | No Flash |
| Exposure mode: | Aperture-priority AE |
| Max Aperture: | 5.7 |
| Resolution: | 240 x 240 dpi |
| Original Date: | 2015:02:23 15:53:24.00 |
| Created on: | 2015:02:23 15:53:24.00 |
| Modified on: | 2015:02:23 19:04:54 |
| Software: | Adobe Photoshop Lightroom 5.7 (Macintosh) |
| Copyright: | Keith Burton |
| Already Applied | True |
| Approximate Focus Distance | 15 |
| Artist | Keith Burton |
| Auto Lateral CA | 0 |
| Auto White Version | 134348800 |
| Blacks 2012 | 0 |
| Blue Hue | 0 |
| Blue Saturation | 0 |
| Camera Profile | Adobe Standard |
| Circle Of Confusion | 0.011 mm |
| Clarity 2012 | +28 |
| Color Noise Reduction | 25 |
| Color Noise Reduction Detail | 50 |
| Color Noise Reduction Smoothness | 50 |
| Color Temperature | 4800 |
| Contrast | Normal |
| Contrast 2012 | 0 |
| Convert To Grayscale | False |
| Creator | Keith Burton |
| Crop Angle | 0 |
| Crop Bottom | 1 |
| Crop Constrain To Warp | 0 |
| Crop Left | 0.124193 |
| Crop Right | 1 |
| Crop Top | 0 |
| Custom Rendered | Normal |
| Date Created | 2015:02:23 15:53:24.00 |
| Defringe Green Amount | 0 |
| Defringe Green Hue Hi | 60 |
| Defringe Green Hue Lo | 40 |
| Defringe Purple Amount | 0 |
| Defringe Purple Hue Hi | 70 |
| Defringe Purple Hue Lo | 30 |
| Digital Zoom Ratio | 1 |
| Exposure 2012 | 0.00 |
| Exposure Compensation | 0 |
| Exposure Mode | Auto |
| Field Of View | 6.9 deg |
| Focal Length In 35mm Format | 297 mm |
| Format | image/jpeg |
| Gain Control | Low gain up |
| Grain Amount | 0 |
| Green Hue | 0 |
| Green Saturation | 0 |
| Has Crop | True |
| Has Settings | True |
| Highlights 2012 | -79 |
| Hue Adjustment Aqua | 0 |
| Hue Adjustment Blue | 0 |
| Hue Adjustment Green | 0 |
| Hue Adjustment Magenta | 0 |
| Hue Adjustment Orange | 0 |
| Hue Adjustment Purple | 0 |
| Hue Adjustment Red | 0 |
| Hue Adjustment Yellow | 0 |
| Hyperfocal Distance | 172.59 m |
| ISO | 800 |
| Image Number | 7266 |
| Image Size | 764x1000 |
| Label | Red |
| Lens | 1 NIKKOR VR 30-110mm f/3.8-5.6 |
| Lens Info | 30-110mm f/3.8-5.6 |
| Lens Manual Distortion Amount | 0 |
| Lens Model | 1 NIKKOR VR 30-110mm f/3.8-5.6 |
| Lens Profile Enable | 0 |
| Lens Profile Setup | LensDefaults |
| Light Source | Unknown |
| Light Value | 9.0 |
| Luminance Adjustment Aqua | 0 |
| Luminance Adjustment Blue | 0 |
| Luminance Adjustment Green | 0 |
| Luminance Adjustment Magenta | 0 |
| Luminance Adjustment Orange | 0 |
| Luminance Adjustment Purple | 0 |
| Luminance Adjustment Red | 0 |
| Luminance Adjustment Yellow | 0 |
| Luminance Smoothing | 0 |
| Metering Mode | Multi-segment |
| Parametric Darks | 0 |
| Parametric Highlight Split | 75 |
| Parametric Highlights | 0 |
| Parametric Lights | 0 |
| Parametric Midtone Split | 50 |
| Parametric Shadow Split | 25 |
| Parametric Shadows | 0 |
| Perspective Aspect | 0 |
| Perspective Horizontal | 0 |
| Perspective Rotate | 0.0 |
| Perspective Scale | 100 |
| Perspective Upright | 0 |
| Perspective Vertical | 0 |
| Post Crop Vignette Amount | 0 |
| Process Version | 6.7 |
| Red Hue | 0 |
| Red Saturation | 0 |
| Rights | Keith Burton |
| Saturation | Normal |
| Saturation Adjustment Aqua | 0 |
| Saturation Adjustment Blue | 0 |
| Saturation Adjustment Green | 0 |
| Saturation Adjustment Magenta | 0 |
| Saturation Adjustment Orange | 0 |
| Saturation Adjustment Purple | 0 |
| Saturation Adjustment Red | 0 |
| Saturation Adjustment Yellow | 0 |
| Scale Factor To 35 mm Equivalent | 2.7 |
| Scene Capture Type | Standard |
| Scene Type | Directly photographed |
| Sensing Method | One-chip color area |
| Sensitivity Type | Recommended Exposure Index |
| Shadow Tint | 0 |
| Shadows 2012 | 0 |
| Sharpen Detail | 25 |
| Sharpen Edge Masking | 0 |
| Sharpen Radius | +1.0 |
| Sharpness | Normal |
| Split Toning Balance | 0 |
| Split Toning Highlight Hue | 0 |
| Split Toning Highlight Saturation | 0 |
| Split Toning Shadow Hue | 0 |
| Split Toning Shadow Saturation | 0 |
| Subject Distance Range | Unknown |
| Tint | +5 |
| Tone Curve | 0, 0, 255, 255 |
| Tone Curve Blue | 0, 0, 255, 255 |
| Tone Curve Green | 0, 0, 255, 255 |
| Tone Curve Name | Linear |
| Tone Curve Name 2012 | Linear |
| Tone Curve PV2012 | 0, 0, 255, 255 |
| Tone Curve PV2012 Blue | 0, 0, 255, 255 |
| Tone Curve PV2012 Green | 0, 0, 255, 255 |
| Tone Curve PV2012 Red | 0, 0, 255, 255 |
| Tone Curve Red | 0, 0, 255, 255 |
| Version | 8.7 |
| Vibrance | 0 |
| Vignette Amount | 0 |
| White Balance | Auto |
| Whites 2012 | 0 |
X