Shooting information for this photo
| Camera: | Canon EOS 5DS R |
| Exposure: | 0.004 sec. (1/250) |
| Aperture: | f/4.0 |
| Focal Length: | 28.0 mm (35 mm equivalent: 132.7 mm) |
| Flash: | Off, Did not fire |
| Exposure mode: | Shutter speed priority AE |
| Max Aperture: | 2.8 |
| Resolution: | 350 x 350 dpi |
| Dimension: | 1920 x 1080 pixels |
| Original Date: | 2026:01:08 10:08:10.00 |
| Created on: | 2026:01:08 10:08:10.00 |
| Modified on: | 2026:01:08 11:44:01 |
| Software: | Adobe Photoshop 27.3 (20251221.m.3348 0256c3c) (Windows) |
| Copyright: | © Jean Vernet, Montreux |
| Already Applied | True |
| Approximate Focus Distance | 4294967295 |
| Artist | Jean Vernet.Montreux |
| Authors Position | Arrivée à Montreux du M/S Italie en course de formation |
| Auto Lateral CA | 0 |
| Blacks 2012 | 0 |
| Blue Hue | 0 |
| Blue Saturation | 0 |
| Camera Profile | Canon EOS 5DS R |
| Circle Of Confusion | 0.006 mm |
| Clarity 2012 | 0 |
| Color Grade Blending | 50 |
| Color Grade Global Hue | 0 |
| Color Grade Global Lum | 0 |
| Color Grade Global Sat | 0 |
| Color Grade Highlight Lum | 0 |
| Color Grade Midtone Hue | 0 |
| Color Grade Midtone Lum | 0 |
| Color Grade Midtone Sat | 0 |
| Color Grade Shadow Lum | 0 |
| Color Mode | RGB |
| Color Noise Reduction | 25 |
| Color Noise Reduction Detail | 50 |
| Color Noise Reduction Smoothness | 50 |
| Color Space | sRGB |
| Color Temperature | 6750 |
| Color Variance | -50.000000 |
| Contrast 2012 | 0 |
| Convert To Grayscale | False |
| Creator | Jean Vernet.Montreux |
| Crop Angle | 1.126061 |
| Crop Bottom | 1 |
| Crop Constrain To Unit Square | 1 |
| Crop Constrain To Warp | 0 |
| Crop Left | 0.020684 |
| Crop Right | 0.979316 |
| Crop Top | 0 |
| Custom Rendered | Normal |
| Date Created | 2026:01:08 10:08:10+01:00 |
| Defringe Green Amount | 0 |
| Defringe Green Hue Hi | 60 |
| Defringe Green Hue Lo | 40 |
| Defringe Purple Amount | 0 |
| Defringe Purple Hue Hi | 70 |
| Defringe Purple Hue Lo | 30 |
| Dehaze | +19 |
| Distortion Correction Already Applied | True |
| Exposure 2012 | 0.00 |
| Exposure Compensation | +1/3 |
| Exposure Mode | Auto |
| Field Of View | 15.4 deg |
| Firmware | 1.1.4 |
| Flash Compensation | 0 |
| Format | image/jpeg |
| Grain Amount | 0 |
| Green Hue | 0 |
| Green Saturation | 0 |
| HDR Edit Mode | 0 |
| Has Crop | True |
| Has Settings | True |
| Highlights 2012 | 0 |
| Hue Adjustment Aqua | 0 |
| Hue Adjustment Blue | 0 |
| Hue Adjustment Green | 0 |
| Hue Adjustment Magenta | 0 |
| Hue Adjustment Orange | 0 |
| Hue Adjustment Purple | 0 |
| Hue Adjustment Red | 0 |
| Hue Adjustment Yellow | 0 |
| Hyperfocal Distance | 30.92 m |
| ICC Profile Name | sRGB IEC61966-2.1 |
| ISO | 200 |
| Image Number | 0 |
| Image Size | 1920x1080 |
| Label | OK pour TIF |
| Label Color | red |
| Lens | EF16-35mm f/2.8L III USM |
| Lens ID | Canon EF16-35mm f/2.8L III USM |
| Lens Info | 16-35mm f/? |
| Lens Manual Distortion Amount | 0 |
| Lens Model | EF16-35mm f/2.8L III USM |
| Lens Profile Distortion Scale | 100 |
| Lens Profile Enable | 1 |
| Lens Profile Filename | Canon (Canon EF 16-35mm f2.8L III USM) - RAW.lcp |
| Lens Profile Is Embedded | False |
| Lens Profile Name | Adobe (Canon EF 16-35mm f/2.8L III USM) |
| Lens Profile Setup | LensDefaults |
| Lens Profile Vignetting Scale | 100 |
| Light Value | 11.0 |
| Luminance Adjustment Aqua | 0 |
| Luminance Adjustment Blue | 0 |
| Luminance Adjustment Green | 0 |
| Luminance Adjustment Magenta | 0 |
| Luminance Adjustment Orange | 0 |
| Luminance Adjustment Purple | 0 |
| Luminance Adjustment Red | 0 |
| Luminance Adjustment Yellow | 0 |
| Luminance Smoothing | 0 |
| Marked | True |
| Metering Mode | Multi-segment |
| Override Look Vignette | False |
| Parametric Darks | 0 |
| Parametric Highlight Split | 75 |
| Parametric Highlights | 0 |
| Parametric Lights | 0 |
| Parametric Midtone Split | 50 |
| Parametric Shadow Split | 25 |
| Parametric Shadows | 0 |
| Perspective Aspect | 0 |
| Perspective Horizontal | 0 |
| Perspective Rotate | 0.0 |
| Perspective Scale | 100 |
| Perspective Upright | 0 |
| Perspective Vertical | 0 |
| Perspective X | 0.00 |
| Perspective Y | 0.00 |
| Point Colors | -1.000000, -1.000000, -1.000000, -1.000000, -1.000000, -1.000000, -1.000000, -1.000000, -1.000000, -1.000000, -1.000000, -1.000000, -1.000000, -1.000000, -1.000000, -1.000000, -1.000000, -1.000000, -1.000000 |
| Post Crop Vignette Amount | 0 |
| Process Version | 15.4 |
| Rating | 1 |
| Raw File Name | 260108_It_Montreux_3.DNG |
| Recommended Exposure Index | 200 |
| Red Hue | 0 |
| Red Saturation | 0 |
| Rights | © Jean Vernet, Montreux |
| Saturation | 0 |
| Saturation Adjustment Aqua | 0 |
| Saturation Adjustment Blue | 0 |
| Saturation Adjustment Green | 0 |
| Saturation Adjustment Magenta | 0 |
| Saturation Adjustment Orange | 0 |
| Saturation Adjustment Purple | 0 |
| Saturation Adjustment Red | 0 |
| Saturation Adjustment Yellow | 0 |
| Scale Factor To 35 mm Equivalent | 4.7 |
| Scene Capture Type | Standard |
| Sensitivity Type | Recommended Exposure Index |
| Shadow Tint | 0 |
| Shadows 2012 | +35 |
| Sharpen Detail | 25 |
| Sharpen Edge Masking | 0 |
| Sharpen Radius | +1.0 |
| Sharpness | 40 |
| Split Toning Balance | 0 |
| Split Toning Highlight Hue | 0 |
| Split Toning Highlight Saturation | 0 |
| Split Toning Shadow Hue | 0 |
| Split Toning Shadow Saturation | 0 |
| Subject | CGN.Montreux, Italie |
| Texture | 0 |
| Tint | +17 |
| Tone Curve Name 2012 | Linear |
| Tone Curve PV2012 | 0, 0, 255, 255 |
| Tone Curve PV2012 Blue | 0, 0, 255, 255 |
| Tone Curve PV2012 Green | 0, 0, 255, 255 |
| Tone Curve PV2012 Red | 0, 0, 255, 255 |
| Version | 18.1.1 |
| Vibrance | 0 |
| Vignette Amount | 0 |
| Vignette Correction Already Applied | True |
| White Balance | Auto |
| Whites 2012 | +24 |
X