Shooting information for this photo
| Camera: | Canon EOS 5D |
| Exposure: | 0.005 sec. (1/200) |
| Aperture: | f/10.0 |
| Focal Length: | 40.0 mm (35 mm equivalent: 40.1 mm) |
| Flash: | Off, Did not fire |
| Exposure mode: | Aperture-priority AE |
| Max Aperture: | 4.0 |
| Resolution: | 240 x 240 dpi |
| Dimension: | 800 x 1200 pixels |
| Original Date: | 2011:09:03 09:03:32 |
| Created on: | 2011:09:03 09:03:32 |
| Modified on: | 2016:03:13 10:17:46 |
| Software: | Adobe Photoshop CS6 (Windows) |
| Copyright: | Jean Vernet, Montreux |
| Already Applied | True |
| Artist | Jean Vernet |
| Authors Position | Photographe |
| Blue Hue | 0 |
| Blue Saturation | 0 |
| Brightness | +42 |
| Camera Profile | Canon EOS 5D_4850K |
| Chromatic Aberration B | 0 |
| Chromatic Aberration R | 0 |
| Circle Of Confusion | 0.030 mm |
| Clarity | +47 |
| Color Mode | RGB |
| Color Noise Reduction | 25 |
| Color Noise Reduction Detail | 50 |
| Color Space | sRGB |
| Color Temperature | 5200 |
| Contrast | +51 |
| Convert To Grayscale | False |
| Creator | Jean Vernet |
| Crop Angle | 0.183248 |
| Crop Bottom | 1 |
| Crop Constrain To Warp | 1 |
| Crop Left | 0.003448 |
| Crop Right | 0.996552 |
| Crop Top | 0 |
| Custom Rendered | Normal |
| Defringe | 0 |
| Description | S/S La Suisse à Ouchy GL1 avant la course 200 |
| Exposure | 0.00 |
| Exposure Compensation | 0 |
| Exposure Mode | Auto |
| Field Of View | 48.4 deg |
| Fill Light | 0 |
| Firmware | 1.1.1 |
| Flash Compensation | 0 |
| Format | image/jpeg |
| Grain Amount | 0 |
| Green Hue | 0 |
| Green Saturation | 0 |
| Has Crop | True |
| Has Settings | True |
| Highlight Recovery | 26 |
| Hue Adjustment Aqua | 0 |
| Hue Adjustment Blue | 0 |
| Hue Adjustment Green | 0 |
| Hue Adjustment Magenta | 0 |
| Hue Adjustment Orange | 0 |
| Hue Adjustment Purple | 0 |
| Hue Adjustment Red | 0 |
| Hue Adjustment Yellow | 0 |
| Hyperfocal Distance | 5.34 m |
| ICC Profile Name | sRGB IEC61966-2.1 |
| ISO | 100 |
| Image Description | S/S La Suisse à Ouchy GL1 avant la course 200 |
| Image Number | 2 |
| Image Size | 800x1200 |
| Label | Vérification |
| Lens | EF17-40mm f/4L USM |
| Lens ID | Canon EF 17-40mm f/4L |
| Lens Info | 17-40mm f/? |
| Lens Manual Distortion Amount | 0 |
| Lens Model | EF17-40mm f/4L USM |
| Lens Profile Chromatic Aberration Scale | 100 |
| Lens Profile Distortion Scale | 100 |
| Lens Profile Enable | 1 |
| Lens Profile Filename | Canon EOS-1Ds Mark III (Canon EF 17-40mm f4 L USM) - RAW.lcp |
| Lens Profile Name | Adobe (Canon EF 17-40mm f/4 L USM) |
| Lens Profile Setup | LensDefaults |
| Lens Profile Vignetting Scale | 100 |
| Light Value | 14.3 |
| Luminance Adjustment Aqua | 0 |
| Luminance Adjustment Blue | 0 |
| Luminance Adjustment Green | 0 |
| Luminance Adjustment Magenta | 0 |
| Luminance Adjustment Orange | 0 |
| Luminance Adjustment Purple | 0 |
| Luminance Adjustment Red | 0 |
| Luminance Adjustment Yellow | 0 |
| Luminance Smoothing | 0 |
| Marked | True |
| Metering Mode | Multi-segment |
| Parametric Darks | 0 |
| Parametric Highlight Split | 75 |
| Parametric Highlights | 0 |
| Parametric Lights | 0 |
| Parametric Midtone Split | 50 |
| Parametric Shadow Split | 25 |
| Parametric Shadows | 0 |
| Perspective Horizontal | 0 |
| Perspective Rotate | 0.0 |
| Perspective Scale | 100 |
| Perspective Vertical | 0 |
| Photometric Interpretation | RGB |
| Planar Configuration | Chunky |
| Post Crop Vignette Amount | 0 |
| Process Version | 5.7 |
| Raw File Name | 110903_Ss_Ouchy_C.DNG |
| Red Hue | 0 |
| Red Saturation | 0 |
| Rights | Jean Vernet, Montreux |
| Samples Per Pixel | 3 |
| Saturation | 0 |
| Saturation Adjustment Aqua | 0 |
| Saturation Adjustment Blue | 0 |
| Saturation Adjustment Green | 0 |
| Saturation Adjustment Magenta | 0 |
| Saturation Adjustment Orange | 0 |
| Saturation Adjustment Purple | 0 |
| Saturation Adjustment Red | 0 |
| Saturation Adjustment Yellow | 0 |
| Scale Factor To 35 mm Equivalent | 1.0 |
| Scene Capture Type | Standard |
| Shadow Tint | 0 |
| Shadows | 2 |
| Sharpen Detail | 25 |
| Sharpen Edge Masking | 0 |
| Sharpen Radius | +1.0 |
| Sharpness | 0 |
| Split Toning Balance | 0 |
| Split Toning Highlight Hue | 0 |
| Split Toning Highlight Saturation | 0 |
| Split Toning Shadow Hue | 0 |
| Split Toning Shadow Saturation | 0 |
| Subject | CGN, La Suisse, Ouchy |
| Tint | +6 |
| Tone Curve | 0, 0, 32, 22, 64, 56, 128, 128, 192, 196, 255, 255 |
| Tone Curve Name | Medium Contrast |
| Version | 6.4.1 |
| Vibrance | +49 |
| Vignette Amount | 0 |
| White Balance | Auto |
X