Shooting information for this photo
| Camera: | Canon EOS 5D |
| Exposure: | 0.0005 sec. (1/2000) |
| Aperture: | f/3.2 |
| Focal Length: | 200.0 mm (35 mm equivalent: 200.4 mm) |
| Flash: | Off, Did not fire |
| Exposure mode: | Shutter speed priority AE |
| Max Aperture: | 2.8 |
| Resolution: | 240 x 240 dpi |
| Dimension: | 800 x 1200 pixels |
| Original Date: | 2009:07:26 12:18:41 |
| Created on: | 2009:07:26 18:08:09 |
| Modified on: | 2016:03:25 17:15:45 |
| Software: | Adobe Photoshop CS6 (Windows) |
| Copyright: | © Jean Vernet, Montreux |
| Already Applied | True |
| Artist | Jean Vernet |
| Blue Hue | 0 |
| Blue Saturation | 0 |
| Body Serial Number | 730505687 |
| Brightness | +49 |
| Camera Profile | ACR 4.4 |
| Caption Writer | Jean Vernet |
| Chromatic Aberration B | 0 |
| Chromatic Aberration R | 0 |
| Circle Of Confusion | 0.030 mm |
| Clarity | +8 |
| Color Mode | RGB |
| Color Noise Reduction | 25 |
| Color Space | sRGB |
| Color Temperature | 5700 |
| Contrast | +50 |
| Convert To Grayscale | False |
| Creator | Jean Vernet |
| Crop Angle | 0 |
| Crop Bottom | 0.823944 |
| Crop Left | 0.21831 |
| Crop Right | 0.998826 |
| Crop Top | 0.003521 |
| Custom Rendered | Normal |
| Date Created | 2009:07:26 12:18:41+02:00 |
| Defringe | 0 |
| Description | Croisement du M/S Général-Guisan en course 934 et de la galère LA LIBERTE près de Montreux, vu de AS34 |
| Exposure | 0.00 |
| Exposure Compensation | 0 |
| Exposure Mode | Auto |
| Field Of View | 10.3 deg |
| Fill Light | 14 |
| Firmware | 1.1.0 |
| Flash Compensation | 0 |
| Format | image/jpeg |
| Green Hue | 0 |
| Green Saturation | 0 |
| Has Crop | True |
| Has Settings | True |
| Headline | Croisement du M/S Général-Guisan en course 934 et de la galère LA LIBERTE près de Montreux, vu de AS34 |
| Highlight Recovery | 18 |
| Hue Adjustment Aqua | 0 |
| Hue Adjustment Blue | 0 |
| Hue Adjustment Green | 0 |
| Hue Adjustment Magenta | 0 |
| Hue Adjustment Orange | 0 |
| Hue Adjustment Purple | 0 |
| Hue Adjustment Red | 0 |
| Hue Adjustment Yellow | 0 |
| Hyperfocal Distance | 416.89 m |
| ICC Profile Name | sRGB IEC61966-2.1 |
| ISO | 100 |
| Image Description | Croisement du M/S Général-Guisan en course 934 et de la galère LA LIBERTE près de Montreux, vu de AS34 |
| Image Number | 1 |
| Image Size | 800x1200 |
| Label | TIFF OK |
| Lens | EF200mm f/2.8L USM |
| Lens Info | 200mm f/? |
| Lens Model | EF200mm f/2.8L USM |
| Lens Specification | 200, 200, undef, undef |
| Light Value | 14.3 |
| Luminance Adjustment Aqua | 0 |
| Luminance Adjustment Blue | 0 |
| Luminance Adjustment Green | 0 |
| Luminance Adjustment Magenta | 0 |
| Luminance Adjustment Orange | 0 |
| Luminance Adjustment Purple | 0 |
| Luminance Adjustment Red | 0 |
| Luminance Adjustment Yellow | 0 |
| Luminance Smoothing | 0 |
| Marked | True |
| Metering Mode | Multi-segment |
| Parametric Darks | 0 |
| Parametric Highlight Split | 75 |
| Parametric Highlights | 0 |
| Parametric Lights | 0 |
| Parametric Midtone Split | 50 |
| Parametric Shadow Split | 25 |
| Parametric Shadows | 0 |
| Photographic Sensitivity | 100 |
| Photometric Interpretation | RGB |
| Planar Configuration | Chunky |
| Post Crop Vignette Amount | 0 |
| Rating | 1 |
| Raw File Name | 090726_GG_galere_Montreux.DNG |
| Red Hue | 0 |
| Red Saturation | 0 |
| Rights | © Jean Vernet, Montreux |
| Samples Per Pixel | 3 |
| Saturation | +19 |
| Saturation Adjustment Aqua | 0 |
| Saturation Adjustment Blue | 0 |
| Saturation Adjustment Green | 0 |
| Saturation Adjustment Magenta | 0 |
| Saturation Adjustment Orange | 0 |
| Saturation Adjustment Purple | 0 |
| Saturation Adjustment Red | 0 |
| Saturation Adjustment Yellow | 0 |
| Scale Factor To 35 mm Equivalent | 1.0 |
| Scene Capture Type | Standard |
| Shadow Tint | 0 |
| Shadows | 0 |
| Sharpen Detail | 25 |
| Sharpen Edge Masking | 0 |
| Sharpen Radius | +1.0 |
| Sharpness | 0 |
| Split Toning Balance | 0 |
| Split Toning Highlight Hue | 0 |
| Split Toning Highlight Saturation | 0 |
| Split Toning Shadow Hue | 0 |
| Split Toning Shadow Saturation | 0 |
| Subject | CGN, Général-Guisan, galére, La Liberté, Montreux, AS34 |
| Tint | +16 |
| Tone Curve | 0, 0, 32, 22, 64, 56, 128, 128, 192, 196, 255, 255 |
| Tone Curve Name | Medium Contrast |
| Version | 4.6 |
| Vibrance | 0 |
| Vignette Amount | 0 |
| White Balance | Auto |
X