Shooting information for this photo
Camera: | PENTAX K-5 |
Exposure: | 0.002 sec. (1/500) |
Aperture: | f/8.0 |
Focal Length: | 32.5 mm (35 mm equivalent: 49.0 mm) |
Flash: | Off, Did not fire |
Exposure mode: | Not Defined |
Resolution: | 240 x 240 dpi |
Original Date: | 2018:05:13 10:30:08 |
Created on: | 2018:05:13 10:30:08 |
Modified on: | 2019:11:18 15:11:37 |
Software: | Adobe Photoshop Lightroom 3.6 (Windows) |
Copyright: | John Sheldon |
Already Applied | True |
Approximate Focus Distance | 8 |
Artist | John Sheldon |
Blue Hue | 0 |
Blue Saturation | 0 |
Brightness | +50 |
Camera Profile | Adobe Standard |
Chromatic Aberration B | 0 |
Chromatic Aberration R | 0 |
Circle Of Confusion | 0.020 mm |
Clarity | 0 |
Color Noise Reduction | 25 |
Color Noise Reduction Detail | 50 |
Color Temperature | 5678 |
Contrast | Normal |
Convert To Grayscale | False |
Creator | John Sheldon |
Crop Angle | 0 |
Crop Bottom | 1 |
Crop Constrain To Warp | 0 |
Crop Height | 3252 |
Crop Left | 0.007186 |
Crop Right | 0.99521 |
Crop Top | 0.003616 |
Crop Unit | pixels |
Crop Width | 4869 |
Custom Rendered | Normal |
Date Created | 2018:05:13 10:30:08 |
Defringe | 0 |
Exposure | +1.20 |
Exposure Compensation | -1/2 |
Exposure Mode | Manual |
Field Of View | 40.3 deg |
Fill Light | 0 |
Focal Length In 35mm Format | 49 mm |
Format | image/jpeg |
Grain Amount | 0 |
Green Hue | 0 |
Green Saturation | 0 |
Has Crop | True |
Has Settings | True |
Highlight Recovery | 0 |
Hue Adjustment Aqua | -1 |
Hue Adjustment Blue | -8 |
Hue Adjustment Green | 0 |
Hue Adjustment Magenta | 0 |
Hue Adjustment Orange | -1 |
Hue Adjustment Purple | 0 |
Hue Adjustment Red | 0 |
Hue Adjustment Yellow | 0 |
Hyperfocal Distance | 6.63 m |
ISO | 80 |
Image Size | 3252x4869 |
Lens | smc PENTAX-DA 18-55mm F3.5-5.6 AL WR |
Lens ID | smc PENTAX-DA 18-55mm F3.5-5.6 AL WR |
Lens Info | 18-55mm f/3.5-5.6 |
Lens Manual Distortion Amount | 0 |
Lens Model | smc PENTAX-DA 18-55mm F3.5-5.6 AL WR |
Lens Profile Enable | 0 |
Lens Profile Setup | LensDefaults |
Light Value | 15.3 |
Luminance Adjustment Aqua | 0 |
Luminance Adjustment Blue | 0 |
Luminance Adjustment Green | 0 |
Luminance Adjustment Magenta | 0 |
Luminance Adjustment Orange | 0 |
Luminance Adjustment Purple | 0 |
Luminance Adjustment Red | 0 |
Luminance Adjustment Yellow | 0 |
Luminance Smoothing | 0 |
Metering Mode | Multi-segment |
Parametric Darks | 0 |
Parametric Highlight Split | 75 |
Parametric Highlights | 0 |
Parametric Lights | 0 |
Parametric Midtone Split | 50 |
Parametric Shadow Split | 25 |
Parametric Shadows | 0 |
Perspective Horizontal | 0 |
Perspective Rotate | 0.0 |
Perspective Scale | 100 |
Perspective Vertical | 0 |
Post Crop Vignette Amount | 0 |
Process Version | 5.7 |
Red Hue | 0 |
Red Saturation | 0 |
Rights | John Sheldon |
Saturation | Normal |
Saturation Adjustment Aqua | 0 |
Saturation Adjustment Blue | -1 |
Saturation Adjustment Green | -1 |
Saturation Adjustment Magenta | -1 |
Saturation Adjustment Orange | 0 |
Saturation Adjustment Purple | -1 |
Saturation Adjustment Red | 0 |
Saturation Adjustment Yellow | 0 |
Scale Factor To 35 mm Equivalent | 1.5 |
Scene Capture Type | Standard |
Sensing Method | One-chip color area |
Shadow Tint | 0 |
Shadows | 10 |
Sharpen Detail | 25 |
Sharpen Edge Masking | 0 |
Sharpen Radius | +1.0 |
Sharpness | Normal |
Split Toning Balance | 0 |
Split Toning Highlight Hue | 0 |
Split Toning Highlight Saturation | 0 |
Split Toning Shadow Hue | 0 |
Split Toning Shadow Saturation | 0 |
Subject Distance Range | Distant |
Tint | -2 |
Tone Curve | 0, 0, 20, 18, 129, 119, 255, 255 |
Tone Curve Name | Custom |
Version | 6.6 |
Vibrance | 0 |
Vignette Amount | 0 |
White Balance | Auto |