Shooting information for this photo
Camera: | NIKON CORPORATION NIKON D7100 |
Exposure: | 0.125 sec. (1/8) |
Aperture: | f/5.6 |
Focal Length: | 10.5 mm (35 mm equivalent: 10.0 mm) |
Flash: | Off, Did not fire |
Exposure mode: | Aperture-priority AE |
Max Aperture: | 2.8 |
Resolution: | 300 x 300 dpi |
Dimension: | 1920 x 1300 pixels |
Original Date: | 2013:06:07 13:18:15.9 |
Created on: | 2013:06:07 13:18:15.9 |
Modified on: | 2013:06:08 10:54:51.9 |
Software: | DxO PhotoLab 4.2 |
Copyright: | (C) Jean-Pierre Roche, tous droits réservés |
AF Aperture | 2.8 |
AF Area Mode | Single Area |
AF Fine Tune | Off |
AF Fine Tune Adj | 0 |
AF Fine Tune Index | n/a |
AF Info 2 Version | 0100 |
AF Points Used | B9 |
Active D-Lighting | Auto |
Already Applied | True |
Approximate Focus Distance | 4294967295 |
Artist | Jean-Pierre Roche |
Authors Position | journaliste _ photographe |
Auto Distortion Control | Off |
Auto Focus | On |
Auto Lateral CA | 1 |
Auto White Version | 134348800 |
Blacks 2012 | 0 |
Blue Balance | 2.003906 |
Blue Hue | 0 |
Blue Saturation | 0 |
Brightness | Normal |
CFA Pattern | [Red,Green][Green,Blue] |
Camera Profile | Adobe Standard |
Circle Of Confusion | 0.032 mm |
Clarity 2012 | +40 |
Color Balance Unknown | 0218.~Ù=w©%Äf³.x.íè.cßT QyÌN÷ËÊðEÅpJKwÎLùÑÔ. _ãknû[...] |
Color Noise Reduction | 15 |
Color Noise Reduction Detail | 50 |
Color Noise Reduction Smoothness | 50 |
Color Space | sRGB |
Contrast | Normal |
Contrast 2012 | 0 |
Contrast Detect AF | Off |
Contrast Detect AF In Focus | No |
Convert To Grayscale | False |
Creator | Jean-Pierre Roche |
Crop Angle | 0 |
Crop Bottom | 0.876494 |
Crop Constrain To Warp | 0 |
Crop Hi Speed | Off (6036x4020 cropped to 6036x4020 at pixel 0,0) |
Crop Left | 0.033201 |
Crop Right | 0.965471 |
Crop Top | 0 |
Custom Rendered | Normal |
Defringe Green Amount | 0 |
Defringe Green Hue Hi | 60 |
Defringe Green Hue Lo | 40 |
Defringe Purple Amount | 0 |
Defringe Purple Hue Hi | 70 |
Defringe Purple Hue Lo | 30 |
Depth Of Field | inf (0.43 m - inf) |
Digital Zoom Ratio | 1 |
Effective Max Aperture | 2.8 |
Exit Pupil Position | 73.1 mm |
Exposure 2012 | 0.00 |
Exposure Bracket Value | 0 |
Exposure Compensation | -1 |
Exposure Difference | 0 |
Exposure Mode | Auto |
Exposure Tuning | 0 |
Field Of View | 121.5 deg (4.76 m) |
Filter Effect | n/a |
Firmware Version | 1.00 |
Flash Mode | Did Not Fire |
Focal Length In 35mm Format | 10 mm |
Focus Distance | 1.33 m |
Focus Mode | AF-S |
Focus Position | 0x04 |
Format | image/jpeg |
Gain Control | High gain up |
Grain Amount | 0 |
Green Hue | 0 |
Green Saturation | 0 |
Has Crop | True |
Has Settings | True |
Hierarchical Subject | Centre-Val de Loire, France, Saint-Benoît-sur-Loire |
High ISO Noise Reduction | Normal |
Highlights 2012 | 0 |
Hue Adjustment | None |
Hue Adjustment Aqua | 0 |
Hue Adjustment Blue | 0 |
Hue Adjustment Green | 0 |
Hue Adjustment Magenta | 0 |
Hue Adjustment Orange | 0 |
Hue Adjustment Purple | 0 |
Hue Adjustment Red | 0 |
Hue Adjustment Yellow | 0 |
Hyperfocal Distance | 0.62 m |
ISO | 1600 |
ISO2 | 1600 |
ISO Expansion | Off |
ISO Expansion 2 | Off |
ISO Setting | 1600 |
Image Data Size | 11820101 |
Image Number | 2579 |
Image Size | 1920x1300 |
Incremental Temperature | 0 |
Incremental Tint | 0 |
Label | Vert |
Lens | 10.5mm f/2.8 G |
Lens Data Version | 0204 |
Lens F Stops | 6.00 |
Lens ID | AF DX Fisheye-Nikkor 10.5mm f/2.8G ED |
Lens ID Number | 128 |
Lens Info | 10.5mm f/2.8 |
Lens Manual Distortion Amount | 0 |
Lens Model | 10.5 mm f/2.8 |
Lens Profile Chromatic Aberration Scale | 100 |
Lens Profile Distortion Scale | 100 |
Lens Profile Enable | 1 |
Lens Profile Filename | NIKON D90 (Nikon DX 10.5mm f2.8 G ED).lcp |
Lens Profile Name | Adobe (Nikon AF DX Fisheye-Nikkor 10.5mm f/2.8G ED) |
Lens Profile Setup | LensDefaults |
Lens Profile Vignetting Scale | 100 |
Lens Type | G |
Light Source | Unknown |
Light Value | 4.0 |
Luminance Adjustment Aqua | 0 |
Luminance Adjustment Blue | 0 |
Luminance Adjustment Green | 0 |
Luminance Adjustment Magenta | 0 |
Luminance Adjustment Orange | 0 |
Luminance Adjustment Purple | 0 |
Luminance Adjustment Red | 0 |
Luminance Adjustment Yellow | 0 |
Luminance Noise Reduction Contrast | 0 |
Luminance Noise Reduction Detail | 50 |
Luminance Smoothing | 30 |
MCU Version | 133 |
Maker Note Version | 2.11 |
Max Aperture At Max Focal | 2.8 |
Max Aperture At Min Focal | 2.8 |
Max Focal Length | 10.6 mm |
Metering Mode | Multi-segment |
Min Focal Length | 10.6 mm |
Multi Exposure Auto Gain | Off |
Multi Exposure Mode | Off |
Multi Exposure Shots | 0 |
Multi Exposure Version | 0100 |
Noise Reduction | Off |
Parametric Darks | 0 |
Parametric Highlight Split | 75 |
Parametric Highlights | 0 |
Parametric Lights | 0 |
Parametric Midtone Split | 50 |
Parametric Shadow Split | 25 |
Parametric Shadows | 0 |
Perspective Aspect | 0 |
Perspective Horizontal | 0 |
Perspective Rotate | 0.0 |
Perspective Scale | 106 |
Perspective Upright | 0 |
Perspective Vertical | -68 |
Phase Detect AF | On (51-point) |
Picture Control Adjust | Default Settings |
Picture Control Base | Standard |
Picture Control Name | Standard |
Picture Control Quick Adjust | Normal |
Picture Control Version | 0100 |
Post Crop Vignette Amount | 0 |
Primary AF Point | B9 |
Process Version | 6.7 |
Program Shift | 0 |
Quality | Fine |
Rating | 3 |
Rating Percent | 50 |
Raw File Name | _7SC2568.JPG |
Red Balance | 1.011719 |
Red Hue | 0 |
Red Saturation | 0 |
Rights | (C) Jean-Pierre Roche, tous droits réservés |
Saturation | Normal |
Saturation Adjustment Aqua | 0 |
Saturation Adjustment Blue | 0 |
Saturation Adjustment Green | 0 |
Saturation Adjustment Magenta | 0 |
Saturation Adjustment Orange | 0 |
Saturation Adjustment Purple | 0 |
Saturation Adjustment Red | 0 |
Saturation Adjustment Yellow | 0 |
Scale Factor To 35 mm Equivalent | 1.0 |
Scene Capture Type | Standard |
Scene Type | Directly photographed |
Sensing Method | One-chip color area |
Sensitivity Type | Recommended Exposure Index |
Shadow Tint | 0 |
Shadows 2012 | 0 |
Sharpen Detail | 70 |
Sharpen Edge Masking | 20 |
Sharpen Radius | +1.5 |
Sharpness | Normal |
Shooting Mode | Single-Frame |
Shot Info Version | 0227 |
Shutter Count | 2579 |
Split Toning Balance | 0 |
Split Toning Highlight Hue | 0 |
Split Toning Highlight Saturation | 0 |
Split Toning Shadow Hue | 0 |
Split Toning Shadow Saturation | 0 |
Subject | Centre-Val de Loire, France, Saint-Benoît-sur-Loire |
Subject Distance | 1.33 m |
Subject Distance Range | Unknown |
Title | Abbaye de Saint-Benoît-sur-Loire |
Tone Curve | 0, 0, 255, 255 |
Tone Curve Blue | 0, 0, 255, 255 |
Tone Curve Green | 0, 0, 255, 255 |
Tone Curve Name | Linear |
Tone Curve Name 2012 | Linear |
Tone Curve PV2012 | 0, 0, 255, 255 |
Tone Curve PV2012 Blue | 0, 0, 255, 255 |
Tone Curve PV2012 Green | 0, 0, 255, 255 |
Tone Curve PV2012 Red | 0, 0, 255, 255 |
Tone Curve Red | 0, 0, 255, 255 |
Toning Effect | n/a |
Toning Saturation | n/a |
Usage Terms | Pour étude uniquement, reproduction interdite sans autorisation |
VR Info Version | 0100 |
Version | 8.7 |
Vibrance | +30 |
Vibration Reduction | Off |
Vignette Amount | 0 |
WB RB Levels | 1.01171875 2.00390625 1 1 |
White Balance | Auto1 |
White Balance Fine Tune | 0 0 |
Whites 2012 | 0 |
GPS Information |
GPS Latitude | 47 deg 48' 34.16" N |
GPS Latitude Ref | North |
GPS Longitude | 2 deg 18' 22.03" E |
GPS Longitude Ref | East |
GPS Map Datum | WGS-84 |
GPS Position | 47 deg 48' 34.16" N, 2 deg 18' 22.03" E |
GPS Version ID | 2.3.0.0 |