Shooting information for this photo
| Camera: | OLYMPUS IMAGING CORP. E-5 |
| Exposure: | 0.0125 sec. (1/80) |
| Aperture: | f/9.0 |
| Focal Length: | 148.0 mm (35 mm equivalent: 296.0 mm) |
| Flash: | On, Fired |
| Exposure mode: | Aperture-priority AE |
| Max Aperture: | 4.0 |
| Resolution: | 240 x 240 dpi |
| Dimension: | 1200 x 1303 pixels |
| Original Date: | 2013:06:11 15:03:00 |
| Created on: | 2013:06:11 15:03:00 |
| Modified on: | 2013:06:13 01:53:06 |
| Software: | Adobe Photoshop CS6 (Windows) |
| Copyright: | JIM FOWLER |
| Already Applied | True |
| Approximate Focus Distance | 0.67 |
| Artist | JIM FOWLER |
| Auto Lateral CA | 0 |
| Blacks 2012 | 0 |
| Blue Hue | 0 |
| Blue Saturation | 0 |
| CFA Pattern | [Blue,Green][Green,Red] |
| Camera Profile | Adobe Standard |
| Circle Of Confusion | 0.015 mm |
| Clarity 2012 | +19 |
| Color Mode | RGB |
| Color Noise Reduction | 25 |
| Color Noise Reduction Detail | 50 |
| Color Space | sRGB |
| Color Temperature | 5650 |
| Contrast | Normal |
| Contrast 2012 | -17 |
| Convert To Grayscale | False |
| Creator | JIM FOWLER |
| Custom Rendered | Normal |
| Date Created | 2013:06:11 15:03 |
| Defringe Green Amount | 0 |
| Defringe Green Hue Hi | 60 |
| Defringe Green Hue Lo | 40 |
| Defringe Purple Amount | 0 |
| Defringe Purple Hue Hi | 70 |
| Defringe Purple Hue Lo | 30 |
| Description | OLYMPUS DIGITAL CAMERA |
| Digital Zoom Ratio | 1 |
| Exposure 2012 | +0.10 |
| Exposure Compensation | -1.3 |
| Exposure Mode | Manual |
| Field Of View | 7.0 deg |
| Flash Compensation | 0 |
| Focal Length In 35mm Format | 296 mm |
| Format | image/jpeg |
| Gain Control | Low gain up |
| Grain Amount | 0 |
| Green Hue | 0 |
| Green Saturation | 0 |
| Has Crop | False |
| Has Settings | True |
| Highlights 2012 | -38 |
| Hue Adjustment Aqua | 0 |
| Hue Adjustment Blue | 0 |
| Hue Adjustment Green | 0 |
| Hue Adjustment Magenta | 0 |
| Hue Adjustment Orange | 0 |
| Hue Adjustment Purple | 0 |
| Hue Adjustment Red | 0 |
| Hue Adjustment Yellow | 0 |
| Hyperfocal Distance | 162.00 m |
| ICC Profile Name | sRGB IEC61966-2.1 |
| ISO | 200 |
| Image Description | OLYMPUS DIGITAL CAMERA |
| Image Size | 1200x1303 |
| Lens | SIGMA 105mm F2.8 MACRO |
| Lens Info | 105mm f/2.8 |
| Lens Manual Distortion Amount | 0 |
| Lens Model | SIGMA 105mm F2.8 MACRO |
| Lens Profile Enable | 0 |
| Lens Profile Setup | LensDefaults |
| Light Source | Unknown |
| Light Value | 11.7 |
| Luminance Adjustment Aqua | 0 |
| Luminance Adjustment Blue | 0 |
| Luminance Adjustment Green | 0 |
| Luminance Adjustment Magenta | 0 |
| Luminance Adjustment Orange | 0 |
| Luminance Adjustment Purple | 0 |
| Luminance Adjustment Red | 0 |
| Luminance Adjustment Yellow | 0 |
| Luminance Smoothing | 0 |
| Metering Mode | Multi-segment |
| Parametric Darks | 0 |
| Parametric Highlight Split | 75 |
| Parametric Highlights | 0 |
| Parametric Lights | 0 |
| Parametric Midtone Split | 50 |
| Parametric Shadow Split | 25 |
| Parametric Shadows | 0 |
| Perspective Horizontal | 0 |
| Perspective Rotate | 0.0 |
| Perspective Scale | 100 |
| Perspective Vertical | 0 |
| Post Crop Vignette Amount | 0 |
| Process Version | 6.7 |
| Rating | 0 |
| Raw File Name | P6116123.ORF |
| Red Hue | 0 |
| Red Saturation | 0 |
| Rights | JIM FOWLER |
| Saturation | Normal |
| Saturation Adjustment Aqua | 0 |
| Saturation Adjustment Blue | 0 |
| Saturation Adjustment Green | 0 |
| Saturation Adjustment Magenta | 0 |
| Saturation Adjustment Orange | 0 |
| Saturation Adjustment Purple | 0 |
| Saturation Adjustment Red | 0 |
| Saturation Adjustment Yellow | 0 |
| Scale Factor To 35 mm Equivalent | 2.0 |
| Scene Capture Type | Standard |
| Shadow Tint | 0 |
| Shadows 2012 | -27 |
| Sharpen Detail | 25 |
| Sharpen Edge Masking | 0 |
| Sharpen Radius | +1.0 |
| Sharpness | Normal |
| Split Toning Balance | 0 |
| Split Toning Highlight Hue | 0 |
| Split Toning Highlight Saturation | 0 |
| Split Toning Shadow Hue | 0 |
| Split Toning Shadow Saturation | 0 |
| Tint | +13 |
| Tone Curve Name 2012 | Linear |
| Tone Curve PV2012 | 0, 0, 255, 255 |
| Tone Curve PV2012 Blue | 0, 0, 255, 255 |
| Tone Curve PV2012 Green | 0, 0, 255, 255 |
| Tone Curve PV2012 Red | 0, 0, 255, 255 |
| Version | 7.1 |
| Vibrance | +18 |
| Vignette Amount | 0 |
| White Balance | Auto |
| Whites 2012 | +28 |
X