Shooting information for this photo
Camera: | Canon EOS 500D |
Exposure: | 0.005 sec. (1/200) |
Aperture: | f/5.0 |
Focal Length: | 45.0 mm (35 mm equivalent: 71.5 mm) |
Flash: | Off, Did not fire |
Exposure mode: | Program AE |
Max Aperture: | 2.8 |
Resolution: | 72 x 72 dpi |
Dimension: | 4752 x 3168 pixels |
Original Date: | 2011:02:21 15:39:02.17 |
Created on: | 2011:02:21 15:39:02.17 |
Modified on: | 2024:05:07 16:25:54 |
Software: | DxO PhotoLab 6.16.0 |
AF Area Mode | Single-point AF |
AF Assist Beam | Emits |
AF Image Height | 2848 |
AF Image Width | 4272 |
AF Points In Focus | 4 |
AF Points Selected | 8 |
Add Original Decision Data | Off |
Already Applied | True |
Auto Lateral CA | 1 |
Auto Lighting Optimizer | Standard |
Blacks 2012 | -3 |
Blue Balance | 1.465549 |
Blue Hue | 0 |
Blue Saturation | 0 |
Camera ISO | Auto |
Camera Orientation | Horizontal (normal) |
Camera Profile | Adobe Standard |
Camera Temperature | 17 C |
Camera Type | EOS High-end |
Canon Exposure Mode | Program AE |
Canon Firmware Version | Firmware Version 1.1.0 |
Canon Flash Mode | Off |
Canon Image Size | Large |
Canon Model ID | EOS Rebel T1i / 500D / Kiss X3 |
Chromatic Aberration Corr | Off |
Circle Of Confusion | 0.019 mm |
Clarity 2012 | +30 |
Color Data Version | 7 (500D/550D/7D/1DmkIV) |
Color Mode | RGB |
Color Noise Reduction | 25 |
Color Noise Reduction Detail | 50 |
Color Space | sRGB |
Color Temp As Shot | 4690 |
Color Temp Auto | 4690 |
Color Temp Cloudy | 6000 |
Color Temp Daylight | 5200 |
Color Temp Flash | 6224 |
Color Temp Fluorescent | 3822 |
Color Temp Kelvin | 5200 |
Color Temp Measured | 3280 |
Color Temp Shade | 7000 |
Color Temp Tungsten | 3200 |
Color Temperature | 5200 |
Color Tone | Normal |
Color Tone Faithful | 0 |
Color Tone Landscape | 0 |
Color Tone Neutral | 0 |
Color Tone Portrait | 0 |
Color Tone Standard | 0 |
Color Tone User Def 1 | 0 |
Color Tone User Def 2 | 0 |
Color Tone User Def 3 | 0 |
Continuous Drive | Single |
Contrast | Normal |
Contrast 2012 | +8 |
Contrast Faithful | 0 |
Contrast Landscape | 0 |
Contrast Monochrome | 0 |
Contrast Neutral | 0 |
Contrast Portrait | 0 |
Contrast Standard | 0 |
Contrast User Def 1 | 0 |
Contrast User Def 2 | 0 |
Contrast User Def 3 | 0 |
Convert To Grayscale | False |
Crop Angle | 0 |
Crop Bottom | 1 |
Crop Bottom Margin | 0 |
Crop Constrain To Warp | 1 |
Crop Height | 1 |
Crop Left | 0.141727 |
Crop Left Margin | 0 |
Crop Right | 0.799821 |
Crop Right Margin | 0 |
Crop Top | 0.012859 |
Crop Top Margin | 0 |
Crop Unit | Unknown (3) |
Crop Width | 1 |
Custom Rendered | Normal |
Date Created | 2011:02:21 15:39:02.17+01:00 |
Defringe Green Amount | 0 |
Defringe Green Hue Hi | 60 |
Defringe Green Hue Lo | 40 |
Defringe Purple Amount | 0 |
Defringe Purple Hue Hi | 70 |
Defringe Purple Hue Lo | 30 |
Digital Zoom | None |
Drive Mode | Single-frame Shooting |
Easy Mode | Manual |
Exposure 2012 | +0.15 |
Exposure Level Increments | 1/3 Stop |
Exposure Mode | Auto |
Field Of View | 28.3 deg |
File Number | 100-6534 |
Filter Effect Monochrome | None |
Filter Effect User Def 1 | n/a |
Filter Effect User Def 2 | None |
Filter Effect User Def 3 | None |
Firmware | 1.1.0 |
Firmware Version | 1.1.0 |
Flash Activity | 0 |
Flash Bits | (none) |
Flash Compensation | 0 |
Flash Fired | False |
Flash Function | False |
Flash Metering Mode | Off |
Flash Mode | Off |
Flash Red Eye Mode | False |
Flash Return | No return detection |
Flash Sync Speed Av | 1/200-1/60 Auto |
Focal Units | 1/mm |
Focus Distance Lower | 0 m |
Focus Distance Upper | 0 m |
Focus Mode | One-shot AF |
Focus Range | Not Known |
Format | image/x-canon-cr2 |
Grain Amount | 0 |
Green Hue | 0 |
Green Saturation | 0 |
Has Crop | True |
Has Settings | True |
Hierarchical Subject | Dinge|Wald |
High ISO Noise Reduction | Standard |
Highlight Tone Priority | Disable |
Highlights 2012 | 0 |
Hue Adjustment Aqua | 0 |
Hue Adjustment Blue | 0 |
Hue Adjustment Green | 0 |
Hue Adjustment Magenta | 0 |
Hue Adjustment Orange | 0 |
Hue Adjustment Purple | 0 |
Hue Adjustment Red | 0 |
Hue Adjustment Yellow | 0 |
Hyperfocal Distance | 21.40 m |
ISO | 100 |
ISO Expansion | Off |
Image Number | 0 |
Image Size | 4752x3168 |
LCD Display At Power On | Display |
Lens | 17.0 - 50.0 mm (35 mm equivalent: 27.0 - 79.4 mm) |
Lens ID | Tamron AF 17-50mm f/2.8 Di-II LD Aspherical |
Lens Info | 17-50mm f/? |
Lens Manual Distortion Amount | 0 |
Lens Model | 17-50mm |
Lens Profile Chromatic Aberration Scale | 100 |
Lens Profile Distortion Scale | 100 |
Lens Profile Enable | 1 |
Lens Profile Setup | LensDefaults |
Lens Profile Vignetting Scale | 100 |
Light Value | 12.3 |
Long Exposure Noise Reduction | Auto |
Luminance Adjustment Aqua | 0 |
Luminance Adjustment Blue | 0 |
Luminance Adjustment Green | 0 |
Luminance Adjustment Magenta | 0 |
Luminance Adjustment Orange | 0 |
Luminance Adjustment Purple | 0 |
Luminance Adjustment Red | 0 |
Luminance Adjustment Yellow | 0 |
Luminance Smoothing | 0 |
Macro Mode | Normal |
Manual Flash Output | n/a |
Max Aperture | 2.8 |
Max Focal Length | 50 mm |
Measured RGGB | 759 1024 1024 502 |
Metering Mode | Center-weighted average |
Min Aperture | 32 |
Min Focal Length | 17 mm |
Mirror Lockup | Disable |
Num AF Points | 9 |
Optical Zoom Code | n/a |
Original Decision Data Offset | 0 |
Original Image Height | 3168 |
Original Image Width | 4752 |
Parametric Darks | 0 |
Parametric Highlight Split | 75 |
Parametric Highlights | 0 |
Parametric Lights | 0 |
Parametric Midtone Split | 50 |
Parametric Shadow Split | 25 |
Parametric Shadows | 0 |
Peripheral Lighting | Off |
Peripheral Lighting Setting | Off |
Peripheral Lighting Value | 0 |
Perspective Aspect | 0 |
Perspective Horizontal | 0 |
Perspective Rotate | 0.0 |
Perspective Scale | 100 |
Perspective Upright | 0 |
Perspective Vertical | 0 |
Photometric Interpretation | RGB |
Picture Style | Faithful |
Post Crop Vignette Amount | 0 |
Preserved File Name | IMG_6534.CR2 |
Process Version | 6.7 |
Quality | Fine |
Rating | 3 |
Raw File Name | IMG_6534.CR2 |
Raw Measured RGGB | 268528 369234 373302 183596 |
Record Mode | CR2 |
Red Balance | 1.918063 |
Red Hue | 0 |
Red Saturation | 0 |
SRAW Quality | n/a |
Samples Per Pixel | 3 |
Saturation | Normal |
Saturation Adjustment Aqua | 0 |
Saturation Adjustment Blue | 0 |
Saturation Adjustment Green | 0 |
Saturation Adjustment Magenta | 0 |
Saturation Adjustment Orange | 0 |
Saturation Adjustment Purple | 0 |
Saturation Adjustment Red | 0 |
Saturation Adjustment Yellow | 0 |
Saturation Faithful | 0 |
Saturation Landscape | 0 |
Saturation Neutral | 0 |
Saturation Portrait | 0 |
Saturation Standard | 0 |
Saturation User Def 1 | 0 |
Saturation User Def 2 | 0 |
Saturation User Def 3 | 0 |
Saved Settings Name | Crop-1 |
Saved Settings Parameters Auto Lateral CA | 1 |
Saved Settings Parameters Blacks 2012 | -3 |
Saved Settings Parameters Blue Hue | 0 |
Saved Settings Parameters Blue Saturation | 0 |
Saved Settings Parameters Camera Profile | Adobe Standard |
Saved Settings Parameters Clarity 2012 | +30 |
Saved Settings Parameters Color Noise Reduction | 25 |
Saved Settings Parameters Contrast 2012 | +8 |
Saved Settings Parameters Convert To Grayscale | False |
Saved Settings Parameters Crop Angle | 0 |
Saved Settings Parameters Crop Bottom | 1 |
Saved Settings Parameters Crop Constrain To Warp | 1 |
Saved Settings Parameters Crop Height | 1 |
Saved Settings Parameters Crop Left | 0.141727 |
Saved Settings Parameters Crop Right | 0.799821 |
Saved Settings Parameters Crop Top | 0.012859 |
Saved Settings Parameters Crop Unit | 3 |
Saved Settings Parameters Crop Width | 1 |
Saved Settings Parameters Defringe Green Amount | 0 |
Saved Settings Parameters Defringe Green Hue Hi | 60 |
Saved Settings Parameters Defringe Green Hue Lo | 40 |
Saved Settings Parameters Defringe Purple Amount | 0 |
Saved Settings Parameters Defringe Purple Hue Hi | 70 |
Saved Settings Parameters Defringe Purple Hue Lo | 30 |
Saved Settings Parameters Exposure 2012 | +0.15 |
Saved Settings Parameters Grain Amount | 0 |
Saved Settings Parameters Green Hue | 0 |
Saved Settings Parameters Green Saturation | 0 |
Saved Settings Parameters Highlights 2012 | 0 |
Saved Settings Parameters Hue Adjustment Aqua | 0 |
Saved Settings Parameters Hue Adjustment Blue | 0 |
Saved Settings Parameters Hue Adjustment Green | 0 |
Saved Settings Parameters Hue Adjustment Magenta | 0 |
Saved Settings Parameters Hue Adjustment Orange | 0 |
Saved Settings Parameters Hue Adjustment Purple | 0 |
Saved Settings Parameters Hue Adjustment Red | 0 |
Saved Settings Parameters Hue Adjustment Yellow | 0 |
Saved Settings Parameters Lens Manual Distortion Amount | 0 |
Saved Settings Parameters Lens Profile Enable | 1 |
Saved Settings Parameters Lens Profile Setup | LensDefaults |
Saved Settings Parameters Luminance Adjustment Aqua | 0 |
Saved Settings Parameters Luminance Adjustment Blue | 0 |
Saved Settings Parameters Luminance Adjustment Green | 0 |
Saved Settings Parameters Luminance Adjustment Magenta | 0 |
Saved Settings Parameters Luminance Adjustment Orange | 0 |
Saved Settings Parameters Luminance Adjustment Purple | 0 |
Saved Settings Parameters Luminance Adjustment Red | 0 |
Saved Settings Parameters Luminance Adjustment Yellow | 0 |
Saved Settings Parameters Luminance Smoothing | 0 |
Saved Settings Parameters Parametric Darks | 0 |
Saved Settings Parameters Parametric Highlight Split | 75 |
Saved Settings Parameters Parametric Highlights | 0 |
Saved Settings Parameters Parametric Lights | 0 |
Saved Settings Parameters Parametric Midtone Split | 50 |
Saved Settings Parameters Parametric Shadow Split | 25 |
Saved Settings Parameters Parametric Shadows | 0 |
Saved Settings Parameters Perspective Aspect | 0 |
Saved Settings Parameters Perspective Horizontal | 0 |
Saved Settings Parameters Perspective Rotate | 0.0 |
Saved Settings Parameters Perspective Scale | 100 |
Saved Settings Parameters Perspective Upright | 0 |
Saved Settings Parameters Perspective Vertical | 0 |
Saved Settings Parameters Post Crop Vignette Amount | 0 |
Saved Settings Parameters Process Version | 6.7 |
Saved Settings Parameters Red Hue | 0 |
Saved Settings Parameters Red Saturation | 0 |
Saved Settings Parameters Saturation | 0 |
Saved Settings Parameters Saturation Adjustment Aqua | 0 |
Saved Settings Parameters Saturation Adjustment Blue | 0 |
Saved Settings Parameters Saturation Adjustment Green | 0 |
Saved Settings Parameters Saturation Adjustment Magenta | 0 |
Saved Settings Parameters Saturation Adjustment Orange | 0 |
Saved Settings Parameters Saturation Adjustment Purple | 0 |
Saved Settings Parameters Saturation Adjustment Red | 0 |
Saved Settings Parameters Saturation Adjustment Yellow | 0 |
Saved Settings Parameters Shadow Tint | 0 |
Saved Settings Parameters Shadows 2012 | 0 |
Saved Settings Parameters Sharpen Detail | 25 |
Saved Settings Parameters Sharpen Edge Masking | 0 |
Saved Settings Parameters Sharpen Radius | +1.0 |
Saved Settings Parameters Sharpness | 25 |
Saved Settings Parameters Split Toning Balance | 0 |
Saved Settings Parameters Split Toning Highlight Hue | 0 |
Saved Settings Parameters Split Toning Shadow Hue | 0 |
Saved Settings Parameters Temperature | 4400 |
Saved Settings Parameters Tint | -5 |
Saved Settings Parameters Tone Curve Name 2012 | Linear |
Saved Settings Parameters Upright Center Mode | 0 |
Saved Settings Parameters Upright Center Norm X | 0.5 |
Saved Settings Parameters Upright Center Norm Y | 0.5 |
Saved Settings Parameters Upright Focal Length 35mm | 35 |
Saved Settings Parameters Upright Focal Mode | 0 |
Saved Settings Parameters Upright Preview | False |
Saved Settings Parameters Upright Transform Count | 0 |
Saved Settings Parameters Upright Version | 134217728 |
Saved Settings Parameters Version | 8.0 |
Saved Settings Parameters Vibrance | 0 |
Saved Settings Parameters Vignette Amount | 0 |
Saved Settings Parameters White Balance | As Shot |
Saved Settings Parameters Whites 2012 | 0 |
Saved Settings Type | Snapshot |
Scale Factor To 35 mm Equivalent | 1.6 |
Scene Capture Type | Standard |
Self Timer | Off |
Set Button When Shooting | Quick control screen |
Shadow Tint | 0 |
Shadows 2012 | 0 |
Sharpen Detail | 25 |
Sharpen Edge Masking | 0 |
Sharpen Radius | +1.0 |
Sharpness | 25 |
Sharpness Faithful | 0 |
Sharpness Landscape | 4 |
Sharpness Monochrome | 3 |
Sharpness Neutral | 0 |
Sharpness Portrait | 2 |
Sharpness Standard | 3 |
Sharpness User Def 1 | 3 |
Sharpness User Def 2 | 3 |
Sharpness User Def 3 | 3 |
Shooting Mode | Program AE |
Shutter-AE Lock | AF/AE lock |
Sidecar For Extension | CR2 |
Split Toning Balance | 0 |
Split Toning Highlight Hue | 0 |
Split Toning Highlight Saturation | 0 |
Split Toning Shadow Hue | 0 |
Split Toning Shadow Saturation | 0 |
Subject | Wald |
Tint | -5 |
Tone Curve Name 2012 | Linear |
Tone Curve PV2012 | 0, 0, 255, 255 |
Tone Curve PV2012 Blue | 0, 0, 255, 255 |
Tone Curve PV2012 Green | 0, 0, 255, 255 |
Tone Curve PV2012 Red | 0, 0, 255, 255 |
Toning Effect Monochrome | None |
Toning Effect User Def 1 | n/a |
Toning Effect User Def 2 | None |
Toning Effect User Def 3 | None |
User Def 1 Picture Style | Standard |
User Def 2 Picture Style | Standard |
User Def 3 Picture Style | Standard |
VRD Offset | 0 |
Valid AF Points | 9 |
Version | 8.0 |
Vibrance | 0 |
Vignette Amount | 0 |
WB RGGB Levels | 2060 1074 1074 1574 |
WB RGGB Levels As Shot | 2060 1074 1074 1574 |
WB RGGB Levels Auto | 2060 1074 1074 1574 |
WB RGGB Levels Cloudy | 2260 1024 1024 1329 |
WB RGGB Levels Daylight | 2118 1024 1024 1442 |
WB RGGB Levels Flash | 2315 1024 1024 1319 |
WB RGGB Levels Fluorescent | 1876 1024 1024 1853 |
WB RGGB Levels Kelvin | 2118 1024 1024 1442 |
WB RGGB Levels Measured | 1619 1120 1030 2002 |
WB RGGB Levels Shade | 2399 1024 1024 1241 |
WB RGGB Levels Tungsten | 1644 1082 1082 2117 |
Whites 2012 | 0 |
Zoom Source Width | 0 |
Zoom Target Width | 0 |
GPS Information |
GPS Version ID | 2.2.0.0 |