Shooting information for this photo
| Camera: | Canon EOS 500D |
| Exposure: | 0.004 sec. (1/250) |
| Aperture: | f/8.0 |
| Focal Length: | 20.0 mm (35 mm equivalent: 31.8 mm) |
| Flash: | Off, Did not fire |
| Exposure mode: | Aperture-priority AE |
| Max Aperture: | 2.8 |
| Resolution: | 72 x 72 dpi |
| Dimension: | 2048 x 1069 pixels |
| Original Date: | 2013:05:08 07:10:59.31 |
| Created on: | 2013:05:08 07:10:59.31 |
| Software: | DxO OpticsPro 10.5.4 build 174 |
| AF Area Mode | Single-point AF |
| AF Assist Beam | Emits |
| AF Image Height | 2848 |
| AF Image Width | 4272 |
| AF Points In Focus | 6 |
| AF Points Selected | (none) |
| Add Original Decision Data | Off |
| Already Applied | True |
| Auto Lateral CA | 1 |
| Auto Lighting Optimizer | Standard |
| Blacks 2012 | -23 |
| Blue Balance | 1.446289 |
| Blue Hue | 0 |
| Blue Saturation | 0 |
| Camera Orientation | Horizontal (normal) |
| Camera Profile | Adobe Standard |
| Camera Temperature | 15 C |
| Camera Type | EOS High-end |
| Canon Exposure Mode | Aperture-priority AE |
| Canon Firmware Version | Firmware Version 1.1.0 |
| Canon Flash Mode | Off |
| Canon Image Size | Large |
| Canon Model ID | EOS Rebel T1i / 500D / Kiss X3 |
| Chromatic Aberration Corr | Off |
| Circle Of Confusion | 0.019 mm |
| Clarity 2012 | +100 |
| Color Data Version | 7 (500D/550D/7D/1DmkIV) |
| Color Mode | RGB |
| Color Noise Reduction | 25 |
| Color Noise Reduction Detail | 50 |
| Color Space | sRGB |
| Color Temp As Shot | 4980 |
| Color Temp Auto | 4980 |
| Color Temp Cloudy | 6000 |
| Color Temp Daylight | 5200 |
| Color Temp Flash | 6224 |
| Color Temp Fluorescent | 3822 |
| Color Temp Kelvin | 5200 |
| Color Temp Measured | 4980 |
| Color Temp Shade | 7000 |
| Color Temp Tungsten | 3200 |
| Color Temperature | 5200 |
| Color Tone | Normal |
| Color Tone Faithful | 0 |
| Color Tone Landscape | 0 |
| Color Tone Neutral | 0 |
| Color Tone Portrait | 0 |
| Color Tone Standard | 0 |
| Color Tone User Def 1 | 0 |
| Color Tone User Def 2 | 0 |
| Color Tone User Def 3 | 0 |
| Continuous Drive | Single |
| Contrast | Normal |
| Contrast 2012 | -25 |
| Contrast Faithful | 0 |
| Contrast Landscape | 0 |
| Contrast Monochrome | 0 |
| Contrast Neutral | 0 |
| Contrast Portrait | 0 |
| Contrast Standard | 0 |
| Contrast User Def 1 | 0 |
| Contrast User Def 2 | 0 |
| Contrast User Def 3 | 0 |
| Convert To Grayscale | False |
| Crop Angle | -0.349894 |
| Crop Bottom | 0.990923 |
| Crop Bottom Margin | 0 |
| Crop Constrain To Warp | 1 |
| Crop Left | 0.002521 |
| Crop Left Margin | 0 |
| Crop Right | 0.997479 |
| Crop Right Margin | 0 |
| Crop Top | 0.009077 |
| Crop Top Margin | 0 |
| Custom Rendered | Normal |
| Date Created | 2013:05:08 07:10:59.31 |
| Defringe Green Amount | 0 |
| Defringe Green Hue Hi | 60 |
| Defringe Green Hue Lo | 40 |
| Defringe Purple Amount | 0 |
| Defringe Purple Hue Hi | 70 |
| Defringe Purple Hue Lo | 30 |
| Digital Zoom | None |
| Drive Mode | Single-frame Shooting |
| Easy Mode | Manual |
| Exposure 2012 | 0.00 |
| Exposure Level Increments | 1/2 Stop |
| Exposure Mode | Auto |
| Field Of View | 59.1 deg |
| File Number | 101-2504 |
| Filter Effect Monochrome | None |
| Filter Effect User Def 1 | n/a |
| Filter Effect User Def 2 | None |
| Filter Effect User Def 3 | None |
| Firmware | 1.1.0 |
| Firmware Version | 1.1.0 |
| Flash Activity | 0 |
| Flash Bits | (none) |
| Flash Compensation | 0 |
| Flash Fired | False |
| Flash Function | False |
| Flash Metering Mode | Off |
| Flash Mode | Off |
| Flash Red Eye Mode | False |
| Flash Return | No return detection |
| Flash Sync Speed Av | 1/200-1/60 Auto |
| Focal Units | 1/mm |
| Focus Distance Lower | 0 m |
| Focus Distance Upper | 0 m |
| Focus Mode | One-shot AF |
| Focus Range | Not Known |
| Format | image/x-canon-cr2 |
| Grain Amount | 0 |
| Green Hue | 0 |
| Green Saturation | 0 |
| Has Crop | True |
| Has Settings | True |
| Hierarchical Subject | Art|Landschaft, Orte|Dörverden, Dinge|Bäume |
| High ISO Noise Reduction | Standard |
| Highlight Tone Priority | Disable |
| Highlights 2012 | -50 |
| Hue Adjustment Aqua | 0 |
| Hue Adjustment Blue | 0 |
| Hue Adjustment Green | 0 |
| Hue Adjustment Magenta | 0 |
| Hue Adjustment Orange | 0 |
| Hue Adjustment Purple | 0 |
| Hue Adjustment Red | 0 |
| Hue Adjustment Yellow | 0 |
| Hyperfocal Distance | 2.64 m |
| ISO | 100 |
| ISO Expansion | Off |
| Image Number | 0 |
| Image Size | 2048x1069 |
| LCD Display At Power On | Display |
| Lens | 17.0 - 50.0 mm (35 mm equivalent: 27.0 - 79.4 mm) |
| Lens ID | Tamron AF 17-50mm f/2.8 Di-II LD Aspherical |
| Lens Info | 17-50mm f/? |
| Lens Manual Distortion Amount | 0 |
| Lens Model | 17-50mm |
| Lens Profile Chromatic Aberration Scale | 100 |
| Lens Profile Distortion Scale | 100 |
| Lens Profile Enable | 1 |
| Lens Profile Filename | Canon (TAMRON SP 17-50mm F2.8 DiII A16E) - RAW.lcp |
| Lens Profile Name | Adobe (TAMRON SP 17-50mm F/2.8 DiII A16E, Canon) |
| Lens Profile Setup | LensDefaults |
| Lens Profile Vignetting Scale | 100 |
| Lens Type | Canon EF 28-70mm f/2.8L or Sigma or Tamron Lens |
| Light Value | 14.0 |
| Long Exposure Noise Reduction | Auto |
| Luminance Adjustment Aqua | 0 |
| Luminance Adjustment Blue | 0 |
| Luminance Adjustment Green | 0 |
| Luminance Adjustment Magenta | 0 |
| Luminance Adjustment Orange | 0 |
| Luminance Adjustment Purple | 0 |
| Luminance Adjustment Red | 0 |
| Luminance Adjustment Yellow | 0 |
| Luminance Smoothing | 0 |
| Macro Mode | Normal |
| Manual Flash Output | n/a |
| Max Aperture | 2.8 |
| Max Focal Length | 50 mm |
| Measured RGGB | 523 1024 1024 699 |
| Metering Mode | Evaluative |
| Min Aperture | 32 |
| Min Focal Length | 17 mm |
| Mirror Lockup | Disable |
| Num AF Points | 9 |
| Optical Zoom Code | n/a |
| Original Decision Data Offset | 0 |
| Original Image Height | 3168 |
| Original Image Width | 4752 |
| Parametric Darks | 0 |
| Parametric Highlight Split | 75 |
| Parametric Highlights | 0 |
| Parametric Lights | 0 |
| Parametric Midtone Split | 50 |
| Parametric Shadow Split | 25 |
| Parametric Shadows | 0 |
| Peripheral Lighting | Off |
| Peripheral Lighting Setting | Off |
| Peripheral Lighting Value | 0 |
| Perspective Horizontal | 0 |
| Perspective Rotate | 0.0 |
| Perspective Scale | 100 |
| Perspective Vertical | 0 |
| Photometric Interpretation | RGB |
| Picture Style | Faithful |
| Post Crop Vignette Amount | 0 |
| Process Version | 6.7 |
| Quality | Fine |
| Rating | 3 |
| Rating Percent | 50 |
| Raw File Name | IMG_2504.CR2 |
| Raw Measured RGGB | 476866 943413 948195 643663 |
| Record Mode | CR2 |
| Red Balance | 2.023438 |
| Red Hue | 0 |
| Red Saturation | 0 |
| SRAW Quality | n/a |
| Samples Per Pixel | 3 |
| Saturation | Normal |
| Saturation Adjustment Aqua | 0 |
| Saturation Adjustment Blue | 0 |
| Saturation Adjustment Green | 0 |
| Saturation Adjustment Magenta | 0 |
| Saturation Adjustment Orange | 0 |
| Saturation Adjustment Purple | 0 |
| Saturation Adjustment Red | 0 |
| Saturation Adjustment Yellow | 0 |
| Saturation Faithful | 0 |
| Saturation Landscape | 0 |
| Saturation Neutral | 0 |
| Saturation Portrait | 0 |
| Saturation Standard | 0 |
| Saturation User Def 1 | 0 |
| Saturation User Def 2 | 0 |
| Saturation User Def 3 | 0 |
| Scale Factor To 35 mm Equivalent | 1.6 |
| Scene Capture Type | Standard |
| Self Timer | Off |
| Set Button When Shooting | Quick control screen |
| Shadow Tint | 0 |
| Shadows 2012 | +50 |
| Sharpen Detail | 25 |
| Sharpen Edge Masking | 0 |
| Sharpen Radius | +1.0 |
| Sharpness | 25 |
| Sharpness Faithful | 0 |
| Sharpness Landscape | 4 |
| Sharpness Monochrome | 3 |
| Sharpness Neutral | 0 |
| Sharpness Portrait | 2 |
| Sharpness Standard | 3 |
| Sharpness User Def 1 | 3 |
| Sharpness User Def 2 | 3 |
| Sharpness User Def 3 | 3 |
| Shooting Mode | Aperture-priority AE |
| Shutter-AE Lock | AF/AE lock |
| Sidecar For Extension | CR2 |
| Split Toning Balance | 0 |
| Split Toning Highlight Hue | 0 |
| Split Toning Highlight Saturation | 0 |
| Split Toning Shadow Hue | 0 |
| Split Toning Shadow Saturation | 0 |
| Subject | Bäume, Dörverden, Landschaft |
| Tint | +4 |
| Tone Curve Name 2012 | Linear |
| Tone Curve PV2012 | 0, 0, 255, 255 |
| Tone Curve PV2012 Blue | 0, 0, 255, 255 |
| Tone Curve PV2012 Green | 0, 0, 255, 255 |
| Tone Curve PV2012 Red | 0, 0, 255, 255 |
| Toning Effect Monochrome | None |
| Toning Effect User Def 1 | n/a |
| Toning Effect User Def 2 | None |
| Toning Effect User Def 3 | None |
| User Def 1 Picture Style | Standard |
| User Def 2 Picture Style | Standard |
| User Def 3 Picture Style | Standard |
| VRD Offset | 0 |
| Valid AF Points | 9 |
| Version | 7.4 |
| Vibrance | 0 |
| Vignette Amount | 0 |
| WB RGGB Levels | 2072 1024 1024 1481 |
| WB RGGB Levels As Shot | 2072 1024 1024 1481 |
| WB RGGB Levels Auto | 2072 1024 1024 1481 |
| WB RGGB Levels Cloudy | 2260 1024 1024 1329 |
| WB RGGB Levels Daylight | 2118 1024 1024 1442 |
| WB RGGB Levels Flash | 2315 1024 1024 1319 |
| WB RGGB Levels Fluorescent | 1876 1024 1024 1853 |
| WB RGGB Levels Kelvin | 2118 1024 1024 1442 |
| WB RGGB Levels Measured | 2070 1025 1022 1480 |
| WB RGGB Levels Shade | 2399 1024 1024 1241 |
| WB RGGB Levels Tungsten | 1644 1082 1082 2117 |
| Whites 2012 | +32 |
| Zoom Source Width | 0 |
| Zoom Target Width | 0 |
GPS Information |
| GPS Version ID | 2.2.0.0 |
X