Shooting information for this photo
| Camera: | FUJIFILM X-T2 |
| Exposure: | 0.004 sec. (1/250) |
| Aperture: | f/1.0 |
| Focal Length: | 50.0 mm (35 mm equivalent: 75.0 mm) |
| Flash: | No Flash |
| Exposure mode: | Manual |
| Resolution: | 240 x 240 dpi |
| Original Date: | 2016:02:04 01:15:12 |
| Created on: | 2016:02:04 01:15:12 |
| Modified on: | 2025:10:27 18:09:44 |
| Software: | Adobe Lightroom 8.3.1 (Windows) |
| Copyright: | ALEXANDER HILPERT |
| Already Applied | True |
| Artist | ALEXANDER HILPERT |
| Auto Lateral CA | 1 |
| Bits Per Sample | 32 32 32 |
| Blacks 2012 | -41 |
| Blue Hue | 0 |
| Blue Saturation | 0 |
| Brightness Value | 2.02 |
| Camera Profile | Adobe Standard |
| Ccv avg luminance nits | 24.907685 |
| Ccv max luminance nits | 671.173416 |
| Ccv min luminance nits | 0 |
| Ccv primaries xy | 0.6400,0.3300,0.2100,0.7100,0. 1500,0.0600 |
| Ccv white xy | 0.3127,0.3290 |
| Circle Of Confusion | 0.020 mm |
| Clarity 2012 | +43 |
| Color Grade Blending | 50 |
| Color Grade Global Hue | 0 |
| Color Grade Global Lum | 0 |
| Color Grade Global Sat | 0 |
| Color Grade Highlight Lum | +22 |
| Color Grade Midtone Hue | 0 |
| Color Grade Midtone Lum | -55 |
| Color Grade Midtone Sat | 0 |
| Color Grade Shadow Lum | -100 |
| Color Noise Reduction | 25 |
| Color Noise Reduction Detail | 50 |
| Color Noise Reduction Smoothness | 50 |
| Color Space | Uncalibrated |
| Color Temperature | 5000 |
| Compatible Version | 268435456 |
| Contrast 2012 | +50 |
| Creator | ALEXANDER HILPERT |
| Crop Angle | 0 |
| Crop Bottom | 1 |
| Crop Constrain To Unit Square | 1 |
| Crop Constrain To Warp | 0 |
| Crop Left | 0 |
| Crop Right | 1 |
| Crop Top | 0 |
| Curve Refine Saturation | 100 |
| Custom Rendered | Normal |
| Defringe Green Amount | 0 |
| Defringe Green Hue Hi | 60 |
| Defringe Green Hue Lo | 40 |
| Defringe Purple Amount | 0 |
| Defringe Purple Hue Hi | 70 |
| Defringe Purple Hue Lo | 30 |
| Dehaze | +41 |
| Exposure 2012 | +0.57 |
| Exposure Compensation | +1.33 |
| Exposure Mode | Manual |
| Extended Tone Curve Name 2012 | Custom |
| Extended Tone Curve PV2012 | 0, 0, 255, 255, 330, 266 |
| Extended Tone Curve PV2012 Blue | 0, 0, 255, 255 |
| Extended Tone Curve PV2012 Green | 0, 0, 255, 255 |
| Extended Tone Curve PV2012 Red | 0, 0, 255, 255 |
| Field Of View | 27.0 deg |
| Focal Length In 35mm Format | 75 mm |
| Format | image/tiff |
| Fuji Rating Already Applied | True |
| Grain Amount | 0 |
| Green Hue | 0 |
| Green Saturation | 0 |
| HDR Edit Mode | 1 |
| HDR Max Value | +4.00 |
| Has Crop | False |
| Has Settings | True |
| Highlights 2012 | -58 |
| Hue Adjustment Aqua | 0 |
| Hue Adjustment Blue | 0 |
| Hue Adjustment Green | 0 |
| Hue Adjustment Magenta | 0 |
| Hue Adjustment Orange | 0 |
| Hue Adjustment Purple | 0 |
| Hue Adjustment Red | 0 |
| Hue Adjustment Yellow | 0 |
| Hyperfocal Distance | 124.81 m |
| ISO | 640 |
| Image Height | 4000 |
| Image Size | 6000x4000 |
| Image Width | 6000 |
| Lateral Chromatic Aberration Correction Already Applied | True |
| Lens | 50.0 mm |
| Lens Info | 50mm f/? |
| Lens Manual Distortion Amount | 0 |
| Lens Model | 50.0 mm |
| Lens Profile Enable | 1 |
| Lens Profile Setup | Custom |
| Light Source | Unknown |
| Light Value | 5.3 |
| Look Amount | 1 |
| Look Group | Profiles |
| Look Name | Adobe Landscape |
| Look Parameters Camera Profile | Adobe Standard |
| Look Parameters Clarity 2012 | +10 |
| Look Parameters Convert To Grayscale | False |
| Look Parameters Highlights 2012 | -12 |
| Look Parameters Look Table | 0B3BFB5CFB7DBF7FF175E98F24D316 B0 |
| Look Parameters Process Version | 15.4 |
| Look Parameters Shadows 2012 | +12 |
| Look Parameters Tone Curve PV2012 | 0, 0, 64, 60, 128, 128, 192, 196, 255, 255 |
| Look Parameters Version | 17.3.1 |
| Look Supports Amount | false |
| Look Supports Monochrome | false |
| Look Supports Output Referred | false |
| Luminance Adjustment Aqua | 0 |
| Luminance Adjustment Blue | 0 |
| Luminance Adjustment Green | 0 |
| Luminance Adjustment Magenta | 0 |
| Luminance Adjustment Orange | 0 |
| Luminance Adjustment Purple | 0 |
| Luminance Adjustment Red | 0 |
| Luminance Adjustment Yellow | 0 |
| Luminance Smoothing | 0 |
| Metering Mode | Multi-segment |
| Override Look Vignette | False |
| Parametric Darks | 0 |
| Parametric Highlight Split | 75 |
| Parametric Highlights | 0 |
| Parametric Lights | 0 |
| Parametric Midtone Split | 50 |
| Parametric Shadow Split | 25 |
| Parametric Shadows | 0 |
| Perspective Aspect | 0 |
| Perspective Horizontal | 0 |
| Perspective Rotate | 0.0 |
| Perspective Scale | 100 |
| Perspective Upright | 0 |
| Perspective Vertical | 0 |
| Perspective X | 0.00 |
| Perspective Y | 0.00 |
| Photometric Interpretation | RGB |
| Planar Configuration | Chunky |
| Point Colors | -1.000000, -1.000000, -1.000000, -1.000000, -1.000000, -1.000000, -1.000000, -1.000000, -1.000000, -1.000000, -1.000000, -1.000000, -1.000000, -1.000000, -1.000000, -1.000000, -1.000000, -1.000000, -1.000000 |
| Post Crop Vignette Amount | 0 |
| Process Version | 15.4 |
| Raw File Name | _DSF4097.RAF |
| Red Hue | 0 |
| Red Saturation | 0 |
| Rights | ALEXANDER HILPERT |
| Rows Per Strip | 4000 |
| SDR Blend | +16 |
| SDR Brightness | -17 |
| SDR Clarity | +44 |
| SDR Contrast | +42 |
| SDR Highlights | -48 |
| SDR Shadows | +58 |
| SDR Whites | -20 |
| Sample Format | Float; Float; Float |
| Samples Per Pixel | 3 |
| Saturation | +18 |
| Saturation Adjustment Aqua | 0 |
| Saturation Adjustment Blue | 0 |
| Saturation Adjustment Green | 0 |
| Saturation Adjustment Magenta | 0 |
| Saturation Adjustment Orange | 0 |
| Saturation Adjustment Purple | 0 |
| Saturation Adjustment Red | 0 |
| Saturation Adjustment Yellow | 0 |
| Scale Factor To 35 mm Equivalent | 1.5 |
| Scene Capture Type | Standard |
| Scene Type | Directly photographed |
| Scene referred | False |
| Sensing Method | One-chip color area |
| Sensitivity Type | Standard Output Sensitivity |
| Shadow Tint | 0 |
| Shadows 2012 | +46 |
| Sharpen Detail | 25 |
| Sharpen Edge Masking | 0 |
| Sharpen Radius | +1.0 |
| Sharpness | Normal |
| Split Toning Balance | 0 |
| Split Toning Highlight Hue | 0 |
| Split Toning Highlight Saturation | 0 |
| Split Toning Shadow Hue | 0 |
| Split Toning Shadow Saturation | 0 |
| Strip Byte Counts | 288000000 |
| Strip Offsets | 34310 |
| Subfile Type | Full-resolution Image |
| Subject Distance Range | Unknown |
| Texture | +49 |
| Tint | +30 |
| Tone Curve Name 2012 | Custom |
| Tone Curve PV2012 | 0, 0, 255, 255 |
| Tone Curve PV2012 Blue | 0, 0, 255, 255 |
| Tone Curve PV2012 Green | 0, 0, 255, 255 |
| Tone Curve PV2012 Red | 0, 0, 255, 255 |
| Version | 17.3.1 |
| Vibrance | +48 |
| Vignette Amount | 0 |
| White Balance | As Shot |
| Whites 2012 | -44 |
X