Shooting information for this photo
| Camera: | FUJIFILM X-T2 |
| Exposure: | 0.004 sec. (1/250) |
| Aperture: | f/1.0 |
| Focal Length: | 50.0 mm (35 mm equivalent: 75.0 mm) |
| Flash: | No Flash |
| Exposure mode: | Manual |
| Resolution: | 240 x 240 dpi |
| Original Date: | 2016:01:15 03:48:10 |
| Created on: | 2016:01:15 03:48:10 |
| Modified on: | 2025:10:05 21:32:26 |
| Software: | Adobe Lightroom 8.3.1 (Windows) |
| Copyright: | ALEXANDER HILPERT |
| Already Applied | True |
| Artist | ALEXANDER HILPERT |
| Auto Lateral CA | 1 |
| Bits Per Sample | 32 32 32 |
| Blacks 2012 | -35 |
| Blue Hue | 0 |
| Blue Saturation | 0 |
| Brightness Value | 1.05 |
| Camera Profile | Adobe Standard |
| Ccv avg luminance nits | 105.447662 |
| Ccv max luminance nits | 2550.157299 |
| Ccv min luminance nits | 0 |
| Ccv primaries xy | 0.6400,0.3300,0.2100,0.7100,0. 1500,0.0600 |
| Ccv white xy | 0.3127,0.3290 |
| Circle Of Confusion | 0.020 mm |
| Clarity 2012 | -12 |
| Color Grade Blending | 50 |
| Color Grade Global Hue | 0 |
| Color Grade Global Lum | 0 |
| Color Grade Global Sat | 0 |
| Color Grade Highlight Lum | +44 |
| Color Grade Midtone Hue | 0 |
| Color Grade Midtone Lum | -36 |
| Color Grade Midtone Sat | 0 |
| Color Grade Shadow Lum | -46 |
| Color Noise Reduction | 25 |
| Color Noise Reduction Detail | 50 |
| Color Noise Reduction Smoothness | 50 |
| Color Space | Uncalibrated |
| Color Temperature | 6650 |
| Compatible Version | 268435456 |
| Contrast 2012 | +32 |
| Creator | ALEXANDER HILPERT |
| Crop Angle | 0 |
| Crop Bottom | 0.9985 |
| Crop Constrain To Unit Square | 0 |
| Crop Constrain To Warp | 0 |
| Crop Left | 0.0015 |
| Crop Right | 0.9985 |
| Crop Top | 0.0015 |
| Custom Rendered | Normal |
| Defringe Green Amount | 0 |
| Defringe Green Hue Hi | 60 |
| Defringe Green Hue Lo | 40 |
| Defringe Purple Amount | 0 |
| Defringe Purple Hue Hi | 70 |
| Defringe Purple Hue Lo | 30 |
| Dehaze | +60 |
| Exposure 2012 | +1.28 |
| Exposure Compensation | -2 |
| Exposure Mode | Auto bracket |
| Field Of View | 27.0 deg |
| Focal Length In 35mm Format | 75 mm |
| Format | image/tiff |
| Fuji Rating Already Applied | True |
| Grain Amount | 0 |
| Green Hue | 0 |
| Green Saturation | 0 |
| HDR Edit Mode | 1 |
| HDR Max Value | +4.00 |
| Has Crop | True |
| Has Settings | True |
| Highlights 2012 | -28 |
| Hue Adjustment Aqua | 0 |
| Hue Adjustment Blue | 0 |
| Hue Adjustment Green | 0 |
| Hue Adjustment Magenta | 0 |
| Hue Adjustment Orange | 0 |
| Hue Adjustment Purple | 0 |
| Hue Adjustment Red | 0 |
| Hue Adjustment Yellow | 0 |
| Hyperfocal Distance | 124.81 m |
| ISO | 320 |
| Image Height | 3988 |
| Image Size | 5982x3988 |
| Image Width | 5982 |
| Is Merged HDR | True |
| Lateral Chromatic Aberration Correction Already Applied | True |
| Lens | 50.0 mm |
| Lens Info | 50mm f/? |
| Lens Manual Distortion Amount | 0 |
| Lens Model | 50.0 mm |
| Lens Profile Enable | 0 |
| Light Source | Unknown |
| Light Value | 6.3 |
| Look Amount | 1 |
| Look Group | Profiles |
| Look Name | Adobe Color |
| Look Parameters Camera Profile | Adobe Standard |
| Look Parameters Convert To Grayscale | False |
| Look Parameters Look Table | E1095149FDB39D7A057BAB208837E2 E1 |
| Look Parameters Process Version | 15.4 |
| Look Parameters Tone Curve PV2012 | 0, 0, 22, 16, 40, 35, 127, 127, 224, 230, 240, 246, 255, 255 |
| Look Parameters Tone Curve PV2012 Blue | 0, 0, 255, 255 |
| Look Parameters Tone Curve PV2012 Green | 0, 0, 255, 255 |
| Look Parameters Tone Curve PV2012 Red | 0, 0, 255, 255 |
| Look Parameters Version | 17.3.1 |
| Look Supports Amount | false |
| Look Supports Monochrome | false |
| Look Supports Output Referred | false |
| Luminance Adjustment Aqua | 0 |
| Luminance Adjustment Blue | 0 |
| Luminance Adjustment Green | 0 |
| Luminance Adjustment Magenta | 0 |
| Luminance Adjustment Orange | 0 |
| Luminance Adjustment Purple | 0 |
| Luminance Adjustment Red | 0 |
| Luminance Adjustment Yellow | 0 |
| Luminance Smoothing | 0 |
| Metering Mode | Multi-segment |
| Override Look Vignette | False |
| Parametric Darks | 0 |
| Parametric Highlight Split | 75 |
| Parametric Highlights | 0 |
| Parametric Lights | 0 |
| Parametric Midtone Split | 50 |
| Parametric Shadow Split | 25 |
| Parametric Shadows | 0 |
| Perspective Aspect | 0 |
| Perspective Horizontal | 0 |
| Perspective Rotate | 0.0 |
| Perspective Scale | 100 |
| Perspective Upright | 0 |
| Perspective Vertical | 0 |
| Perspective X | 0.00 |
| Perspective Y | 0.00 |
| Photometric Interpretation | RGB |
| Planar Configuration | Chunky |
| Point Colors | -1.000000, -1.000000, -1.000000, -1.000000, -1.000000, -1.000000, -1.000000, -1.000000, -1.000000, -1.000000, -1.000000, -1.000000, -1.000000, -1.000000, -1.000000, -1.000000, -1.000000, -1.000000, -1.000000 |
| Post Crop Vignette Amount | 0 |
| Process Version | 15.4 |
| Raw File Name | _DSF0040-HDR.dng |
| Red Hue | 0 |
| Red Saturation | 0 |
| Rights | ALEXANDER HILPERT |
| Rows Per Strip | 3988 |
| SDR Blend | 0 |
| SDR Brightness | -18 |
| SDR Clarity | +28 |
| SDR Contrast | +34 |
| SDR Highlights | +34 |
| SDR Shadows | +45 |
| SDR Whites | 0 |
| Sample Format | Float; Float; Float |
| Samples Per Pixel | 3 |
| Saturation | +25 |
| Saturation Adjustment Aqua | 0 |
| Saturation Adjustment Blue | 0 |
| Saturation Adjustment Green | 0 |
| Saturation Adjustment Magenta | 0 |
| Saturation Adjustment Orange | 0 |
| Saturation Adjustment Purple | 0 |
| Saturation Adjustment Red | 0 |
| Saturation Adjustment Yellow | 0 |
| Scale Factor To 35 mm Equivalent | 1.5 |
| Scene Capture Type | Standard |
| Scene Type | Directly photographed |
| Scene referred | False |
| Sensing Method | One-chip color area |
| Sensitivity Type | Standard Output Sensitivity |
| Shadow Tint | 0 |
| Shadows 2012 | +77 |
| Sharpen Detail | 25 |
| Sharpen Edge Masking | 0 |
| Sharpen Radius | +1.0 |
| Sharpness | Normal |
| Split Toning Balance | 0 |
| Split Toning Highlight Hue | 0 |
| Split Toning Highlight Saturation | 0 |
| Split Toning Shadow Hue | 0 |
| Split Toning Shadow Saturation | 0 |
| Strip Byte Counts | 286274592 |
| Strip Offsets | 29038 |
| Subfile Type | Full-resolution Image |
| Subject Distance Range | Unknown |
| Texture | +42 |
| Tint | +24 |
| Tone Curve Name 2012 | Linear |
| Tone Curve PV2012 | 0, 0, 255, 255 |
| Tone Curve PV2012 Blue | 0, 0, 255, 255 |
| Tone Curve PV2012 Green | 0, 0, 255, 255 |
| Tone Curve PV2012 Red | 0, 0, 255, 255 |
| Version | 17.3.1 |
| Vibrance | +45 |
| Vignette Amount | 0 |
| White Balance | As Shot |
| Whites 2012 | +50 |
X