Shooting information for this photo
| Camera: | PENTAX 645D |
| Exposure: | 0.001 sec. (1/1000) |
| Aperture: | f/8.0 |
| Focal Length: | 55.0 mm (35 mm equivalent: 43.0 mm) |
| Flash: | Off, Did not fire |
| Exposure mode: | Aperture-priority AE |
| Resolution: | 240 x 240 dpi |
| Original Date: | 2025:07:19 14:09:21 |
| Created on: | 2025:07:19 14:09:21 |
| Modified on: | 2025:07:20 17:39:31 |
| Software: | Adobe Lightroom 8.3.1 (Windows) |
| Copyright: | ALEXANDER HILPERT |
| Already Applied | True |
| Approximate Focus Distance | 8 |
| Artist | ALEXANDER HILPERT |
| Auto Lateral CA | 1 |
| Bits Per Sample | 32 32 32 |
| Blacks 2012 | -21 |
| Blue Hue | 0 |
| Blue Saturation | 0 |
| CFA Pattern | [Blue,Green][Green,Red] |
| Camera Profile | Adobe Standard |
| Ccv avg luminance nits | 13.443552 |
| Ccv max luminance nits | 664.779476 |
| Ccv min luminance nits | 1.888788 |
| Ccv primaries xy | 0.6400,0.3300,0.2100,0.7100,0. 1500,0.0600 |
| Ccv white xy | 0.3127,0.3290 |
| Circle Of Confusion | 0.038 mm |
| Clarity 2012 | +19 |
| Color Grade Blending | 50 |
| Color Grade Global Hue | 48 |
| Color Grade Global Lum | 0 |
| Color Grade Global Sat | 8 |
| Color Grade Highlight Lum | +26 |
| Color Grade Midtone Hue | 96 |
| Color Grade Midtone Lum | -39 |
| Color Grade Midtone Sat | 14 |
| Color Grade Shadow Lum | +48 |
| Color Noise Reduction | 25 |
| Color Noise Reduction Detail | 50 |
| Color Noise Reduction Smoothness | 50 |
| Color Space | Uncalibrated |
| Color Temperature | 5997 |
| Compatible Version | 268435456 |
| Contrast | High |
| Contrast 2012 | +34 |
| Creator | ALEXANDER HILPERT |
| Crop Angle | 0 |
| Crop Bottom | 1 |
| Crop Constrain To Unit Square | 1 |
| Crop Constrain To Warp | 0 |
| Crop Left | 0 |
| Crop Right | 1 |
| Crop Top | 0 |
| Curve Refine Saturation | 100 |
| Custom Rendered | Normal |
| Defringe Green Amount | 0 |
| Defringe Green Hue Hi | 60 |
| Defringe Green Hue Lo | 40 |
| Defringe Purple Amount | 0 |
| Defringe Purple Hue Hi | 70 |
| Defringe Purple Hue Lo | 30 |
| Dehaze | +50 |
| Distortion Correction Already Applied | True |
| Exposure 2012 | +1.54 |
| Exposure Compensation | 0 |
| Exposure Mode | Auto |
| Field Of View | 45.4 deg |
| Focal Length In 35mm Format | 43 mm |
| Format | image/tiff |
| Grain Amount | 14 |
| Grain Frequency | 50 |
| Grain Size | 25 |
| Green Hue | 0 |
| Green Saturation | 0 |
| HDR Edit Mode | 1 |
| HDR Max Value | +4.00 |
| Has Crop | False |
| Has Settings | True |
| Highlights 2012 | -43 |
| Hue Adjustment Aqua | +47 |
| Hue Adjustment Blue | -21 |
| Hue Adjustment Green | +30 |
| Hue Adjustment Magenta | -47 |
| Hue Adjustment Orange | -11 |
| Hue Adjustment Purple | -59 |
| Hue Adjustment Red | +47 |
| Hue Adjustment Yellow | -47 |
| Hyperfocal Distance | 9.84 m |
| ISO | 200 |
| Image Height | 7264 |
| Image Size | 5440x7264 |
| Image Width | 5440 |
| Lateral Chromatic Aberration Correction Already Applied | True |
| Lens | smc PENTAX-D FA645 55mm F2.8 AL [IF] SDM AW |
| Lens ID | smc PENTAX-D FA 645 55mm F2.8 AL [IF] SDM AW |
| Lens Info | 55mm f/2.8 |
| Lens Manual Distortion Amount | 0 |
| Lens Model | smc PENTAX-D FA645 55mm F2.8 AL [IF] SDM AW |
| Lens Profile Distortion Scale | 112 |
| Lens Profile Enable | 1 |
| Lens Profile Filename | PENTAX (smc PENTAX-D FA645 55mmF2.8AL[IF] SDM AW) - RAW.lcp |
| Lens Profile Is Embedded | False |
| Lens Profile Name | Adobe (smc PENTAX-D FA645 55mmF2.8AL[IF] SDM AW) |
| Lens Profile Setup | Custom |
| Lens Profile Vignetting Scale | 100 |
| Light Value | 15.0 |
| Look Amount | 1 |
| Look Group | Profiles |
| Look Name | Adobe Portrait |
| Look Parameters Camera Profile | Adobe Standard |
| Look Parameters Convert To Grayscale | False |
| Look Parameters Look Table | E5A76DBB8B3F132A04C01AF45DC2EF 1B |
| Look Parameters Process Version | 15.4 |
| Look Parameters Tone Curve PV2012 | 0, 0, 66, 64, 190, 192, 255, 255 |
| Look Parameters Version | 17.3.1 |
| Look Supports Amount | false |
| Look Supports Monochrome | false |
| Look Supports Output Referred | false |
| Luminance Adjustment Aqua | -49 |
| Luminance Adjustment Blue | -43 |
| Luminance Adjustment Green | -21 |
| Luminance Adjustment Magenta | 0 |
| Luminance Adjustment Orange | +3 |
| Luminance Adjustment Purple | 0 |
| Luminance Adjustment Red | -20 |
| Luminance Adjustment Yellow | -26 |
| Luminance Smoothing | 0 |
| Metering Mode | Multi-segment |
| Override Look Vignette | False |
| Parametric Darks | -5 |
| Parametric Highlight Split | 75 |
| Parametric Highlights | 0 |
| Parametric Lights | -15 |
| Parametric Midtone Split | 50 |
| Parametric Shadow Split | 14 |
| Parametric Shadows | 0 |
| Perspective Aspect | 0 |
| Perspective Horizontal | 0 |
| Perspective Rotate | 0.0 |
| Perspective Scale | 100 |
| Perspective Upright | 0 |
| Perspective Vertical | 0 |
| Perspective X | 0.00 |
| Perspective Y | 0.00 |
| Photometric Interpretation | RGB |
| Planar Configuration | Chunky |
| Point Colors | -1.000000, -1.000000, -1.000000, -1.000000, -1.000000, -1.000000, -1.000000, -1.000000, -1.000000, -1.000000, -1.000000, -1.000000, -1.000000, -1.000000, -1.000000, -1.000000, -1.000000, -1.000000, -1.000000 |
| Post Crop Vignette Amount | 0 |
| Process Version | 15.4 |
| Raw File Name | _6455009.PEF |
| Red Hue | 0 |
| Red Saturation | 0 |
| Rights | ALEXANDER HILPERT |
| Rows Per Strip | 7264 |
| SDR Blend | +43 |
| SDR Brightness | -100 |
| SDR Clarity | +34 |
| SDR Contrast | +27 |
| SDR Highlights | +95 |
| SDR Shadows | +67 |
| SDR Whites | -70 |
| Sample Format | Float; Float; Float |
| Samples Per Pixel | 3 |
| Saturation | High |
| Saturation Adjustment Aqua | +22 |
| Saturation Adjustment Blue | -25 |
| Saturation Adjustment Green | -17 |
| Saturation Adjustment Magenta | -81 |
| Saturation Adjustment Orange | -10 |
| Saturation Adjustment Purple | -85 |
| Saturation Adjustment Red | -47 |
| Saturation Adjustment Yellow | -9 |
| Scale Factor To 35 mm Equivalent | 0.8 |
| Scene Capture Type | Standard |
| Scene referred | False |
| Sensing Method | One-chip color area |
| Shadow Tint | 0 |
| Shadows 2012 | +55 |
| Sharpen Detail | 25 |
| Sharpen Edge Masking | 0 |
| Sharpen Radius | +1.0 |
| Sharpness | Hard |
| Split Toning Balance | 0 |
| Split Toning Highlight Hue | 39 |
| Split Toning Highlight Saturation | 13 |
| Split Toning Shadow Hue | 102 |
| Split Toning Shadow Saturation | 17 |
| Strip Byte Counts | 474193920 |
| Strip Offsets | 33182 |
| Subfile Type | Full-resolution Image |
| Subject Distance Range | Distant |
| Texture | +26 |
| Tint | -5 |
| Tone Curve Name 2012 | Custom |
| Tone Curve PV2012 | 0, 37, 45, 47, 94, 85, 152, 150, 255, 223 |
| Tone Curve PV2012 Blue | 0, 0, 38, 18, 79, 64, 115, 122, 179, 200, 255, 255 |
| Tone Curve PV2012 Green | 0, 0, 49, 29, 88, 76, 119, 124, 179, 200, 255, 255 |
| Tone Curve PV2012 Red | 0, 0, 47, 19, 82, 61, 114, 122, 177, 196, 255, 255 |
| Version | 17.3.1 |
| Vibrance | +35 |
| Vignette Amount | 0 |
| Vignette Correction Already Applied | True |
| White Balance | Custom |
| Whites 2012 | -100 |
X