Shooting information for this photo
| Camera: | NIKON CORPORATION NIKON D200 |
| Exposure: | 0.00063 sec. (1/1600) |
| Aperture: | f/9.0 |
| Focal Length: | 31.0 mm (35 mm equivalent: 46.0 mm) |
| Flash: | No Flash |
| Exposure mode: | Aperture-priority AE |
| Max Aperture: | 2.8 |
| Resolution: | 240 x 240 dpi |
| Original Date: | 2025:06:01 17:05:43.64 |
| Created on: | 2025:06:01 17:05:43.64 |
| Modified on: | 2025:06:02 00:03:50 |
| Software: | Adobe Lightroom 8.3.1 (Windows) |
| Already Applied | True |
| Approximate Focus Distance | 4294967295 |
| Auto Lateral CA | 1 |
| Bits Per Sample | 32 32 32 |
| Blacks 2012 | +12 |
| Blue Hue | 0 |
| Blue Saturation | 0 |
| CFA Pattern | [Green,Red][Blue,Green] |
| Camera Profile | Adobe Standard |
| Ccv avg luminance nits | 33.98865 |
| Ccv max luminance nits | 2792.276058 |
| Ccv min luminance nits | 0.144888 |
| Ccv primaries xy | 0.6400,0.3300,0.2100,0.7100,0. 1500,0.0600 |
| Ccv white xy | 0.3127,0.3290 |
| Circle Of Confusion | 0.020 mm |
| Clarity 2012 | +87 |
| Color Grade Blending | 77 |
| Color Grade Global Hue | 0 |
| Color Grade Global Lum | 0 |
| Color Grade Global Sat | 0 |
| Color Grade Highlight Lum | -29 |
| Color Grade Midtone Hue | 40 |
| Color Grade Midtone Lum | -33 |
| Color Grade Midtone Sat | 27 |
| Color Grade Shadow Lum | +25 |
| Color Noise Reduction | 25 |
| Color Noise Reduction Detail | 50 |
| Color Noise Reduction Smoothness | 50 |
| Color Space | Uncalibrated |
| Color Temperature | 5276 |
| Compatible Version | 268435456 |
| Contrast | Normal |
| Contrast 2012 | +53 |
| Crop Angle | 0 |
| Crop Bottom | 0.893125 |
| Crop Constrain To Unit Square | 1 |
| Crop Constrain To Warp | 0 |
| Crop Left | 0.11149 |
| Crop Right | 0.950095 |
| Crop Top | 0.05452 |
| Curve Refine Saturation | 100 |
| Custom Rendered | Normal |
| Defringe Green Amount | 0 |
| Defringe Green Hue Hi | 60 |
| Defringe Green Hue Lo | 40 |
| Defringe Purple Amount | 0 |
| Defringe Purple Hue Hi | 70 |
| Defringe Purple Hue Lo | 30 |
| Dehaze | +95 |
| Digital Zoom Ratio | 1 |
| Exposure 2012 | +0.71 |
| Exposure Compensation | -8/3 |
| Exposure Mode | Auto |
| Field Of View | 42.7 deg |
| Focal Length In 35mm Format | 46 mm |
| Format | image/tiff |
| Gain Control | Low gain up |
| Grain Amount | 28 |
| Grain Frequency | 50 |
| Grain Size | 25 |
| Green Hue | 0 |
| Green Saturation | 0 |
| HDR Edit Mode | 1 |
| HDR Max Value | +4.00 |
| Has Crop | True |
| Has Settings | True |
| Highlights 2012 | +31 |
| Hue Adjustment Aqua | +5 |
| Hue Adjustment Blue | +2 |
| Hue Adjustment Green | +10 |
| Hue Adjustment Magenta | +13 |
| Hue Adjustment Orange | 0 |
| Hue Adjustment Purple | +10 |
| Hue Adjustment Red | -12 |
| Hue Adjustment Yellow | +16 |
| Hyperfocal Distance | 5.27 m |
| ISO | 400 |
| Image Height | 3247 |
| Image Number | 23531 |
| Image Size | 2174x3247 |
| Image Width | 2174 |
| Is Merged HDR | True |
| Lateral Chromatic Aberration Correction Already Applied | True |
| Lens | 17.0-55.0 mm f/2.8 |
| Lens ID | AF-S DX Zoom-Nikkor 17-55mm f/2.8G IF-ED |
| Lens Info | 17-55mm f/2.8 |
| Lens Manual Distortion Amount | 0 |
| Lens Model | 17.0-55.0 mm f/2.8 |
| Lens Profile Enable | 0 |
| Light Source | Unknown |
| Light Value | 15.0 |
| Look Amount | 1 |
| Look Group | Profiles |
| Look Name | Adobe Color |
| Look Parameters Camera Profile | Adobe Standard |
| Look Parameters Convert To Grayscale | False |
| Look Parameters Look Table | E1095149FDB39D7A057BAB208837E2 E1 |
| Look Parameters Process Version | 15.4 |
| Look Parameters Tone Curve PV2012 | 0, 0, 22, 16, 40, 35, 127, 127, 224, 230, 240, 246, 255, 255 |
| Look Parameters Tone Curve PV2012 Blue | 0, 0, 255, 255 |
| Look Parameters Tone Curve PV2012 Green | 0, 0, 255, 255 |
| Look Parameters Tone Curve PV2012 Red | 0, 0, 255, 255 |
| Look Parameters Version | 17.3.1 |
| Look Supports Amount | false |
| Look Supports Monochrome | false |
| Look Supports Output Referred | false |
| Luminance Adjustment Aqua | 0 |
| Luminance Adjustment Blue | -3 |
| Luminance Adjustment Green | 0 |
| Luminance Adjustment Magenta | +13 |
| Luminance Adjustment Orange | -6 |
| Luminance Adjustment Purple | 0 |
| Luminance Adjustment Red | -14 |
| Luminance Adjustment Yellow | 0 |
| Luminance Smoothing | 0 |
| Metering Mode | Center-weighted average |
| Override Look Vignette | False |
| Parametric Darks | 0 |
| Parametric Highlight Split | 75 |
| Parametric Highlights | 0 |
| Parametric Lights | 0 |
| Parametric Midtone Split | 50 |
| Parametric Shadow Split | 25 |
| Parametric Shadows | 0 |
| Perspective Aspect | 0 |
| Perspective Horizontal | 0 |
| Perspective Rotate | 0.0 |
| Perspective Scale | 100 |
| Perspective Upright | 0 |
| Perspective Vertical | 0 |
| Perspective X | 0.00 |
| Perspective Y | 0.00 |
| Photometric Interpretation | RGB |
| Planar Configuration | Chunky |
| Point Colors | -1.000000, -1.000000, -1.000000, -1.000000, -1.000000, -1.000000, -1.000000, -1.000000, -1.000000, -1.000000, -1.000000, -1.000000, -1.000000, -1.000000, -1.000000, -1.000000, -1.000000, -1.000000, -1.000000 |
| Post Crop Vignette Amount | 0 |
| Process Version | 15.4 |
| Raw File Name | _2000213-HDR.dng |
| Red Hue | 0 |
| Red Saturation | 0 |
| Rows Per Strip | 3247 |
| SDR Blend | +46 |
| SDR Brightness | +39 |
| SDR Clarity | +41 |
| SDR Contrast | +50 |
| SDR Highlights | -19 |
| SDR Shadows | +3 |
| SDR Whites | -19 |
| Sample Format | Float; Float; Float |
| Samples Per Pixel | 3 |
| Saturation | Normal |
| Saturation Adjustment Aqua | -10 |
| Saturation Adjustment Blue | -2 |
| Saturation Adjustment Green | -13 |
| Saturation Adjustment Magenta | +28 |
| Saturation Adjustment Orange | -10 |
| Saturation Adjustment Purple | +37 |
| Saturation Adjustment Red | -13 |
| Saturation Adjustment Yellow | +19 |
| Scale Factor To 35 mm Equivalent | 1.5 |
| Scene Capture Type | Standard |
| Scene Type | Directly photographed |
| Scene referred | False |
| Sensing Method | One-chip color area |
| Shadow Tint | 0 |
| Shadows 2012 | +65 |
| Sharpen Detail | 25 |
| Sharpen Edge Masking | 0 |
| Sharpen Radius | +1.0 |
| Sharpness | Normal |
| Split Toning Balance | +33 |
| Split Toning Highlight Hue | 56 |
| Split Toning Highlight Saturation | 10 |
| Split Toning Shadow Hue | 208 |
| Split Toning Shadow Saturation | 57 |
| Strip Byte Counts | 84707736 |
| Strip Offsets | 44830 |
| Subfile Type | Full-resolution Image |
| Subject Distance Range | Unknown |
| Texture | +50 |
| Tint | +4 |
| Tone Curve Name 2012 | Custom |
| Tone Curve PV2012 | 0, 12, 32, 24, 70, 61, 111, 109, 177, 162, 255, 255 |
| Tone Curve PV2012 Blue | 0, 0, 255, 255 |
| Tone Curve PV2012 Green | 0, 0, 255, 255 |
| Tone Curve PV2012 Red | 0, 0, 255, 255 |
| Version | 17.3.1 |
| Vibrance | +60 |
| Vignette Amount | 0 |
| White Balance | Custom |
| Whites 2012 | -50 |
X