Shooting information for this photo
| Camera: | NIKON CORPORATION NIKON D800 |
| Exposure: | 0.00156 sec. (1/640) |
| Aperture: | f/13.0 |
| Focal Length: | 31.0 mm (35 mm equivalent: 31.0 mm) |
| Flash: | Off, Did not fire |
| Exposure mode: | Aperture-priority AE |
| Max Aperture: | 2.8 |
| Resolution: | 240 x 240 dpi |
| Original Date: | 2024:08:11 18:26:28.40 |
| Created on: | 2024:08:11 18:26:28.40 |
| Modified on: | 2024:08:12 18:28:20 |
| Software: | Adobe Lightroom 7.2 (Windows) |
| Copyright: | Alexander Hilpert |
| Already Applied | True |
| Approximate Focus Distance | 4294967295 |
| Artist | Alexander Hilpert |
| Auto Lateral CA | 1 |
| Bits Per Sample | 32 32 32 |
| Blacks 2012 | -52 |
| Blue Hue | 0 |
| Blue Saturation | 0 |
| CFA Pattern | [Red,Green][Green,Blue] |
| Camera Profile | Adobe Standard |
| Ccv avg luminance nits | 172.278838 |
| Ccv max luminance nits | 3248 |
| Ccv min luminance nits | 0 |
| Ccv primaries xy | 0.6400,0.3300,0.2100,0.7100,0. 1500,0.0600 |
| Ccv white xy | 0.3127,0.3290 |
| Circle Of Confusion | 0.030 mm |
| Clarity 2012 | +50 |
| Color Grade Blending | 50 |
| Color Grade Global Hue | 0 |
| Color Grade Global Lum | 0 |
| Color Grade Global Sat | 0 |
| Color Grade Highlight Lum | 0 |
| Color Grade Midtone Hue | 0 |
| Color Grade Midtone Lum | -31 |
| Color Grade Midtone Sat | 0 |
| Color Grade Shadow Lum | -47 |
| Color Noise Reduction | 25 |
| Color Noise Reduction Detail | 50 |
| Color Noise Reduction Smoothness | 50 |
| Color Space | Uncalibrated |
| Color Temperature | 5700 |
| Compatible Version | 268435456 |
| Contrast | Normal |
| Contrast 2012 | +40 |
| Creator | Alexander Hilpert |
| Crop Angle | 0 |
| Crop Bottom | 0.956465 |
| Crop Constrain To Warp | 0 |
| Crop Left | 0 |
| Crop Right | 0.995791 |
| Crop Top | 0.004209 |
| Custom Rendered | Normal |
| Defringe Green Amount | 0 |
| Defringe Green Hue Hi | 60 |
| Defringe Green Hue Lo | 40 |
| Defringe Purple Amount | 0 |
| Defringe Purple Hue Hi | 70 |
| Defringe Purple Hue Lo | 30 |
| Dehaze | +27 |
| Digital Zoom Ratio | 1 |
| Distortion Correction Already Applied | True |
| Exposure 2012 | +1.70 |
| Exposure Compensation | -2 |
| Exposure Mode | Auto |
| Field Of View | 60.3 deg |
| Focal Length In 35mm Format | 31 mm |
| Format | image/tiff |
| Gain Control | None |
| Grain Amount | 0 |
| Green Hue | 0 |
| Green Saturation | 0 |
| HDR Edit Mode | 1 |
| HDR Max Value | +4.00 |
| Has Crop | True |
| Has Settings | True |
| Highlights 2012 | -36 |
| Hue Adjustment Aqua | 0 |
| Hue Adjustment Blue | 0 |
| Hue Adjustment Green | +44 |
| Hue Adjustment Magenta | 0 |
| Hue Adjustment Orange | 0 |
| Hue Adjustment Purple | 0 |
| Hue Adjustment Red | 0 |
| Hue Adjustment Yellow | 0 |
| Hyperfocal Distance | 2.46 m |
| ISO | 100 |
| Image Height | 4677 |
| Image Number | 17570 |
| Image Size | 7329x4677 |
| Image Width | 7329 |
| Is Merged HDR | True |
| Lateral Chromatic Aberration Correction Already Applied | True |
| Lens | 28.0-70.0 mm f/2.8 |
| Lens ID | AF-S Zoom-Nikkor 28-70mm f/2.8D IF-ED |
| Lens Info | 28-70mm f/2.8 |
| Lens Manual Distortion Amount | 0 |
| Lens Model | 28.0-70.0 mm f/2.8 |
| Lens Profile Distortion Scale | 100 |
| Lens Profile Enable | 1 |
| Lens Profile Filename | NIKON D3 (Nikon AF-S Zoom-NIKKOR 28-70mm f2.8D IF-ED) - RAW.lcp |
| Lens Profile Is Embedded | False |
| Lens Profile Name | Adobe (Nikon AF-S Zoom-NIKKOR 28-70mm f/2.8D IF-ED) |
| Lens Profile Setup | LensDefaults |
| Lens Profile Vignetting Scale | 100 |
| Light Source | Unknown |
| Light Value | 16.7 |
| Look Amount | 1 |
| Look Group | Profiles |
| Look Name | Adobe Color |
| Look Parameters Camera Profile | Adobe Standard |
| Look Parameters Convert To Grayscale | False |
| Look Parameters Look Table | E1095149FDB39D7A057BAB208837E2 E1 |
| Look Parameters Process Version | 15.4 |
| Look Parameters Tone Curve PV2012 | 0, 0, 22, 16, 40, 35, 127, 127, 224, 230, 240, 246, 255, 255 |
| Look Parameters Tone Curve PV2012 Blue | 0, 0, 255, 255 |
| Look Parameters Tone Curve PV2012 Green | 0, 0, 255, 255 |
| Look Parameters Tone Curve PV2012 Red | 0, 0, 255, 255 |
| Look Parameters Version | 16.2 |
| Look Supports Amount | false |
| Look Supports Monochrome | false |
| Look Supports Output Referred | false |
| Luminance Adjustment Aqua | 0 |
| Luminance Adjustment Blue | 0 |
| Luminance Adjustment Green | -23 |
| Luminance Adjustment Magenta | 0 |
| Luminance Adjustment Orange | 0 |
| Luminance Adjustment Purple | 0 |
| Luminance Adjustment Red | 0 |
| Luminance Adjustment Yellow | 0 |
| Luminance Smoothing | 0 |
| Metering Mode | Spot |
| Override Look Vignette | False |
| Parametric Darks | 0 |
| Parametric Highlight Split | 75 |
| Parametric Highlights | 0 |
| Parametric Lights | 0 |
| Parametric Midtone Split | 50 |
| Parametric Shadow Split | 25 |
| Parametric Shadows | -12 |
| Perspective Aspect | 0 |
| Perspective Horizontal | 0 |
| Perspective Rotate | 0.0 |
| Perspective Scale | 100 |
| Perspective Upright | 0 |
| Perspective Vertical | 0 |
| Perspective X | 0.00 |
| Perspective Y | 0.00 |
| Photometric Interpretation | RGB |
| Planar Configuration | Chunky |
| Point Colors | -1.000000, -1.000000, -1.000000, -1.000000, -1.000000, -1.000000, -1.000000, -1.000000, -1.000000, -1.000000, -1.000000, -1.000000, -1.000000, -1.000000, -1.000000, -1.000000, -1.000000, -1.000000, -1.000000 |
| Post Crop Vignette Amount | 0 |
| Process Version | 15.4 |
| Raw File Name | _HIL7891-HDR.dng |
| Red Hue | 0 |
| Red Saturation | 0 |
| Rights | Alexander Hilpert |
| Rows Per Strip | 4677 |
| SDR Blend | -22 |
| SDR Brightness | -54 |
| SDR Clarity | +53 |
| SDR Contrast | +37 |
| SDR Highlights | -65 |
| SDR Shadows | -16 |
| SDR Whites | +47 |
| Sample Format | Float; Float; Float |
| Samples Per Pixel | 3 |
| Saturation | Normal |
| Saturation Adjustment Aqua | 0 |
| Saturation Adjustment Blue | 0 |
| Saturation Adjustment Green | -47 |
| Saturation Adjustment Magenta | 0 |
| Saturation Adjustment Orange | 0 |
| Saturation Adjustment Purple | 0 |
| Saturation Adjustment Red | 0 |
| Saturation Adjustment Yellow | 0 |
| Scale Factor To 35 mm Equivalent | 1.0 |
| Scene Capture Type | Standard |
| Scene Type | Directly photographed |
| Scene referred | False |
| Sensing Method | One-chip color area |
| Sensitivity Type | Recommended Exposure Index |
| Shadow Tint | 0 |
| Shadows 2012 | +68 |
| Sharpen Detail | 25 |
| Sharpen Edge Masking | 0 |
| Sharpen Radius | +1.0 |
| Sharpness | Normal |
| Split Toning Balance | 0 |
| Split Toning Highlight Hue | 0 |
| Split Toning Highlight Saturation | 0 |
| Split Toning Shadow Hue | 0 |
| Split Toning Shadow Saturation | 0 |
| Strip Byte Counts | 411332796 |
| Strip Offsets | 29768 |
| Subfile Type | Full-resolution Image |
| Subject Distance Range | Unknown |
| Texture | +32 |
| Tint | +14 |
| Tone Curve Name 2012 | Linear |
| Tone Curve PV2012 | 0, 0, 255, 255 |
| Tone Curve PV2012 Blue | 0, 0, 255, 255 |
| Tone Curve PV2012 Green | 0, 0, 255, 255 |
| Tone Curve PV2012 Red | 0, 0, 255, 255 |
| Version | 16.2 |
| Vibrance | +52 |
| Vignette Amount | 0 |
| Vignette Correction Already Applied | True |
| White Balance | As Shot |
| Whites 2012 | -11 |
X