Shooting information for this photo
| Camera: | NIKON CORPORATION NIKON D800 |
| Exposure: | 0.001 sec. (1/1000) |
| Aperture: | f/7.1 |
| Focal Length: | 70.0 mm (35 mm equivalent: 70.0 mm) |
| Flash: | Off, Did not fire |
| Exposure mode: | Aperture-priority AE |
| Max Aperture: | 2.8 |
| Resolution: | 240 x 240 dpi |
| Original Date: | 2024:08:04 17:28:16.50 |
| Created on: | 2024:08:04 17:28:16.50 |
| Modified on: | 2024:08:04 21:45:34 |
| Software: | Adobe Lightroom 7.2 (Windows) |
| Copyright: | Alexander Hilpert |
| Already Applied | True |
| Approximate Focus Distance | 4294967295 |
| Artist | Alexander Hilpert |
| Auto Lateral CA | 1 |
| Bits Per Sample | 32 32 32 |
| Blacks 2012 | +5 |
| Blue Hue | 0 |
| Blue Saturation | 0 |
| CFA Pattern | [Red,Green][Green,Blue] |
| Camera Profile | Adobe Standard |
| Ccv avg luminance nits | 72.717337 |
| Ccv max luminance nits | 3248 |
| Ccv min luminance nits | 0 |
| Ccv primaries xy | 0.6400,0.3300,0.2100,0.7100,0. 1500,0.0600 |
| Ccv white xy | 0.3127,0.3290 |
| Circle Of Confusion | 0.030 mm |
| Clarity 2012 | +59 |
| Color Grade Blending | 61 |
| Color Grade Global Hue | 0 |
| Color Grade Global Lum | 0 |
| Color Grade Global Sat | 0 |
| Color Grade Highlight Lum | -82 |
| Color Grade Midtone Hue | 0 |
| Color Grade Midtone Lum | -81 |
| Color Grade Midtone Sat | 0 |
| Color Grade Shadow Lum | -18 |
| Color Noise Reduction | 44 |
| Color Noise Reduction Detail | 50 |
| Color Noise Reduction Smoothness | 50 |
| Color Space | Uncalibrated |
| Color Temperature | 4750 |
| Compatible Version | 268435456 |
| Contrast | Normal |
| Contrast 2012 | +54 |
| Creator | Alexander Hilpert |
| Crop Angle | 0 |
| Crop Bottom | 0.942956 |
| Crop Constrain To Warp | 0 |
| Crop Left | 0.040794 |
| Crop Right | 0.98375 |
| Crop Top | 0 |
| Custom Rendered | Normal |
| Defringe Green Amount | 0 |
| Defringe Green Hue Hi | 60 |
| Defringe Green Hue Lo | 40 |
| Defringe Purple Amount | 0 |
| Defringe Purple Hue Hi | 70 |
| Defringe Purple Hue Lo | 30 |
| Dehaze | +78 |
| Digital Zoom Ratio | 1 |
| Distortion Correction Already Applied | True |
| Exposure 2012 | +1.72 |
| Exposure Compensation | -1 |
| Exposure Mode | Auto |
| Field Of View | 28.8 deg |
| Focal Length In 35mm Format | 70 mm |
| Format | image/tiff |
| Gain Control | None |
| Grain Amount | 0 |
| Green Hue | 0 |
| Green Saturation | 0 |
| HDR Edit Mode | 1 |
| HDR Max Value | +4.00 |
| Has Crop | True |
| Has Settings | True |
| Highlights 2012 | +3 |
| Hue Adjustment Aqua | 0 |
| Hue Adjustment Blue | 0 |
| Hue Adjustment Green | 0 |
| Hue Adjustment Magenta | 0 |
| Hue Adjustment Orange | 0 |
| Hue Adjustment Purple | 0 |
| Hue Adjustment Red | 0 |
| Hue Adjustment Yellow | 0 |
| Hyperfocal Distance | 22.97 m |
| ISO | 200 |
| Image Height | 4632 |
| Image Number | 17168 |
| Image Size | 6940x4632 |
| Image Width | 6940 |
| Is Merged HDR | True |
| Lateral Chromatic Aberration Correction Already Applied | True |
| Lens | 28.0-70.0 mm f/2.8 |
| Lens ID | AF-S Zoom-Nikkor 28-70mm f/2.8D IF-ED |
| Lens Info | 28-70mm f/2.8 |
| Lens Manual Distortion Amount | 0 |
| Lens Model | 28.0-70.0 mm f/2.8 |
| Lens Profile Distortion Scale | 100 |
| Lens Profile Enable | 1 |
| Lens Profile Filename | NIKON D3 (Nikon AF-S Zoom-NIKKOR 28-70mm f2.8D IF-ED) - RAW.lcp |
| Lens Profile Is Embedded | False |
| Lens Profile Name | Adobe (Nikon AF-S Zoom-NIKKOR 28-70mm f/2.8D IF-ED) |
| Lens Profile Setup | LensDefaults |
| Lens Profile Vignetting Scale | 100 |
| Light Source | Unknown |
| Light Value | 14.6 |
| Look Amount | 1 |
| Look Group | Profiles |
| Look Name | Adobe Color |
| Look Parameters Camera Profile | Adobe Standard |
| Look Parameters Convert To Grayscale | False |
| Look Parameters Look Table | E1095149FDB39D7A057BAB208837E2 E1 |
| Look Parameters Process Version | 15.4 |
| Look Parameters Tone Curve PV2012 | 0, 0, 22, 16, 40, 35, 127, 127, 224, 230, 240, 246, 255, 255 |
| Look Parameters Tone Curve PV2012 Blue | 0, 0, 255, 255 |
| Look Parameters Tone Curve PV2012 Green | 0, 0, 255, 255 |
| Look Parameters Tone Curve PV2012 Red | 0, 0, 255, 255 |
| Look Parameters Version | 16.2 |
| Look Supports Amount | false |
| Look Supports Monochrome | false |
| Look Supports Output Referred | false |
| Luminance Adjustment Aqua | 0 |
| Luminance Adjustment Blue | 0 |
| Luminance Adjustment Green | 0 |
| Luminance Adjustment Magenta | 0 |
| Luminance Adjustment Orange | 0 |
| Luminance Adjustment Purple | 0 |
| Luminance Adjustment Red | 0 |
| Luminance Adjustment Yellow | 0 |
| Luminance Noise Reduction Contrast | 0 |
| Luminance Noise Reduction Detail | 50 |
| Luminance Smoothing | 34 |
| Metering Mode | Multi-segment |
| Override Look Vignette | False |
| Parametric Darks | -9 |
| Parametric Highlight Split | 75 |
| Parametric Highlights | +4 |
| Parametric Lights | -26 |
| Parametric Midtone Split | 50 |
| Parametric Shadow Split | 25 |
| Parametric Shadows | -4 |
| Perspective Aspect | 0 |
| Perspective Horizontal | 0 |
| Perspective Rotate | 0.0 |
| Perspective Scale | 100 |
| Perspective Upright | 0 |
| Perspective Vertical | 0 |
| Perspective X | 0.00 |
| Perspective Y | 0.00 |
| Photometric Interpretation | RGB |
| Planar Configuration | Chunky |
| Point Colors | -1.000000, -1.000000, -1.000000, -1.000000, -1.000000, -1.000000, -1.000000, -1.000000, -1.000000, -1.000000, -1.000000, -1.000000, -1.000000, -1.000000, -1.000000, -1.000000, -1.000000, -1.000000, -1.000000 |
| Post Crop Vignette Amount | 0 |
| Process Version | 15.4 |
| Raw File Name | _HIL7524-HDR.dng |
| Red Hue | 0 |
| Red Saturation | 0 |
| Rights | Alexander Hilpert |
| Rows Per Strip | 4632 |
| SDR Blend | -58 |
| SDR Brightness | +62 |
| SDR Clarity | +57 |
| SDR Contrast | +68 |
| SDR Highlights | +79 |
| SDR Shadows | +63 |
| SDR Whites | -42 |
| Sample Format | Float; Float; Float |
| Samples Per Pixel | 3 |
| Saturation | Normal |
| Saturation Adjustment Aqua | 0 |
| Saturation Adjustment Blue | 0 |
| Saturation Adjustment Green | 0 |
| Saturation Adjustment Magenta | 0 |
| Saturation Adjustment Orange | 0 |
| Saturation Adjustment Purple | 0 |
| Saturation Adjustment Red | 0 |
| Saturation Adjustment Yellow | 0 |
| Scale Factor To 35 mm Equivalent | 1.0 |
| Scene Capture Type | Standard |
| Scene Type | Directly photographed |
| Scene referred | False |
| Sensing Method | One-chip color area |
| Sensitivity Type | Recommended Exposure Index |
| Shadow Tint | 0 |
| Shadows 2012 | +72 |
| Sharpen Detail | 25 |
| Sharpen Edge Masking | 0 |
| Sharpen Radius | +1.0 |
| Sharpness | Normal |
| Split Toning Balance | -21 |
| Split Toning Highlight Hue | 0 |
| Split Toning Highlight Saturation | 0 |
| Split Toning Shadow Hue | 0 |
| Split Toning Shadow Saturation | 0 |
| Strip Byte Counts | 385752960 |
| Strip Offsets | 33956 |
| Subfile Type | Full-resolution Image |
| Subject Distance Range | Unknown |
| Texture | +52 |
| Tint | -4 |
| Tone Curve Name 2012 | Linear |
| Tone Curve PV2012 | 0, 0, 255, 255 |
| Tone Curve PV2012 Blue | 0, 0, 255, 255 |
| Tone Curve PV2012 Green | 0, 0, 255, 255 |
| Tone Curve PV2012 Red | 0, 0, 255, 255 |
| Version | 16.2 |
| Vibrance | +66 |
| Vignette Amount | 0 |
| Vignette Correction Already Applied | True |
| White Balance | As Shot |
| Whites 2012 | -85 |
X