Shooting information for this photo
Camera: | NIKON CORPORATION NIKON D800 |
Exposure: | 0.0025 sec. (1/400) |
Aperture: | f/6.3 |
Focal Length: | 52.0 mm (35 mm equivalent: 52.0 mm) |
Flash: | Off, Did not fire |
Exposure mode: | Aperture-priority AE |
Max Aperture: | 2.8 |
Resolution: | 240 x 240 dpi |
Original Date: | 2024:08:04 16:49:24.00 |
Created on: | 2024:08:04 16:49:24.00 |
Modified on: | 2024:08:04 19:47:40 |
Software: | Adobe Lightroom 7.2 (Windows) |
Copyright: | Alexander Hilpert |
Already Applied | True |
Approximate Focus Distance | 4294967295 |
Artist | Alexander Hilpert |
Auto Lateral CA | 1 |
Bits Per Sample | 32 32 32 |
Blacks 2012 | -18 |
Blue Hue | 0 |
Blue Saturation | 0 |
CFA Pattern | [Red,Green][Green,Blue] |
Camera Profile | Adobe Standard |
Ccv avg luminance nits | 54.331851 |
Ccv max luminance nits | 3248 |
Ccv min luminance nits | 0 |
Ccv primaries xy | 0.6400,0.3300,0.2100,0.7100,0. 1500,0.0600 |
Ccv white xy | 0.3127,0.3290 |
Circle Of Confusion | 0.030 mm |
Clarity 2012 | +69 |
Color Grade Blending | 61 |
Color Grade Global Hue | 0 |
Color Grade Global Lum | 0 |
Color Grade Global Sat | 0 |
Color Grade Highlight Lum | -53 |
Color Grade Midtone Hue | 0 |
Color Grade Midtone Lum | -50 |
Color Grade Midtone Sat | 0 |
Color Grade Shadow Lum | -14 |
Color Noise Reduction | 25 |
Color Noise Reduction Detail | 50 |
Color Noise Reduction Smoothness | 50 |
Color Space | Uncalibrated |
Color Temperature | 4800 |
Compatible Version | 268435456 |
Contrast | Normal |
Contrast 2012 | +6 |
Creator | Alexander Hilpert |
Crop Angle | 0 |
Crop Bottom | 1 |
Crop Constrain To Warp | 0 |
Crop Left | 0.166359 |
Crop Right | 0.83375 |
Crop Top | 0 |
Custom Rendered | Normal |
Defringe Green Amount | 0 |
Defringe Green Hue Hi | 60 |
Defringe Green Hue Lo | 40 |
Defringe Purple Amount | 0 |
Defringe Purple Hue Hi | 70 |
Defringe Purple Hue Lo | 30 |
Dehaze | +58 |
Depth Map Info Depth Source | 2 |
Digital Zoom Ratio | 1 |
Distortion Correction Already Applied | True |
Exposure 2012 | +0.76 |
Exposure Compensation | -2/3 |
Exposure Mode | Auto |
Field Of View | 38.2 deg |
Focal Length In 35mm Format | 52 mm |
Format | image/tiff |
Gain Control | None |
Grain Amount | 0 |
Green Hue | 0 |
Green Saturation | 0 |
HDR Edit Mode | 1 |
HDR Max Value | +4.00 |
Has Crop | True |
Has Settings | True |
Highlights 2012 | -38 |
Hue Adjustment Aqua | 0 |
Hue Adjustment Blue | 0 |
Hue Adjustment Green | 0 |
Hue Adjustment Magenta | 0 |
Hue Adjustment Orange | 0 |
Hue Adjustment Purple | 0 |
Hue Adjustment Red | 0 |
Hue Adjustment Yellow | 0 |
Hyperfocal Distance | 14.28 m |
ISO | 100 |
Image Height | 4912 |
Image Number | 17071 |
Image Size | 4912x4912 |
Image Width | 4912 |
Lateral Chromatic Aberration Correction Already Applied | True |
Lens | 28.0-70.0 mm f/2.8 |
Lens Blur Active | true |
Lens Blur Blur Amount | 78 |
Lens Blur Bokeh Aspect | 0 |
Lens Blur Bokeh Rotation | 0 |
Lens Blur Bokeh Shape | 0 |
Lens Blur Bokeh Shape Detail | 0 |
Lens Blur Cat Eye Amount | 0 |
Lens Blur Cat Eye Scale | 100 |
Lens Blur Focal Range | -80 0 100 180 |
Lens Blur Focal Range Source | 3 |
Lens Blur Highlights Boost | 67 |
Lens Blur Highlights Threshold | 50 |
Lens Blur Spherical Aberration | 80 |
Lens Blur Version | 1 |
Lens ID | AF-S Zoom-Nikkor 28-70mm f/2.8D IF-ED |
Lens Info | 28-70mm f/2.8 |
Lens Manual Distortion Amount | 0 |
Lens Model | 28.0-70.0 mm f/2.8 |
Lens Profile Distortion Scale | 100 |
Lens Profile Enable | 1 |
Lens Profile Filename | NIKON D3 (Nikon AF-S Zoom-NIKKOR 28-70mm f2.8D IF-ED) - RAW.lcp |
Lens Profile Is Embedded | False |
Lens Profile Name | Adobe (Nikon AF-S Zoom-NIKKOR 28-70mm f/2.8D IF-ED) |
Lens Profile Setup | LensDefaults |
Lens Profile Vignetting Scale | 100 |
Light Source | Unknown |
Light Value | 14.0 |
Look Amount | 1 |
Look Group | Profiles |
Look Name | Adobe Color |
Look Parameters Camera Profile | Adobe Standard |
Look Parameters Convert To Grayscale | False |
Look Parameters Look Table | E1095149FDB39D7A057BAB208837E2 E1 |
Look Parameters Process Version | 15.4 |
Look Parameters Tone Curve PV2012 | 0, 0, 22, 16, 40, 35, 127, 127, 224, 230, 240, 246, 255, 255 |
Look Parameters Tone Curve PV2012 Blue | 0, 0, 255, 255 |
Look Parameters Tone Curve PV2012 Green | 0, 0, 255, 255 |
Look Parameters Tone Curve PV2012 Red | 0, 0, 255, 255 |
Look Parameters Version | 16.2 |
Look Supports Amount | false |
Look Supports Monochrome | false |
Look Supports Output Referred | false |
Luminance Adjustment Aqua | 0 |
Luminance Adjustment Blue | 0 |
Luminance Adjustment Green | 0 |
Luminance Adjustment Magenta | 0 |
Luminance Adjustment Orange | 0 |
Luminance Adjustment Purple | 0 |
Luminance Adjustment Red | 0 |
Luminance Adjustment Yellow | 0 |
Luminance Smoothing | 0 |
Metering Mode | Multi-segment |
Override Look Vignette | False |
Parametric Darks | +8 |
Parametric Highlight Split | 75 |
Parametric Highlights | +4 |
Parametric Lights | -26 |
Parametric Midtone Split | 50 |
Parametric Shadow Split | 25 |
Parametric Shadows | -41 |
Perspective Aspect | 0 |
Perspective Horizontal | 0 |
Perspective Rotate | 0.0 |
Perspective Scale | 100 |
Perspective Upright | 0 |
Perspective Vertical | 0 |
Perspective X | 0.00 |
Perspective Y | 0.00 |
Photometric Interpretation | RGB |
Planar Configuration | Chunky |
Point Colors | -1.000000, -1.000000, -1.000000, -1.000000, -1.000000, -1.000000, -1.000000, -1.000000, -1.000000, -1.000000, -1.000000, -1.000000, -1.000000, -1.000000, -1.000000, -1.000000, -1.000000, -1.000000, -1.000000 |
Post Crop Vignette Amount | 0 |
Process Version | 15.4 |
Raw File Name | _HIL7427.NEF |
Red Hue | 0 |
Red Saturation | 0 |
Rights | Alexander Hilpert |
Rows Per Strip | 4912 |
SDR Blend | 0 |
SDR Brightness | +79 |
SDR Clarity | +33 |
SDR Contrast | +34 |
SDR Highlights | +30 |
SDR Shadows | +38 |
SDR Whites | +57 |
Sample Format | Float; Float; Float |
Samples Per Pixel | 3 |
Saturation | Normal |
Saturation Adjustment Aqua | 0 |
Saturation Adjustment Blue | 0 |
Saturation Adjustment Green | 0 |
Saturation Adjustment Magenta | 0 |
Saturation Adjustment Orange | 0 |
Saturation Adjustment Purple | 0 |
Saturation Adjustment Red | 0 |
Saturation Adjustment Yellow | 0 |
Scale Factor To 35 mm Equivalent | 1.0 |
Scene Capture Type | Standard |
Scene Type | Directly photographed |
Scene referred | False |
Sensing Method | One-chip color area |
Sensitivity Type | Recommended Exposure Index |
Shadow Tint | 0 |
Shadows 2012 | +57 |
Sharpen Detail | 25 |
Sharpen Edge Masking | 0 |
Sharpen Radius | +1.0 |
Sharpness | Normal |
Split Toning Balance | -21 |
Split Toning Highlight Hue | 0 |
Split Toning Highlight Saturation | 0 |
Split Toning Shadow Hue | 0 |
Split Toning Shadow Saturation | 0 |
Strip Byte Counts | 289532928 |
Strip Offsets | 54668 |
Subfile Type | Full-resolution Image |
Subject Distance Range | Unknown |
Texture | +93 |
Tint | +7 |
Tone Curve Name 2012 | Linear |
Tone Curve PV2012 | 0, 0, 255, 255 |
Tone Curve PV2012 Blue | 0, 0, 255, 255 |
Tone Curve PV2012 Green | 0, 0, 255, 255 |
Tone Curve PV2012 Red | 0, 0, 255, 255 |
Version | 16.2 |
Vibrance | +15 |
Vignette Amount | 0 |
Vignette Correction Already Applied | True |
White Balance | As Shot |
Whites 2012 | +41 |
X