Shooting information for this photo
| Camera: | NIKON CORPORATION NIKON D800 |
| Exposure: | 0.00156 sec. (1/640) |
| Aperture: | f/3.5 |
| Focal Length: | 112.0 mm (35 mm equivalent: 112.0 mm) |
| Flash: | Off, Did not fire |
| Exposure mode: | Aperture-priority AE |
| Max Aperture: | 2.8 |
| Resolution: | 240 x 240 dpi |
| Original Date: | 2024:05:12 13:30:04.10 |
| Created on: | 2024:05:12 13:30:04.10 |
| Modified on: | 2024:05:12 16:36:56 |
| Software: | Adobe Lightroom 7.2 (Windows) |
| Copyright: | Alexander Hilpert |
| Already Applied | True |
| Approximate Focus Distance | 4294967295 |
| Artist | Alexander Hilpert |
| Auto Lateral CA | 1 |
| Bits Per Sample | 16 16 16 |
| Blacks 2012 | -66 |
| Blue Hue | 0 |
| Blue Saturation | 0 |
| CFA Pattern | [Red,Green][Green,Blue] |
| Camera Profile | Adobe Standard |
| Circle Of Confusion | 0.030 mm |
| Clarity 2012 | +42 |
| Color Grade Blending | 50 |
| Color Grade Global Hue | 0 |
| Color Grade Global Lum | 0 |
| Color Grade Global Sat | 0 |
| Color Grade Highlight Lum | 0 |
| Color Grade Midtone Hue | 40 |
| Color Grade Midtone Lum | 0 |
| Color Grade Midtone Sat | 38 |
| Color Grade Shadow Lum | -20 |
| Color Noise Reduction | 25 |
| Color Noise Reduction Detail | 50 |
| Color Noise Reduction Smoothness | 50 |
| Color Space | Uncalibrated |
| Color Temperature | 5050 |
| Contrast | Normal |
| Contrast 2012 | +24 |
| Creator | Alexander Hilpert |
| Crop Angle | 0 |
| Crop Bottom | 0.995039 |
| Crop Constrain To Warp | 0 |
| Crop Left | 0.036424 |
| Crop Right | 0.90789 |
| Crop Top | 0.123573 |
| Curve Refine Saturation | 100 |
| Custom Rendered | Normal |
| Defringe Green Amount | 0 |
| Defringe Green Hue Hi | 60 |
| Defringe Green Hue Lo | 40 |
| Defringe Purple Amount | 0 |
| Defringe Purple Hue Hi | 70 |
| Defringe Purple Hue Lo | 30 |
| Dehaze | +31 |
| Digital Zoom Ratio | 1 |
| Exposure 2012 | -0.09 |
| Exposure Compensation | 0 |
| Exposure Mode | Auto |
| Field Of View | 18.3 deg |
| Focal Length In 35mm Format | 112 mm |
| Format | image/tiff |
| Gain Control | None |
| Grain Amount | 0 |
| Gray Mixer Blue | +73 |
| Gray Mixer Green | +79 |
| Gray Mixer Magenta | +22 |
| Gray Mixer Orange | +27 |
| Gray Mixer Purple | +9 |
| Gray Mixer Red | +46 |
| Gray Mixer Yellow | +71 |
| Green Hue | 0 |
| Green Saturation | 0 |
| HDR Edit Mode | 0 |
| Has Crop | True |
| Has Settings | True |
| Highlights 2012 | -78 |
| Hue Adjustment Aqua | 0 |
| Hue Adjustment Blue | -6 |
| Hue Adjustment Green | -55 |
| Hue Adjustment Magenta | 0 |
| Hue Adjustment Orange | 0 |
| Hue Adjustment Purple | 0 |
| Hue Adjustment Red | 0 |
| Hue Adjustment Yellow | 0 |
| Hyperfocal Distance | 119.28 m |
| ISO | 100 |
| Image Height | 4281 |
| Image Number | 15216 |
| Image Size | 6414x4281 |
| Image Width | 6414 |
| Lateral Chromatic Aberration Correction Already Applied | True |
| Lens | 80.0-200.0 mm f/2.8 |
| Lens ID | AF-S Zoom-Nikkor 80-200mm f/2.8D IF-ED |
| Lens Info | 80-200mm f/2.8 |
| Lens Manual Distortion Amount | 0 |
| Lens Model | 80.0-200.0 mm f/2.8 |
| Lens Profile Enable | 1 |
| Lens Profile Setup | LensDefaults |
| Light Source | Unknown |
| Light Value | 12.9 |
| Look Amount | 1 |
| Look Group | Profiles |
| Look Name | Adobe Color |
| Look Parameters Camera Profile | Adobe Standard |
| Look Parameters Convert To Grayscale | False |
| Look Parameters Look Table | E1095149FDB39D7A057BAB208837E2 E1 |
| Look Parameters Process Version | 15.4 |
| Look Parameters Tone Curve PV2012 | 0, 0, 22, 16, 40, 35, 127, 127, 224, 230, 240, 246, 255, 255 |
| Look Parameters Tone Curve PV2012 Blue | 0, 0, 255, 255 |
| Look Parameters Tone Curve PV2012 Green | 0, 0, 255, 255 |
| Look Parameters Tone Curve PV2012 Red | 0, 0, 255, 255 |
| Look Parameters Version | 16.2 |
| Look Supports Amount | false |
| Look Supports Monochrome | false |
| Look Supports Output Referred | false |
| Luminance Adjustment Aqua | 0 |
| Luminance Adjustment Blue | -60 |
| Luminance Adjustment Green | +62 |
| Luminance Adjustment Magenta | 0 |
| Luminance Adjustment Orange | 0 |
| Luminance Adjustment Purple | 0 |
| Luminance Adjustment Red | 0 |
| Luminance Adjustment Yellow | 0 |
| Luminance Smoothing | 0 |
| Metering Mode | Spot |
| Override Look Vignette | False |
| Parametric Darks | 0 |
| Parametric Highlight Split | 75 |
| Parametric Highlights | 0 |
| Parametric Lights | 0 |
| Parametric Midtone Split | 50 |
| Parametric Shadow Split | 25 |
| Parametric Shadows | 0 |
| Perspective Aspect | 0 |
| Perspective Horizontal | 0 |
| Perspective Rotate | 0.0 |
| Perspective Scale | 100 |
| Perspective Upright | 0 |
| Perspective Vertical | 0 |
| Perspective X | 0.00 |
| Perspective Y | 0.00 |
| Photometric Interpretation | RGB |
| Planar Configuration | Chunky |
| Point Colors | -1.000000, -1.000000, -1.000000, -1.000000, -1.000000, -1.000000, -1.000000, -1.000000, -1.000000, -1.000000, -1.000000, -1.000000, -1.000000, -1.000000, -1.000000, -1.000000, -1.000000, -1.000000, -1.000000 |
| Post Crop Vignette Amount | 0 |
| Process Version | 15.4 |
| Raw File Name | _HIL5762.NEF |
| Red Hue | 0 |
| Red Saturation | 0 |
| Rights | Alexander Hilpert |
| Rows Per Strip | 4281 |
| Samples Per Pixel | 3 |
| Saturation | Normal |
| Saturation Adjustment Aqua | 0 |
| Saturation Adjustment Blue | +33 |
| Saturation Adjustment Green | -60 |
| Saturation Adjustment Magenta | 0 |
| Saturation Adjustment Orange | 0 |
| Saturation Adjustment Purple | 0 |
| Saturation Adjustment Red | 0 |
| Saturation Adjustment Yellow | 0 |
| Scale Factor To 35 mm Equivalent | 1.0 |
| Scene Capture Type | Standard |
| Scene Type | Directly photographed |
| Sensing Method | One-chip color area |
| Sensitivity Type | Recommended Exposure Index |
| Shadow Tint | 0 |
| Shadows 2012 | -48 |
| Sharpen Detail | 25 |
| Sharpen Edge Masking | 0 |
| Sharpen Radius | +1.0 |
| Sharpness | Normal |
| Split Toning Balance | 0 |
| Split Toning Highlight Hue | 205 |
| Split Toning Highlight Saturation | 16 |
| Split Toning Shadow Hue | 34 |
| Split Toning Shadow Saturation | 12 |
| Strip Byte Counts | 164750004 |
| Strip Offsets | 33922 |
| Subfile Type | Full-resolution Image |
| Subject Distance Range | Unknown |
| Texture | +32 |
| Tint | +1 |
| Tone Curve Name 2012 | Custom |
| Tone Curve PV2012 | 0, 0, 128, 128, 255, 241 |
| Tone Curve PV2012 Blue | 0, 0, 255, 255 |
| Tone Curve PV2012 Green | 0, 0, 255, 255 |
| Tone Curve PV2012 Red | 0, 0, 255, 255 |
| Version | 16.2 |
| Vibrance | +22 |
| Vignette Amount | 0 |
| White Balance | As Shot |
| Whites 2012 | +9 |
X