Shooting information for this photo
Camera: | NIKON CORPORATION NIKON D800 |
Exposure: | 0.00063 sec. (1/1600) |
Aperture: | f/2.8 |
Focal Length: | 300.0 mm (35 mm equivalent: 300.0 mm) |
Flash: | Off, Did not fire |
Exposure mode: | Aperture-priority AE |
Max Aperture: | 2.8 |
Resolution: | 240 x 240 dpi |
Original Date: | 2024:03:31 14:32:22.70 |
Created on: | 2024:03:31 14:32:22.70 |
Modified on: | 2024:04:01 21:43:54 |
Software: | Adobe Lightroom 7.2 (Windows) |
Copyright: | Alexander Hilpert |
Already Applied | True |
Approximate Focus Distance | 0.16 |
Artist | Alexander Hilpert |
Auto Lateral CA | 1 |
Bits Per Sample | 16 16 16 |
Blacks 2012 | -57 |
Blue Hue | 0 |
Blue Saturation | 0 |
CFA Pattern | [Red,Green][Green,Blue] |
Camera Profile | Adobe Standard |
Circle Of Confusion | 0.030 mm |
Clarity 2012 | +58 |
Color Grade Blending | 50 |
Color Grade Global Hue | 0 |
Color Grade Global Lum | 0 |
Color Grade Global Sat | 0 |
Color Grade Highlight Lum | 0 |
Color Grade Midtone Hue | 0 |
Color Grade Midtone Lum | 0 |
Color Grade Midtone Sat | 0 |
Color Grade Shadow Lum | 0 |
Color Noise Reduction | 25 |
Color Noise Reduction Detail | 50 |
Color Noise Reduction Smoothness | 50 |
Color Space | Uncalibrated |
Color Temperature | 5050 |
Compatible Version | 268435456 |
Contrast | Normal |
Contrast 2012 | +52 |
Creator | Alexander Hilpert |
Crop Angle | 0 |
Crop Bottom | 1 |
Crop Constrain To Warp | 0 |
Crop Left | 0 |
Crop Right | 1 |
Crop Top | 0 |
Custom Rendered | Normal |
Defringe Green Amount | 0 |
Defringe Green Hue Hi | 60 |
Defringe Green Hue Lo | 40 |
Defringe Purple Amount | 17 |
Defringe Purple Hue Hi | 70 |
Defringe Purple Hue Lo | 30 |
Dehaze | +35 |
Depth Map Info Depth Source | 2 |
Digital Zoom Ratio | 1 |
Exposure 2012 | +1.11 |
Exposure Compensation | -1 |
Exposure Mode | Auto |
Field Of View | 6.9 deg |
Focal Length In 35mm Format | 300 mm |
Format | image/tiff |
Gain Control | None |
Grain Amount | 0 |
Green Hue | 0 |
Green Saturation | 0 |
HDR Edit Mode | 0 |
Has Crop | False |
Has Settings | True |
Highlights 2012 | -50 |
Hue Adjustment Aqua | 0 |
Hue Adjustment Blue | 0 |
Hue Adjustment Green | 0 |
Hue Adjustment Magenta | 0 |
Hue Adjustment Orange | 0 |
Hue Adjustment Purple | 0 |
Hue Adjustment Red | 0 |
Hue Adjustment Yellow | 0 |
Hyperfocal Distance | 1069.78 m |
ISO | 200 |
Image Height | 4912 |
Image Number | 13744 |
Image Size | 7360x4912 |
Image Width | 7360 |
Lateral Chromatic Aberration Correction Already Applied | True |
Lens | 300.0 mm f/2.8 |
Lens Blur Active | true |
Lens Blur Blur Amount | 87 |
Lens Blur Bokeh Aspect | 0 |
Lens Blur Bokeh Rotation | 0 |
Lens Blur Bokeh Shape | 0 |
Lens Blur Bokeh Shape Detail | 0 |
Lens Blur Cat Eye Amount | 0 |
Lens Blur Cat Eye Scale | 100 |
Lens Blur Focal Range | -80 0 100 180 |
Lens Blur Focal Range Source | 3 |
Lens Blur Highlights Boost | 50 |
Lens Blur Highlights Threshold | 50 |
Lens Blur Spherical Aberration | 0 |
Lens Blur Version | 1 |
Lens ID | AF Nikkor 300mm f/2.8 IF-ED or AF Nikkor 300mm f/2.8 IF-ED N |
Lens Info | 300mm f/2.8 |
Lens Manual Distortion Amount | 0 |
Lens Model | 300.0 mm f/2.8 |
Lens Profile Enable | 0 |
Light Source | Unknown |
Light Value | 12.6 |
Look Amount | 1 |
Look Group | Profiles |
Look Name | Adobe Portrait |
Look Parameters Camera Profile | Adobe Standard |
Look Parameters Convert To Grayscale | False |
Look Parameters Look Table | E5A76DBB8B3F132A04C01AF45DC2EF 1B |
Look Parameters Process Version | 15.4 |
Look Parameters Tone Curve PV2012 | 0, 0, 66, 64, 190, 192, 255, 255 |
Look Parameters Version | 16.2 |
Look Supports Amount | false |
Look Supports Monochrome | false |
Look Supports Output Referred | false |
Luminance Adjustment Aqua | 0 |
Luminance Adjustment Blue | 0 |
Luminance Adjustment Green | 0 |
Luminance Adjustment Magenta | 0 |
Luminance Adjustment Orange | 0 |
Luminance Adjustment Purple | 0 |
Luminance Adjustment Red | 0 |
Luminance Adjustment Yellow | 0 |
Luminance Smoothing | 0 |
Metering Mode | Center-weighted average |
Override Look Vignette | False |
Parametric Darks | 0 |
Parametric Highlight Split | 75 |
Parametric Highlights | 0 |
Parametric Lights | 0 |
Parametric Midtone Split | 50 |
Parametric Shadow Split | 25 |
Parametric Shadows | 0 |
Perspective Aspect | 0 |
Perspective Horizontal | 0 |
Perspective Rotate | 0.0 |
Perspective Scale | 100 |
Perspective Upright | 0 |
Perspective Vertical | 0 |
Perspective X | 0.00 |
Perspective Y | 0.00 |
Photometric Interpretation | RGB |
Planar Configuration | Chunky |
Point Colors | -1.000000, -1.000000, -1.000000, -1.000000, -1.000000, -1.000000, -1.000000, -1.000000, -1.000000, -1.000000, -1.000000, -1.000000, -1.000000, -1.000000, -1.000000, -1.000000, -1.000000, -1.000000, -1.000000 |
Post Crop Vignette Amount | 0 |
Process Version | 15.4 |
Raw File Name | _HIL4299.NEF |
Red Hue | 0 |
Red Saturation | 0 |
Rights | Alexander Hilpert |
Rows Per Strip | 4912 |
Samples Per Pixel | 3 |
Saturation | Normal |
Saturation Adjustment Aqua | 0 |
Saturation Adjustment Blue | 0 |
Saturation Adjustment Green | 0 |
Saturation Adjustment Magenta | 0 |
Saturation Adjustment Orange | 0 |
Saturation Adjustment Purple | 0 |
Saturation Adjustment Red | 0 |
Saturation Adjustment Yellow | 0 |
Scale Factor To 35 mm Equivalent | 1.0 |
Scene Capture Type | Standard |
Scene Type | Directly photographed |
Sensing Method | One-chip color area |
Sensitivity Type | Recommended Exposure Index |
Shadow Tint | 0 |
Shadows 2012 | -48 |
Sharpen Detail | 25 |
Sharpen Edge Masking | 0 |
Sharpen Radius | +1.0 |
Sharpness | Normal |
Split Toning Balance | 0 |
Split Toning Highlight Hue | 0 |
Split Toning Highlight Saturation | 0 |
Split Toning Shadow Hue | 0 |
Split Toning Shadow Saturation | 0 |
Strip Byte Counts | 216913920 |
Strip Offsets | 30290 |
Subfile Type | Full-resolution Image |
Subject Distance Range | Unknown |
Texture | +59 |
Tint | +1 |
Tone Curve Name 2012 | Linear |
Tone Curve PV2012 | 0, 0, 255, 255 |
Tone Curve PV2012 Blue | 0, 0, 255, 255 |
Tone Curve PV2012 Green | 0, 0, 255, 255 |
Tone Curve PV2012 Red | 0, 0, 255, 255 |
Version | 16.2 |
Vibrance | +24 |
Vignette Amount | 0 |
White Balance | As Shot |
Whites 2012 | -65 |
X