Shooting information for this photo
| Camera: | NIKON CORPORATION NIKON D800 |
| Exposure: | 0.00125 sec. (1/800) |
| Aperture: | f/3.5 |
| Focal Length: | 50.0 mm (35 mm equivalent: 50.0 mm) |
| Flash: | Off, Did not fire |
| Exposure mode: | Manual |
| Max Aperture: | 1.4 |
| Resolution: | 240 x 240 dpi |
| Original Date: | 2024:02:23 18:36:39.70 |
| Created on: | 2024:02:23 18:36:39.70 |
| Modified on: | 2024:02:24 20:08:03 |
| Software: | Adobe Lightroom 7.2 (Windows) |
| Copyright: | Alexander Hilpert |
| Already Applied | True |
| Approximate Focus Distance | 4294967295 |
| Artist | Alexander Hilpert |
| Auto Lateral CA | 1 |
| Bits Per Sample | 16 16 16 |
| Blacks 2012 | -14 |
| Blue Hue | 0 |
| Blue Saturation | 0 |
| CFA Pattern | [Red,Green][Green,Blue] |
| Camera Profile | Adobe Standard |
| Circle Of Confusion | 0.030 mm |
| Clarity 2012 | +52 |
| Color Grade Blending | 50 |
| Color Grade Global Hue | 0 |
| Color Grade Global Lum | 0 |
| Color Grade Global Sat | 0 |
| Color Grade Highlight Lum | 0 |
| Color Grade Midtone Hue | 0 |
| Color Grade Midtone Lum | 0 |
| Color Grade Midtone Sat | 0 |
| Color Grade Shadow Lum | 0 |
| Color Noise Reduction | 25 |
| Color Noise Reduction Detail | 50 |
| Color Noise Reduction Smoothness | 50 |
| Color Space | Uncalibrated |
| Color Temperature | 5050 |
| Contrast | Normal |
| Contrast 2012 | +48 |
| Creator | Alexander Hilpert |
| Crop Angle | 0 |
| Crop Bottom | 0.916824 |
| Crop Constrain To Warp | 0 |
| Crop Left | 0.015567 |
| Crop Right | 0.933388 |
| Crop Top | 0 |
| Custom Rendered | Normal |
| Defringe Green Amount | 0 |
| Defringe Green Hue Hi | 60 |
| Defringe Green Hue Lo | 40 |
| Defringe Purple Amount | 0 |
| Defringe Purple Hue Hi | 70 |
| Defringe Purple Hue Lo | 30 |
| Dehaze | +49 |
| Digital Zoom Ratio | 1 |
| Distortion Correction Already Applied | True |
| Exposure 2012 | +0.93 |
| Exposure Compensation | 0 |
| Exposure Mode | Manual |
| Field Of View | 39.6 deg |
| Focal Length In 35mm Format | 50 mm |
| Format | image/tiff |
| Gain Control | High gain up |
| Grain Amount | 0 |
| Green Hue | 0 |
| Green Saturation | 0 |
| HDR Edit Mode | 0 |
| Has Crop | True |
| Has Settings | True |
| Highlights 2012 | -8 |
| Hue Adjustment Aqua | 0 |
| Hue Adjustment Blue | 0 |
| Hue Adjustment Green | 0 |
| Hue Adjustment Magenta | 0 |
| Hue Adjustment Orange | 0 |
| Hue Adjustment Purple | 0 |
| Hue Adjustment Red | 0 |
| Hue Adjustment Yellow | 0 |
| Hyperfocal Distance | 23.77 m |
| ISO | 3200 |
| Image Height | 4503 |
| Image Number | 12003 |
| Image Size | 6755x4503 |
| Image Width | 6755 |
| Lateral Chromatic Aberration Correction Already Applied | True |
| Lens | Zeiss Milvus 1.4/50 ZF.2 |
| Lens ID | Unknown (83) 50mm |
| Lens Info | 50mm f/1.4 |
| Lens Manual Distortion Amount | 0 |
| Lens Model | Zeiss Milvus 1.4/50 ZF.2 |
| Lens Profile Distortion Scale | 113 |
| Lens Profile Enable | 1 |
| Lens Profile Filename | NIKON CORPORATION (Zeiss Milvus 1.4-50 ZF.2) - RAW.lcp |
| Lens Profile Is Embedded | False |
| Lens Profile Name | Adobe (Zeiss Milvus 1.4/50 ZF.2) |
| Lens Profile Setup | Custom |
| Lens Profile Vignetting Scale | 100 |
| Light Source | Unknown |
| Light Value | 8.3 |
| Look Amount | 1 |
| Look Group | Profiles |
| Look Name | Adobe Color |
| Look Parameters Camera Profile | Adobe Standard |
| Look Parameters Convert To Grayscale | False |
| Look Parameters Look Table | E1095149FDB39D7A057BAB208837E2 E1 |
| Look Parameters Process Version | 15.4 |
| Look Parameters Tone Curve PV2012 | 0, 0, 22, 16, 40, 35, 127, 127, 224, 230, 240, 246, 255, 255 |
| Look Parameters Tone Curve PV2012 Blue | 0, 0, 255, 255 |
| Look Parameters Tone Curve PV2012 Green | 0, 0, 255, 255 |
| Look Parameters Tone Curve PV2012 Red | 0, 0, 255, 255 |
| Look Parameters Version | 16.2 |
| Look Supports Amount | false |
| Look Supports Monochrome | false |
| Look Supports Output Referred | false |
| Luminance Adjustment Aqua | 0 |
| Luminance Adjustment Blue | 0 |
| Luminance Adjustment Green | 0 |
| Luminance Adjustment Magenta | 0 |
| Luminance Adjustment Orange | 0 |
| Luminance Adjustment Purple | 0 |
| Luminance Adjustment Red | 0 |
| Luminance Adjustment Yellow | 0 |
| Luminance Smoothing | 0 |
| Metering Mode | Spot |
| Override Look Vignette | False |
| Parametric Darks | 0 |
| Parametric Highlight Split | 75 |
| Parametric Highlights | 0 |
| Parametric Lights | 0 |
| Parametric Midtone Split | 50 |
| Parametric Shadow Split | 25 |
| Parametric Shadows | 0 |
| Perspective Aspect | 0 |
| Perspective Horizontal | 0 |
| Perspective Rotate | 0.0 |
| Perspective Scale | 100 |
| Perspective Upright | 0 |
| Perspective Vertical | 0 |
| Perspective X | 0.00 |
| Perspective Y | 0.00 |
| Photometric Interpretation | RGB |
| Planar Configuration | Chunky |
| Point Colors | -1.000000, -1.000000, -1.000000, -1.000000, -1.000000, -1.000000, -1.000000, -1.000000, -1.000000, -1.000000, -1.000000, -1.000000, -1.000000, -1.000000, -1.000000, -1.000000, -1.000000, -1.000000, -1.000000 |
| Post Crop Vignette Amount | 0 |
| Process Version | 15.4 |
| Raw File Name | _HIL2720.NEF |
| Red Hue | 0 |
| Red Saturation | 0 |
| Rights | Alexander Hilpert |
| Rows Per Strip | 4503 |
| Samples Per Pixel | 3 |
| Saturation | Normal |
| Saturation Adjustment Aqua | 0 |
| Saturation Adjustment Blue | 0 |
| Saturation Adjustment Green | 0 |
| Saturation Adjustment Magenta | 0 |
| Saturation Adjustment Orange | 0 |
| Saturation Adjustment Purple | 0 |
| Saturation Adjustment Red | 0 |
| Saturation Adjustment Yellow | 0 |
| Scale Factor To 35 mm Equivalent | 1.0 |
| Scene Capture Type | Standard |
| Scene Type | Directly photographed |
| Sensing Method | One-chip color area |
| Sensitivity Type | Recommended Exposure Index |
| Shadow Tint | 0 |
| Shadows 2012 | +55 |
| Sharpen Detail | 25 |
| Sharpen Edge Masking | 0 |
| Sharpen Radius | +1.0 |
| Sharpness | Normal |
| Split Toning Balance | 0 |
| Split Toning Highlight Hue | 0 |
| Split Toning Highlight Saturation | 0 |
| Split Toning Shadow Hue | 0 |
| Split Toning Shadow Saturation | 0 |
| Strip Byte Counts | 182506590 |
| Strip Offsets | 33570 |
| Subfile Type | Full-resolution Image |
| Subject Distance Range | Unknown |
| Texture | +54 |
| Tint | -9 |
| Tone Curve Name 2012 | Linear |
| Tone Curve PV2012 | 0, 0, 255, 255 |
| Tone Curve PV2012 Blue | 0, 0, 255, 255 |
| Tone Curve PV2012 Green | 0, 0, 255, 255 |
| Tone Curve PV2012 Red | 0, 0, 255, 255 |
| Version | 16.2 |
| Vibrance | +53 |
| Vignette Amount | 0 |
| Vignette Correction Already Applied | True |
| White Balance | Custom |
| Whites 2012 | -32 |
X