Shooting information for this photo
| Camera: | Canon EOS 650D |
| Exposure: | 0.00156 sec. (1/640) |
| Aperture: | f/5.6 |
| Focal Length: | 220.0 mm (35 mm equivalent: 348.6 mm) |
| Flash: | Off, Did not fire |
| Exposure mode: | Shutter speed priority AE |
| Max Aperture: | 5.7 |
| Resolution: | 240 x 240 dpi |
| Original Date: | 2014:02:19 13:04:45 |
| Created on: | 2014:02:19 13:04:45.00 |
| Modified on: | 2021:06:24 15:08:21 |
| Software: | Adobe Photoshop Lightroom Classic 10.3 (Windows) |
| Copyright: | Alle RECHTE VORBEHALTEN |
| Already Applied | True |
| Approximate Focus Distance | 33.1 |
| Artist | HANS-GUENTER MUELLER |
| Auto Lateral CA | 1 |
| Blacks 2012 | -69 |
| Blue Hue | 0 |
| Blue Saturation | 0 |
| Camera Profile | Adobe Standard |
| Circle Of Confusion | 0.019 mm |
| Clarity 2012 | +32 |
| Color Grade Blending | 50 |
| Color Grade Global Hue | 0 |
| Color Grade Global Lum | 0 |
| Color Grade Global Sat | 0 |
| Color Grade Highlight Lum | 0 |
| Color Grade Midtone Hue | 0 |
| Color Grade Midtone Lum | 0 |
| Color Grade Midtone Sat | 0 |
| Color Grade Shadow Lum | 0 |
| Color Noise Reduction | 25 |
| Color Noise Reduction Detail | 50 |
| Color Noise Reduction Smoothness | 50 |
| Color Space | sRGB |
| Color Temperature | 4850 |
| Contrast 2012 | 0 |
| Convert To Grayscale | False |
| Creator | HANS-GUENTER MUELLER |
| Crop Angle | 0 |
| Crop Bottom | 0.983728 |
| Crop Constrain To Warp | 0 |
| Crop Left | 0.083607 |
| Crop Right | 0.849331 |
| Crop Top | 0.026135 |
| Custom Rendered | Normal |
| Date Created | 2014:02:19 13:04:45 |
| Defringe Green Amount | 0 |
| Defringe Green Hue Hi | 60 |
| Defringe Green Hue Lo | 40 |
| Defringe Purple Amount | 0 |
| Defringe Purple Hue Hi | 70 |
| Defringe Purple Hue Lo | 30 |
| Dehaze | +20 |
| Description | HGKM |
| Distortion Correction Already Applied | True |
| Exposure 2012 | 0.00 |
| Exposure Compensation | 0 |
| Exposure Mode | Auto |
| Field Of View | 5.9 deg |
| Firmware | 1.0.1 |
| Flash Compensation | 0 |
| Format | image/jpeg |
| Grain Amount | 0 |
| Green Hue | 0 |
| Green Saturation | 0 |
| Has Crop | True |
| Has Settings | True |
| Highlights 2012 | -83 |
| Hue Adjustment Aqua | 0 |
| Hue Adjustment Blue | 0 |
| Hue Adjustment Green | 0 |
| Hue Adjustment Magenta | 0 |
| Hue Adjustment Orange | 0 |
| Hue Adjustment Purple | 0 |
| Hue Adjustment Red | 0 |
| Hue Adjustment Yellow | 0 |
| Hyperfocal Distance | 455.80 m |
| ISO | 100 |
| Image Description | HGKM |
| Image Number | 0 |
| Image Size | 3970x3310 |
| Lateral Chromatic Aberration Correction Already Applied | True |
| Lens | EF-S55-250mm f/4-5.6 IS II |
| Lens ID | Canon EF-S55-250mm f/4-5.6 IS II |
| Lens Info | 55-250mm f/? |
| Lens Manual Distortion Amount | 0 |
| Lens Model | EF-S55-250mm f/4-5.6 IS II |
| Lens Profile Distortion Scale | 100 |
| Lens Profile Enable | 1 |
| Lens Profile Filename | Canon EOS 50D (Canon EF-S 55-250mm f4-5.6 IS) - RAW.lcp |
| Lens Profile Is Embedded | False |
| Lens Profile Name | Adobe (Canon EF-S 55-250mm f/4-5.6 IS) |
| Lens Profile Setup | Custom |
| Lens Profile Vignetting Scale | 100 |
| Light Value | 14.3 |
| Luminance Adjustment Aqua | 0 |
| Luminance Adjustment Blue | 0 |
| Luminance Adjustment Green | 0 |
| Luminance Adjustment Magenta | 0 |
| Luminance Adjustment Orange | 0 |
| Luminance Adjustment Purple | 0 |
| Luminance Adjustment Red | 0 |
| Luminance Adjustment Yellow | 0 |
| Luminance Smoothing | 0 |
| Metering Mode | Multi-segment |
| Override Look Vignette | False |
| Parametric Darks | 0 |
| Parametric Highlight Split | 75 |
| Parametric Highlights | 0 |
| Parametric Lights | 0 |
| Parametric Midtone Split | 50 |
| Parametric Shadow Split | 25 |
| Parametric Shadows | 0 |
| Perspective Aspect | 0 |
| Perspective Horizontal | 0 |
| Perspective Rotate | 0.0 |
| Perspective Scale | 100 |
| Perspective Upright | 1 |
| Perspective Vertical | 0 |
| Perspective X | 0.00 |
| Perspective Y | 0.00 |
| Post Crop Vignette Amount | 0 |
| Process Version | 11.0 |
| Rating | 3 |
| Raw File Name | IMG_4744.CR2 |
| Recommended Exposure Index | 100 |
| Red Hue | 0 |
| Red Saturation | 0 |
| Rights | Alle RECHTE VORBEHALTEN |
| Saturation | 0 |
| Saturation Adjustment Aqua | 0 |
| Saturation Adjustment Blue | 0 |
| Saturation Adjustment Green | 0 |
| Saturation Adjustment Magenta | 0 |
| Saturation Adjustment Orange | 0 |
| Saturation Adjustment Purple | 0 |
| Saturation Adjustment Red | 0 |
| Saturation Adjustment Yellow | 0 |
| Scale Factor To 35 mm Equivalent | 1.6 |
| Scene Capture Type | Standard |
| Sensitivity Type | Recommended Exposure Index |
| Shadow Tint | 0 |
| Shadows 2012 | +43 |
| Sharpen Detail | 25 |
| Sharpen Edge Masking | 0 |
| Sharpen Radius | +1.0 |
| Sharpness | 25 |
| Split Toning Balance | 0 |
| Split Toning Highlight Hue | 0 |
| Split Toning Highlight Saturation | 0 |
| Split Toning Shadow Hue | 0 |
| Split Toning Shadow Saturation | 0 |
| Subject | Architektur, Asien, Gebäude, Indien, Kontinente und Länder, Kunst, Religion, Ruine, Statue, Tempel, Ungesättigt |
| Texture | +41 |
| Tint | +1 |
| Tone Curve Name 2012 | Linear |
| Tone Curve PV2012 | 0, 0, 255, 255 |
| Tone Curve PV2012 Blue | 0, 0, 255, 255 |
| Tone Curve PV2012 Green | 0, 0, 255, 255 |
| Tone Curve PV2012 Red | 0, 0, 255, 255 |
| Version | 13.3 |
| Vibrance | 0 |
| Vignette Amount | 0 |
| Vignette Correction Already Applied | True |
| White Balance | Auto |
| Whites 2012 | +43 |
GPS Information |
| GPS Altitude | 983.45 m |
| GPS Latitude | 13 deg 9' 46.55" N |
| GPS Latitude Ref | North |
| GPS Longitude | 75 deg 51' 38.31" E |
| GPS Longitude Ref | East |
| GPS Position | 13 deg 9' 46.55" N, 75 deg 51' 38.31" E |
| GPS Version ID | 2.2.0.0 |
X