Shooting information for this photo
| Camera: | OLYMPUS CORPORATION E-M1MarkII |
| Exposure: | 0.002 sec. (1/500) |
| Aperture: | f/9.5 |
| Focal Length: | 368.0 mm (35 mm equivalent: 737.0 mm) |
| Flash: | On, Did not fire |
| Exposure mode: | Aperture-priority AE |
| Max Aperture: | 5.0 |
| Resolution: | 150 x 150 dpi |
| Original Date: | 2021:06:10 06:00:24 |
| Created on: | 2021:06:10 06:00:24 |
| Modified on: | 2021:06:10 18:23:41 |
| Software: | Adobe Photoshop Lightroom Classic 10.3 (Windows) |
| Already Applied | True |
| Auto Lateral CA | 0 |
| Blacks 2012 | -57 |
| Blue Hue | 0 |
| Blue Saturation | 0 |
| CFA Pattern | [Red,Green][Green,Blue] |
| Camera Profile | Camera Natural |
| Circle Of Confusion | 0.015 mm |
| Clarity 2012 | 0 |
| Color Grade Blending | 50 |
| Color Grade Global Hue | 0 |
| Color Grade Global Lum | 0 |
| Color Grade Global Sat | 0 |
| Color Grade Highlight Lum | 0 |
| Color Grade Midtone Hue | 0 |
| Color Grade Midtone Lum | 0 |
| Color Grade Midtone Sat | 0 |
| Color Grade Shadow Lum | 0 |
| Color Noise Reduction | 25 |
| Color Noise Reduction Detail | 50 |
| Color Noise Reduction Smoothness | 50 |
| Color Space | sRGB |
| Color Temperature | 5000 |
| Contrast | Normal |
| Contrast 2012 | 0 |
| Convert To Grayscale | False |
| Crop Angle | -1.48737 |
| Crop Bottom | 0.600876 |
| Crop Constrain To Warp | 0 |
| Crop Left | 0.216529 |
| Crop Right | 0.506386 |
| Crop Top | 0.326399 |
| Custom Rendered | Normal |
| Date Created | 2021:06:10 06:00:24 |
| Defringe Green Amount | 0 |
| Defringe Green Hue Hi | 60 |
| Defringe Green Hue Lo | 40 |
| Defringe Purple Amount | 0 |
| Defringe Purple Hue Hi | 70 |
| Defringe Purple Hue Lo | 30 |
| Dehaze | 0 |
| Description | OLYMPUS DIGITAL CAMERA |
| Digital Zoom Ratio | 1 |
| Exposure 2012 | -0.13 |
| Exposure Compensation | +1/2 |
| Exposure Mode | Manual |
| Field Of View | 2.8 deg |
| Flash Compensation | 0 |
| Focal Length In 35mm Format | 737 mm |
| Format | image/jpeg |
| Gain Control | Low gain up |
| Grain Amount | 0 |
| Green Hue | 0 |
| Green Saturation | 0 |
| Has Crop | True |
| Has Settings | True |
| Highlights 2012 | -81 |
| Hue Adjustment Aqua | 0 |
| Hue Adjustment Blue | 0 |
| Hue Adjustment Green | 0 |
| Hue Adjustment Magenta | 0 |
| Hue Adjustment Orange | 0 |
| Hue Adjustment Purple | 0 |
| Hue Adjustment Red | 0 |
| Hue Adjustment Yellow | 0 |
| Hyperfocal Distance | 950.17 m |
| ISO | 400 |
| Image Description | OLYMPUS DIGITAL CAMERA |
| Image Size | 1200x900 |
| Lateral Chromatic Aberration Correction Already Applied | True |
| Lens | OLYMPUS M.100-400mm F5.0-6.3 |
| Lens Info | 100-400mm f/5-6.3 |
| Lens Manual Distortion Amount | 0 |
| Lens Model | OLYMPUS M.100-400mm F5.0-6.3 |
| Lens Profile Enable | 0 |
| Light Source | Unknown |
| Light Value | 13.5 |
| Luminance Adjustment Aqua | 0 |
| Luminance Adjustment Blue | 0 |
| Luminance Adjustment Green | 0 |
| Luminance Adjustment Magenta | 0 |
| Luminance Adjustment Orange | 0 |
| Luminance Adjustment Purple | 0 |
| Luminance Adjustment Red | 0 |
| Luminance Adjustment Yellow | 0 |
| Luminance Smoothing | 0 |
| Metering Mode | Multi-segment |
| Override Look Vignette | False |
| Parametric Darks | 0 |
| Parametric Highlight Split | 75 |
| Parametric Highlights | 0 |
| Parametric Lights | 0 |
| Parametric Midtone Split | 50 |
| Parametric Shadow Split | 25 |
| Parametric Shadows | 0 |
| Perspective Aspect | 0 |
| Perspective Horizontal | 0 |
| Perspective Rotate | 0.0 |
| Perspective Scale | 100 |
| Perspective Upright | 0 |
| Perspective Vertical | 0 |
| Perspective X | 0.00 |
| Perspective Y | 0.00 |
| Post Crop Vignette Amount | 0 |
| Preserved File Name | P6101676.ORF |
| Process Version | 11.0 |
| Rating | 3 |
| Raw File Name | P6101676.ORF |
| Red Hue | 0 |
| Red Saturation | 0 |
| Saturation | Normal |
| Saturation Adjustment Aqua | 0 |
| Saturation Adjustment Blue | 0 |
| Saturation Adjustment Green | 0 |
| Saturation Adjustment Magenta | 0 |
| Saturation Adjustment Orange | 0 |
| Saturation Adjustment Purple | 0 |
| Saturation Adjustment Red | 0 |
| Saturation Adjustment Yellow | 0 |
| Scale Factor To 35 mm Equivalent | 2.0 |
| Scene Capture Type | Standard |
| Sensitivity Type | Standard Output Sensitivity |
| Shadow Tint | 0 |
| Shadows 2012 | +34 |
| Sharpen Detail | 0 |
| Sharpen Radius | +0.5 |
| Sharpness | Normal |
| Split Toning Balance | 0 |
| Split Toning Highlight Hue | 0 |
| Split Toning Highlight Saturation | 0 |
| Split Toning Shadow Hue | 0 |
| Split Toning Shadow Saturation | 0 |
| Subject | Kontrastarm, Silhouette |
| Texture | 0 |
| Tint | +5 |
| Tone Curve Name 2012 | Linear |
| Tone Curve PV2012 | 0, 0, 255, 255 |
| Tone Curve PV2012 Blue | 0, 0, 255, 255 |
| Tone Curve PV2012 Green | 0, 0, 255, 255 |
| Tone Curve PV2012 Red | 0, 0, 255, 255 |
| Version | 13.3 |
| Vibrance | 0 |
| Vignette Amount | 0 |
| White Balance | Auto |
| Whites 2012 | 0 |
X