Shooting information for this photo
| Camera: | OLYMPUS IMAGING CORP. E-M5MarkII |
| Exposure: | 0.25 sec. (1/4) |
| Aperture: | f/5.6 |
| Focal Length: | 14.0 mm (35 mm equivalent: 28.0 mm) |
| Flash: | Auto, Did not fire |
| Exposure mode: | Aperture-priority AE |
| Max Aperture: | 4.0 |
| Resolution: | 240 x 240 dpi |
| Original Date: | 2016:02:07 19:00:51 |
| Created on: | 2016:02:07 19:00:51 |
| Modified on: | 2020:03:16 11:34:01 |
| Software: | Adobe Photoshop Lightroom Classic 9.2 (Windows) |
| Copyright: | Copyright HG Müller |
| Already Applied | True |
| Auto Lateral CA | 1 |
| Blacks 2012 | -83 |
| Blue Hue | 0 |
| Blue Saturation | 0 |
| CFA Pattern | [Red,Green][Green,Blue] |
| Camera Profile | Adobe Standard |
| Circle Of Confusion | 0.015 mm |
| Clarity 2012 | +46 |
| Color Noise Reduction | 0 |
| Color Space | sRGB |
| Color Temperature | 5300 |
| Contrast | Normal |
| Contrast 2012 | 0 |
| Convert To Grayscale | False |
| Crop Angle | 0 |
| Crop Bottom | 0.820228 |
| Crop Constrain To Warp | 0 |
| Crop Left | 0.031569 |
| Crop Right | 0.964717 |
| Crop Top | 0.120366 |
| Custom Rendered | Normal |
| Date Created | 2016:02:07 19:00:51 |
| Defringe Green Amount | 0 |
| Defringe Green Hue Hi | 60 |
| Defringe Green Hue Lo | 40 |
| Defringe Purple Amount | 0 |
| Defringe Purple Hue Hi | 70 |
| Defringe Purple Hue Lo | 30 |
| Dehaze | 0 |
| Description | HGKM |
| Digital Zoom Ratio | 1 |
| Distortion Correction Already Applied | True |
| Exposure 2012 | 0.00 |
| Exposure Compensation | -1 |
| Exposure Mode | Manual |
| Field Of View | 65.5 deg |
| Flash Compensation | 0 |
| Focal Length In 35mm Format | 28 mm |
| Format | image/jpeg |
| Gain Control | High gain up |
| Grain Amount | 0 |
| Green Hue | 0 |
| Green Saturation | 0 |
| Has Crop | True |
| Has Settings | True |
| Highlights 2012 | +30 |
| Hue Adjustment Aqua | 0 |
| Hue Adjustment Blue | 0 |
| Hue Adjustment Green | 0 |
| Hue Adjustment Magenta | 0 |
| Hue Adjustment Orange | 0 |
| Hue Adjustment Purple | 0 |
| Hue Adjustment Red | 0 |
| Hue Adjustment Yellow | 0 |
| Hyperfocal Distance | 2.33 m |
| ISO | 400 |
| Image Description | HGKM |
| Image Size | 4300x2419 |
| Lateral Chromatic Aberration Correction Already Applied | True |
| Lens | OLYMPUS M.14-150mm F4.0-5.6 II |
| Lens Info | 14-150mm f/4-5.6 |
| Lens Manual Distortion Amount | 0 |
| Lens Model | OLYMPUS M.14-150mm F4.0-5.6 II |
| Lens Profile Enable | 0 |
| Lens Profile Setup | LensDefaults |
| Light Source | Unknown |
| Light Value | 5.0 |
| Luminance Adjustment Aqua | 0 |
| Luminance Adjustment Blue | 0 |
| Luminance Adjustment Green | 0 |
| Luminance Adjustment Magenta | 0 |
| Luminance Adjustment Orange | 0 |
| Luminance Adjustment Purple | 0 |
| Luminance Adjustment Red | 0 |
| Luminance Adjustment Yellow | 0 |
| Luminance Smoothing | 0 |
| Marked | True |
| Metering Mode | Multi-segment |
| Missing Camera Profile | Huelight E-M5II Medium V100 |
| Override Look Vignette | False |
| Parametric Darks | 0 |
| Parametric Highlight Split | 75 |
| Parametric Highlights | 0 |
| Parametric Lights | 0 |
| Parametric Midtone Split | 50 |
| Parametric Shadow Split | 25 |
| Parametric Shadows | 0 |
| Perspective Aspect | 0 |
| Perspective Horizontal | 0 |
| Perspective Rotate | 0.0 |
| Perspective Scale | 100 |
| Perspective Upright | 0 |
| Perspective Vertical | 0 |
| Perspective X | 0.00 |
| Perspective Y | 0.00 |
| Post Crop Vignette Amount | 0 |
| Process Version | 11.0 |
| Rating | 5 |
| Raw File Name | H2076405.ORF |
| Red Hue | 0 |
| Red Saturation | 0 |
| Rights | Copyright HG Müller |
| Saturation | Normal |
| Saturation Adjustment Aqua | 0 |
| Saturation Adjustment Blue | 0 |
| Saturation Adjustment Green | 0 |
| Saturation Adjustment Magenta | 0 |
| Saturation Adjustment Orange | 0 |
| Saturation Adjustment Purple | 0 |
| Saturation Adjustment Red | 0 |
| Saturation Adjustment Yellow | 0 |
| Scale Factor To 35 mm Equivalent | 2.0 |
| Scene Capture Type | Standard |
| Sensitivity Type | Standard Output Sensitivity |
| Shadow Tint | 0 |
| Shadows 2012 | 0 |
| Sharpen Detail | 25 |
| Sharpen Edge Masking | 0 |
| Sharpen Radius | +1.0 |
| Sharpness | Normal |
| Split Toning Balance | 0 |
| Split Toning Highlight Hue | 0 |
| Split Toning Highlight Saturation | 0 |
| Split Toning Shadow Hue | 0 |
| Split Toning Shadow Saturation | 0 |
| Texture | 0 |
| Tint | +27 |
| Tone Curve | 0, 0, 255, 255 |
| Tone Curve Blue | 0, 0, 255, 255 |
| Tone Curve Green | 0, 0, 255, 255 |
| Tone Curve Name | Linear |
| Tone Curve Name 2012 | Linear |
| Tone Curve PV2012 | 0, 0, 255, 255 |
| Tone Curve PV2012 Blue | 0, 0, 255, 255 |
| Tone Curve PV2012 Green | 0, 0, 255, 255 |
| Tone Curve PV2012 Red | 0, 0, 255, 255 |
| Tone Curve Red | 0, 0, 255, 255 |
| Tone Map Strength | 0 |
| Version | 12.2 |
| Vibrance | 0 |
| Vignette Amount | 0 |
| White Balance | Auto |
| Whites 2012 | +40 |
GPS Information |
| GPS Altitude | 0 m Above Sea Level |
| GPS Altitude Ref | Above Sea Level |
| GPS Latitude | 52 deg 30' 35.13" N |
| GPS Latitude Ref | North |
| GPS Longitude | 13 deg 22' 30.28" E |
| GPS Longitude Ref | East |
| GPS Position | 52 deg 30' 35.13" N, 13 deg 22' 30.28" E |
| GPS Status | Measurement Active |
| GPS Version ID | 2.3.0.0 |
X