Shooting information for this photo
| Camera: | NORITSU KOKI QSS-32_33 |
| Resolution: | 300 x 300 dpi |
| Modified on: | 2015:01:11 21:40:15 |
| Software: | Adobe Photoshop Lightroom 4.4 (Macintosh) |
| Already Applied | True |
| Auto Lateral CA | 0 |
| Blacks 2012 | 0 |
| Blue Hue | 0 |
| Blue Saturation | 0 |
| Camera Profile | Embedded |
| Clarity 2012 | +30 |
| Color Noise Reduction | 0 |
| Contrast 2012 | 0 |
| Convert To Grayscale | False |
| Defringe Green Amount | 0 |
| Defringe Green Hue Hi | 60 |
| Defringe Green Hue Lo | 40 |
| Defringe Purple Amount | 0 |
| Defringe Purple Hue Hi | 70 |
| Defringe Purple Hue Lo | 30 |
| Exposure 2012 | 0.00 |
| Format | image/jpeg |
| Grain Amount | 0 |
| Green Hue | 0 |
| Green Saturation | 0 |
| Has Crop | False |
| Has Settings | True |
| Highlights 2012 | 0 |
| Hue Adjustment Aqua | 0 |
| Hue Adjustment Blue | 0 |
| Hue Adjustment Green | 0 |
| Hue Adjustment Magenta | 0 |
| Hue Adjustment Orange | 0 |
| Hue Adjustment Purple | 0 |
| Hue Adjustment Red | 0 |
| Hue Adjustment Yellow | 0 |
| Image Size | 3091x2048 |
| Incremental Temperature | 0 |
| Incremental Tint | 0 |
| Lens Manual Distortion Amount | 0 |
| Lens Profile Enable | 0 |
| Lens Profile Setup | LensDefaults |
| Luminance Adjustment Aqua | 0 |
| Luminance Adjustment Blue | 0 |
| Luminance Adjustment Green | 0 |
| Luminance Adjustment Magenta | 0 |
| Luminance Adjustment Orange | 0 |
| Luminance Adjustment Purple | 0 |
| Luminance Adjustment Red | 0 |
| Luminance Adjustment Yellow | 0 |
| Luminance Smoothing | 0 |
| Parametric Darks | 0 |
| Parametric Highlight Split | 75 |
| Parametric Highlights | 0 |
| Parametric Lights | 0 |
| Parametric Midtone Split | 50 |
| Parametric Shadow Split | 25 |
| Parametric Shadows | 0 |
| Perspective Horizontal | 0 |
| Perspective Rotate | 0.0 |
| Perspective Scale | 100 |
| Perspective Vertical | 0 |
| Post Crop Vignette Amount | 0 |
| Process Version | 6.7 |
| Red Hue | 0 |
| Red Saturation | 0 |
| Saturation | 0 |
| Saturation Adjustment Aqua | 0 |
| Saturation Adjustment Blue | 0 |
| Saturation Adjustment Green | 0 |
| Saturation Adjustment Magenta | 0 |
| Saturation Adjustment Orange | 0 |
| Saturation Adjustment Purple | 0 |
| Saturation Adjustment Red | 0 |
| Saturation Adjustment Yellow | 0 |
| Shadow Tint | 0 |
| Shadows 2012 | 0 |
| Sharpen Detail | 25 |
| Sharpen Edge Masking | 0 |
| Sharpen Radius | +1.0 |
| Sharpness | 0 |
| Split Toning Balance | 0 |
| Split Toning Highlight Hue | 0 |
| Split Toning Highlight Saturation | 0 |
| Split Toning Shadow Hue | 0 |
| Split Toning Shadow Saturation | 0 |
| Tone Curve Name 2012 | Linear |
| Tone Curve PV2012 | 0, 0, 255, 255 |
| Tone Curve PV2012 Blue | 0, 0, 255, 255 |
| Tone Curve PV2012 Green | 0, 0, 255, 255 |
| Tone Curve PV2012 Red | 0, 0, 255, 255 |
| Version | 7.4 |
| Vibrance | 0 |
| Vignette Amount | 0 |
| White Balance | As Shot |
| Whites 2012 | 0 |
X