Shooting information for this photo
| Resolution: | 300 x 300 dpi |
| Modified on: | 2014:11:30 03:19:45 |
| Software: | Adobe Photoshop Lightroom 4.4 (Macintosh) |
| Already Applied | True |
| Auto Lateral CA | 0 |
| Blacks 2012 | +86 |
| Blue Hue | 0 |
| Blue Saturation | 0 |
| Camera Profile | Embedded |
| Clarity 2012 | -7 |
| Color Noise Reduction | 0 |
| Contrast 2012 | +51 |
| Convert To Grayscale | False |
| Defringe Green Amount | 0 |
| Defringe Green Hue Hi | 60 |
| Defringe Green Hue Lo | 40 |
| Defringe Purple Amount | 0 |
| Defringe Purple Hue Hi | 70 |
| Defringe Purple Hue Lo | 30 |
| Description | IslBG |
| Exposure 2012 | 0.00 |
| Format | image/jpeg |
| Grain Amount | 0 |
| Green Hue | 0 |
| Green Saturation | 0 |
| Has Crop | False |
| Has Settings | True |
| Highlights 2012 | +100 |
| Hue Adjustment Aqua | -42 |
| Hue Adjustment Blue | 0 |
| Hue Adjustment Green | -82 |
| Hue Adjustment Magenta | -75 |
| Hue Adjustment Orange | 0 |
| Hue Adjustment Purple | 0 |
| Hue Adjustment Red | 0 |
| Hue Adjustment Yellow | -28 |
| Image Description | IslBG |
| Image Size | 3090x2048 |
| Incremental Temperature | -16 |
| Incremental Tint | 0 |
| Label | Green |
| Lens Manual Distortion Amount | 0 |
| Lens Profile Enable | 0 |
| Lens Profile Setup | LensDefaults |
| Luminance Adjustment Aqua | +65 |
| Luminance Adjustment Blue | 0 |
| Luminance Adjustment Green | -33 |
| Luminance Adjustment Magenta | 0 |
| Luminance Adjustment Orange | -100 |
| Luminance Adjustment Purple | 0 |
| Luminance Adjustment Red | 0 |
| Luminance Adjustment Yellow | +35 |
| Luminance Smoothing | 0 |
| Parametric Darks | 0 |
| Parametric Highlight Split | 75 |
| Parametric Highlights | +50 |
| Parametric Lights | +40 |
| Parametric Midtone Split | 50 |
| Parametric Shadow Split | 25 |
| Parametric Shadows | 0 |
| Perspective Horizontal | 0 |
| Perspective Rotate | 0.0 |
| Perspective Scale | 100 |
| Perspective Vertical | 0 |
| Post Crop Vignette Amount | 0 |
| Process Version | 6.7 |
| Red Hue | 0 |
| Red Saturation | 0 |
| Saturation | -25 |
| Saturation Adjustment Aqua | +3 |
| Saturation Adjustment Blue | 0 |
| Saturation Adjustment Green | +27 |
| Saturation Adjustment Magenta | -63 |
| Saturation Adjustment Orange | 0 |
| Saturation Adjustment Purple | 0 |
| Saturation Adjustment Red | 0 |
| Saturation Adjustment Yellow | +20 |
| Shadow Tint | 0 |
| Shadows 2012 | -14 |
| Sharpen Detail | 25 |
| Sharpen Edge Masking | 0 |
| Sharpen Radius | +1.0 |
| Sharpness | 25 |
| Split Toning Balance | 0 |
| Split Toning Highlight Hue | 0 |
| Split Toning Highlight Saturation | 0 |
| Split Toning Shadow Hue | 0 |
| Split Toning Shadow Saturation | 0 |
| Tone Curve Name 2012 | Custom |
| Tone Curve PV2012 | 0, 0, 255, 255 |
| Tone Curve PV2012 Blue | 0, 0, 61, 75, 189, 175, 255, 255 |
| Tone Curve PV2012 Green | 0, 0, 48, 46, 133, 149, 255, 255 |
| Tone Curve PV2012 Red | 0, 0, 25, 16, 65, 67, 255, 255 |
| Version | 7.4 |
| Vibrance | +68 |
| Vignette Amount | 0 |
| White Balance | Custom |
| Whites 2012 | -68 |
X