Shooting information for this photo
| Resolution: | 300 x 300 dpi |
| Modified on: | 2014:11:30 00:34:34 |
| Software: | Adobe Photoshop Lightroom 4.4 (Macintosh) |
| Already Applied | True |
| Auto Lateral CA | 0 |
| Blacks 2012 | 0 |
| Blue Hue | 0 |
| Blue Saturation | 0 |
| Camera Profile | Embedded |
| Clarity 2012 | +50 |
| Color Noise Reduction | 0 |
| Contrast 2012 | 0 |
| Convert To Grayscale | True |
| Description | IslBG |
| Exposure 2012 | 0.00 |
| Format | image/jpeg |
| Grain Amount | 40 |
| Grain Frequency | 50 |
| Grain Size | 25 |
| Gray Mixer Aqua | -19 |
| Gray Mixer Blue | +11 |
| Gray Mixer Green | -28 |
| Gray Mixer Magenta | +6 |
| Gray Mixer Orange | -19 |
| Gray Mixer Purple | +18 |
| Gray Mixer Red | -9 |
| Gray Mixer Yellow | -24 |
| Green Hue | 0 |
| Green Saturation | 0 |
| Has Crop | False |
| Has Settings | True |
| Highlights 2012 | 0 |
| Image Description | IslBG |
| Image Size | 3090x2048 |
| Incremental Temperature | 0 |
| Incremental Tint | 0 |
| Label | Green |
| Lens Manual Distortion Amount | 0 |
| Lens Profile Enable | 0 |
| Lens Profile Setup | LensDefaults |
| Luminance Noise Reduction Contrast | 0 |
| Luminance Noise Reduction Detail | 50 |
| Luminance Smoothing | 75 |
| Parametric Darks | +84 |
| Parametric Highlight Split | 75 |
| Parametric Highlights | +38 |
| Parametric Lights | +68 |
| Parametric Midtone Split | 50 |
| Parametric Shadow Split | 25 |
| Parametric Shadows | -67 |
| Perspective Horizontal | 0 |
| Perspective Rotate | 0.0 |
| Perspective Scale | 100 |
| Perspective Vertical | 0 |
| Post Crop Vignette Amount | -18 |
| Post Crop Vignette Feather | 50 |
| Post Crop Vignette Highlight Contrast | 0 |
| Post Crop Vignette Midpoint | 50 |
| Post Crop Vignette Roundness | 0 |
| Post Crop Vignette Style | 1 |
| Process Version | 6.7 |
| Red Hue | 0 |
| Red Saturation | 0 |
| Shadow Tint | 0 |
| Shadows 2012 | 0 |
| Sharpen Detail | 25 |
| Sharpen Edge Masking | 0 |
| Sharpen Radius | +1.0 |
| Sharpness | 0 |
| Split Toning Balance | 0 |
| Split Toning Highlight Hue | 0 |
| Split Toning Highlight Saturation | 0 |
| Split Toning Shadow Hue | 0 |
| Split Toning Shadow Saturation | 0 |
| Tone Curve Name 2012 | Custom |
| Tone Curve PV2012 | 0, 0, 32, 16, 64, 50, 128, 128, 192, 202, 255, 255 |
| Tone Curve PV2012 Blue | 0, 0, 26, 36, 62, 61, 137, 140, 228, 222, 255, 255 |
| Tone Curve PV2012 Green | 0, 0, 59, 58, 150, 151, 255, 255 |
| Tone Curve PV2012 Red | 0, 0, 52, 46, 120, 122, 255, 255 |
| Version | 7.4 |
| Vignette Amount | 0 |
| White Balance | As Shot |
| Whites 2012 | 0 |
X