Shooting information for this photo
Camera: | NIKON CORPORATION NIKON D600 |
Resolution: | 300 x 300 dpi |
Created on: | 2015:06:14 12:45:16+02:00 |
Modified on: | 2016:05:13 07:06:27 |
Software: | GraphicsMagick 1.2.5 2008-07-25 Q8 http://www.GraphicsMagick.org/ |
Copyright: | Gilles PRETET |
Already Applied | True |
Approximate Focus Distance | 6.31 |
Artist | Gilles PRETET |
Authors Position | Gilles PRETET |
Auto Lateral CA | 0 |
Auto White Version | 134348800 |
Bits Per Sample | 8 8 8 |
Blacks 2012 | 0 |
Blue Hue | 0 |
Blue Saturation | 0 |
Camera Profile | Adobe Standard |
Caption Writer | Gilles PRETET |
City | BESANCON |
Clarity 2012 | +25 |
Color Mode | RGB |
Color Noise Reduction | 43 |
Color Noise Reduction Detail | 50 |
Color Noise Reduction Smoothness | 50 |
Color Temperature | 5150 |
Contrast 2012 | 0 |
Convert To Grayscale | False |
Country | FRANCE |
Country Code | FR |
Creator | Gilles PRETET |
Credit | Gilles PRETET |
Date Created | 20150614 |
Defringe Green Amount | 0 |
Defringe Green Hue Hi | 60 |
Defringe Green Hue Lo | 40 |
Defringe Purple Amount | 0 |
Defringe Purple Hue Hi | 70 |
Defringe Purple Hue Lo | 30 |
Dehaze | 0 |
Document Name | C:\Users\GIPEDU25\AppData\Roam ing\ipernity\Uploader-1.0\Prof iles\ldlsai1y.default\images\G PR_7546-resize.tif |
Exposure 2012 | -0.60 |
Format | image/tiff |
Grain Amount | 0 |
Green Hue | 0 |
Green Saturation | 0 |
Has Crop | False |
Has Settings | True |
Headline | BESANCON: Passage de la 241P17 |
Highlights 2012 | -69 |
Hue Adjustment Aqua | 0 |
Hue Adjustment Blue | 0 |
Hue Adjustment Green | 0 |
Hue Adjustment Magenta | 0 |
Hue Adjustment Orange | 0 |
Hue Adjustment Purple | 0 |
Hue Adjustment Red | 0 |
Hue Adjustment Yellow | 0 |
ICC Profile Name | sRGB IEC61966-2.1 |
Image Height | 1367 |
Image Number | 7899 |
Image Size | 2048x1367 |
Image Width | 2048 |
Instructions | Essai filtre nikcollection. |
Lens ID | Tamron SP 24-70mm f/2.8 Di VC USD |
Lens Info | 24-70mm f/2.8 |
Lens Manual Distortion Amount | 0 |
Lens Profile Enable | 0 |
Lens Profile Setup | LensDefaults |
Location | BESANCON |
Luminance Adjustment Aqua | 0 |
Luminance Adjustment Blue | 0 |
Luminance Adjustment Green | 0 |
Luminance Adjustment Magenta | 0 |
Luminance Adjustment Orange | 0 |
Luminance Adjustment Purple | 0 |
Luminance Adjustment Red | 0 |
Luminance Adjustment Yellow | 0 |
Luminance Noise Reduction Contrast | 41 |
Luminance Noise Reduction Detail | 50 |
Luminance Smoothing | 40 |
Page Number | 0 1 |
Parametric Darks | 0 |
Parametric Highlight Split | 75 |
Parametric Highlights | 0 |
Parametric Lights | 0 |
Parametric Midtone Split | 50 |
Parametric Shadow Split | 25 |
Parametric Shadows | 0 |
Perspective Aspect | 0 |
Perspective Horizontal | 0 |
Perspective Rotate | 0.0 |
Perspective Scale | 100 |
Perspective Upright | 0 |
Perspective Vertical | 0 |
Photometric Interpretation | RGB |
Planar Configuration | Chunky |
Post Crop Vignette Amount | 0 |
Process Version | 6.7 |
Raw File Name | GPR_7546.NEF |
Red Hue | 0 |
Red Saturation | 0 |
Rights | Gilles PRETET |
Rows Per Strip | 1 |
Sample Format | Unsigned; Unsigned; Unsigned |
Samples Per Pixel | 3 |
Saturation | 0 |
Saturation Adjustment Aqua | 0 |
Saturation Adjustment Blue | 0 |
Saturation Adjustment Green | 0 |
Saturation Adjustment Magenta | 0 |
Saturation Adjustment Orange | 0 |
Saturation Adjustment Purple | 0 |
Saturation Adjustment Red | 0 |
Saturation Adjustment Yellow | 0 |
Shadow Tint | 0 |
Shadows 2012 | +34 |
Sharpen Detail | 38 |
Sharpen Edge Masking | 100 |
Sharpen Radius | +1.4 |
Sharpness | 50 |
Source | Gilles PRETET |
Split Toning Balance | 0 |
Split Toning Highlight Hue | 0 |
Split Toning Highlight Saturation | 0 |
Split Toning Shadow Hue | 0 |
Split Toning Shadow Saturation | 0 |
State | FRANCHE-COMTE |
Subject | besancon, besançon, doubs, 25, 056, franche-comté, france, fr, fra, europe, eu, gare, station, quai, voix, nik collection, Bourgogne-Franche-Comté, train, vapeur, train à vapeur, vert, nikon, d600 24-70 mm, tamron |
Tint | +7 |
Tone Curve | 0, 0, 32, 22, 64, 56, 128, 128, 192, 196, 255, 255 |
Tone Curve Blue | 0, 0, 255, 255 |
Tone Curve Green | 0, 0, 255, 255 |
Tone Curve Name | Medium Contrast |
Tone Curve Name 2012 | Linear |
Tone Curve PV2012 | 0, 0, 255, 255 |
Tone Curve PV2012 Blue | 0, 0, 255, 255 |
Tone Curve PV2012 Green | 0, 0, 255, 255 |
Tone Curve PV2012 Red | 0, 0, 255, 255 |
Tone Curve Red | 0, 0, 255, 255 |
Tone Map Strength | 0 |
Version | 9.5 |
Vibrance | 0 |
Vignette Amount | 0 |
White Balance | As Shot |
Whites 2012 | -84 |