Shooting information for this photo
Camera: | NIKON CORPORATION NIKON D600 |
Exposure: | 0.008 sec. (1/125) |
Aperture: | f/9.0 |
Focal Length: | 30.0 mm (35 mm equivalent: 30.0 mm) |
Flash: | Off, Did not fire |
Exposure mode: | Aperture-priority AE |
Max Aperture: | 2.8 |
Resolution: | 240 x 240 dpi |
Dimension: | 2048 x 1367 pixels |
Original Date: | 2015:08:04 11:50:24.10 |
Digitized Date: | 2015:08:04 11:50:24+02:00 |
Created on: | 2015:08:04 11:50:24.10 |
Modified on: | 2015:08:04 11:50:24 |
Software: | Adobe Photoshop Elements 11.0 Windows |
Copyright: | Gilles PRETET |
Already Applied | True |
Approximate Focus Distance | 14.1 |
Artist | Gilles PRETET |
Authors Position | Gilles PRETET |
Auto Lateral CA | 0 |
Blacks 2012 | 0 |
Blue Hue | 0 |
Blue Saturation | 0 |
CFA Pattern | [Red,Green][Green,Blue] |
Camera Profile | Adobe Standard |
Caption Writer | Gilles PRETET |
Circle Of Confusion | 0.030 mm |
City | MONACO |
Clarity 2012 | +24 |
Color Mode | RGB |
Color Noise Reduction | 39 |
Color Noise Reduction Detail | 50 |
Color Space | sRGB |
Color Temperature | 4600 |
Contrast | Normal |
Contrast 2012 | 0 |
Convert To Grayscale | False |
Country | MONACO |
Country Code | MCO |
Creator | Gilles PRETET |
Credit | Gilles PRETET |
Custom Rendered | Normal |
Date Created | 20150804 |
Defringe Green Amount | 0 |
Defringe Green Hue Hi | 60 |
Defringe Green Hue Lo | 40 |
Defringe Purple Amount | 0 |
Defringe Purple Hue Hi | 70 |
Defringe Purple Hue Lo | 30 |
Digital Zoom Ratio | 1 |
Exposure 2012 | 0.00 |
Exposure Compensation | 0 |
Exposure Mode | Auto |
Field Of View | 61.9 deg |
Focal Length In 35mm Format | 30 mm |
Format | image/jpeg |
Gain Control | None |
Grain Amount | 0 |
Green Hue | 0 |
Green Saturation | 0 |
Has Crop | False |
Has Settings | True |
Headline | MONACO: Vue de Fontvielle depuis le rocher 02. |
Highlights 2012 | -42 |
Hue Adjustment Aqua | 0 |
Hue Adjustment Blue | 0 |
Hue Adjustment Green | 0 |
Hue Adjustment Magenta | 0 |
Hue Adjustment Orange | 0 |
Hue Adjustment Purple | 0 |
Hue Adjustment Red | 0 |
Hue Adjustment Yellow | 0 |
Hyperfocal Distance | 3.33 m |
ICC Profile Name | sRGB IEC61966-2.1 |
ISO | 50 |
Image Number | 8531 |
Image Size | 2048x1367 |
Lens | 24.0-70.0 mm f/2.8 |
Lens ID | Tamron SP 24-70mm f/2.8 Di VC USD |
Lens Info | 24-70mm f/2.8 |
Lens Manual Distortion Amount | 0 |
Lens Model | 24.0-70.0 mm f/2.8 |
Lens Profile Enable | 0 |
Lens Profile Setup | LensDefaults |
Light Source | Unknown |
Light Value | 14.3 |
Location | FONTVIEILLE |
Luminance Adjustment Aqua | 0 |
Luminance Adjustment Blue | 0 |
Luminance Adjustment Green | 0 |
Luminance Adjustment Magenta | 0 |
Luminance Adjustment Orange | 0 |
Luminance Adjustment Purple | 0 |
Luminance Adjustment Red | 0 |
Luminance Adjustment Yellow | 0 |
Luminance Noise Reduction Contrast | 37 |
Luminance Noise Reduction Detail | 50 |
Luminance Smoothing | 36 |
Metering Mode | Center-weighted average |
Parametric Darks | 0 |
Parametric Highlight Split | 75 |
Parametric Highlights | 0 |
Parametric Lights | 0 |
Parametric Midtone Split | 50 |
Parametric Shadow Split | 25 |
Parametric Shadows | 0 |
Perspective Horizontal | 0 |
Perspective Rotate | 0.0 |
Perspective Scale | 100 |
Perspective Vertical | 0 |
Post Crop Vignette Amount | 0 |
Process Version | 6.7 |
Raw File Name | _GPR8145.dng |
Red Hue | 0 |
Red Saturation | 0 |
Rights | Gilles PRETET |
Saturation | Normal |
Saturation Adjustment Aqua | 0 |
Saturation Adjustment Blue | 0 |
Saturation Adjustment Green | 0 |
Saturation Adjustment Magenta | 0 |
Saturation Adjustment Orange | 0 |
Saturation Adjustment Purple | 0 |
Saturation Adjustment Red | 0 |
Saturation Adjustment Yellow | 0 |
Scale Factor To 35 mm Equivalent | 1.0 |
Scene Capture Type | Standard |
Scene Type | Directly photographed |
Sensing Method | One-chip color area |
Sensitivity Type | Recommended Exposure Index |
Shadow Tint | 0 |
Shadows 2012 | 0 |
Sharpen Detail | 36 |
Sharpen Edge Masking | 99 |
Sharpen Radius | +1.4 |
Sharpness | Normal |
Source | Gilles PRETET |
Split Toning Balance | 0 |
Split Toning Highlight Hue | 0 |
Split Toning Highlight Saturation | 0 |
Split Toning Shadow Hue | 0 |
Split Toning Shadow Saturation | 0 |
Subject | Fontvieille, geo:lat=43.72724647, geo:lon=7.41926212, geotagged, MCO, Monaco, Port de Fontvieille, principauté, 98, mc, europe, eu, Anse de la Grue, geo:lat=43.73028407, geo:lon=7.42268085, La Condamine, vue, port, bateu, bateaux, mer, méditéranée, nikon, d600, samyang, 14mm |
Subject Distance Range | Unknown |
Time Zone Offset | 2 |
Tint | +1 |
Tone Curve Name 2012 | Linear |
Tone Curve PV2012 | 0, 0, 255, 255 |
Tone Curve PV2012 Blue | 0, 0, 255, 255 |
Tone Curve PV2012 Green | 0, 0, 255, 255 |
Tone Curve PV2012 Red | 0, 0, 255, 255 |
User Comment | Image:Gilles PRETET |
Version | 7.1 |
Vibrance | 0 |
Vignette Amount | 0 |
White Balance | Auto |
Whites 2012 | -43 |
GPS Information |
GPS Altitude | 46 m Above Sea Level |
GPS Altitude Ref | Above Sea Level |
GPS Date Stamp | 2015:08:04 |
GPS Date/Time | 2015:08:04 09:50:24Z |
GPS Latitude | 43 deg 43' 49.02" N |
GPS Latitude Ref | North |
GPS Longitude | 7 deg 25' 21.65" E |
GPS Longitude Ref | East |
GPS Map Datum | WGS-84 |
GPS Position | 43 deg 43' 49.02" N, 7 deg 25' 21.65" E |
GPS Time Stamp | 09:50:24 |
GPS Version ID | 2.2.0.0 |