Shooting information for this photo
| Camera: | Canon EOS 550D |
| Exposure: | 0.008 sec. (1/125) |
| Aperture: | f/14.0 |
| Focal Length: | 18.0 mm (35 mm equivalent: 28.3 mm) |
| Flash: | Off, Did not fire |
| Exposure mode: | Manual |
| Resolution: | 240 x 240 dpi |
| Original Date: | 2015:03:19 07:17:41.48 |
| Created on: | 2015:03:19 07:17:41.48 |
| Modified on: | 2015:03:21 09:18:52 |
| Software: | Adobe Photoshop Lightroom 4.0 (Windows) |
| Copyright: | 2015 All rights reserved |
| Already Applied | True |
| Artist | Gillian Everett |
| Auto Lateral CA | 0 |
| Blacks 2012 | 0 |
| Blue Hue | 0 |
| Blue Saturation | 0 |
| Brightness | 0 |
| Camera Profile | Embedded |
| Circle Of Confusion | 0.019 mm |
| Clarity | 0 |
| Clarity 2012 | +57 |
| Color Noise Reduction | 0 |
| Contrast | 0 |
| Contrast 2012 | +38 |
| Convert To Grayscale | False |
| Creator | Gillian Everett |
| Custom Rendered | Normal |
| Date Created | 2015:03:19 07:17:41.48 |
| Defringe | 0 |
| Exposure | 0.00 |
| Exposure 2012 | 0.00 |
| Exposure Compensation | 0 |
| Exposure Mode | Manual |
| Field Of View | 64.9 deg |
| Fill Light | 0 |
| Format | image/jpeg |
| Grain Amount | 0 |
| Green Hue | 0 |
| Green Saturation | 0 |
| Has Crop | False |
| Has Settings | True |
| Highlight Recovery | 0 |
| Highlights 2012 | -100 |
| Hue Adjustment Aqua | 0 |
| Hue Adjustment Blue | 0 |
| Hue Adjustment Green | +44 |
| Hue Adjustment Magenta | 0 |
| Hue Adjustment Orange | 0 |
| Hue Adjustment Purple | 0 |
| Hue Adjustment Red | 0 |
| Hue Adjustment Yellow | -13 |
| Hyperfocal Distance | 1.21 m |
| ISO | 100 |
| Image Size | 1024x1024 |
| Incremental Temperature | 0 |
| Incremental Tint | 0 |
| Last Keyword IPTC | Maryborough, Queensland, 2015, Architecture, History, Australian History, City Hall, 1908 |
| Last Keyword XMP | Maryborough, Queensland, 2015, Architecture, History, Australian History, City Hall, 1908 |
| Lens Manual Distortion Amount | 0 |
| Lens Profile Enable | 0 |
| Lens Profile Setup | LensDefaults |
| Light Value | 14.6 |
| Luminance Adjustment Aqua | 0 |
| Luminance Adjustment Blue | 0 |
| Luminance Adjustment Green | -24 |
| Luminance Adjustment Magenta | 0 |
| Luminance Adjustment Orange | 0 |
| Luminance Adjustment Purple | 0 |
| Luminance Adjustment Red | 0 |
| Luminance Adjustment Yellow | 0 |
| Luminance Smoothing | 0 |
| Metering Mode | Center-weighted average |
| Parametric Darks | 0 |
| Parametric Highlight Split | 75 |
| Parametric Highlights | 0 |
| Parametric Lights | 0 |
| Parametric Midtone Split | 50 |
| Parametric Shadow Split | 25 |
| Parametric Shadows | 0 |
| Perspective Horizontal | 0 |
| Perspective Rotate | 0.0 |
| Perspective Scale | 100 |
| Perspective Vertical | 0 |
| Post Crop Vignette Amount | 0 |
| Process Version | 6.7 |
| Red Hue | 0 |
| Red Saturation | 0 |
| Rights | 2015 All rights reserved |
| Saturation | 0 |
| Saturation Adjustment Aqua | 0 |
| Saturation Adjustment Blue | 0 |
| Saturation Adjustment Green | 0 |
| Saturation Adjustment Magenta | 0 |
| Saturation Adjustment Orange | +11 |
| Saturation Adjustment Purple | 0 |
| Saturation Adjustment Red | +20 |
| Saturation Adjustment Yellow | -29 |
| Scale Factor To 35 mm Equivalent | 1.6 |
| Scene Capture Type | Standard |
| Shadow Tint | 0 |
| Shadows | 0 |
| Shadows 2012 | +100 |
| Sharpen Detail | 25 |
| Sharpen Edge Masking | 0 |
| Sharpen Radius | +1.0 |
| Sharpness | 25 |
| Split Toning Balance | 0 |
| Split Toning Highlight Hue | 0 |
| Split Toning Highlight Saturation | 0 |
| Split Toning Shadow Hue | 0 |
| Split Toning Shadow Saturation | 0 |
| Subject | 1908, 2015, Architecture, Australian History, City Hall, History, Maryborough, Queensland |
| Tone Curve | 0, 0, 255, 255 |
| Tone Curve Blue | 0, 0, 255, 255 |
| Tone Curve Green | 0, 0, 255, 255 |
| Tone Curve Name | Linear |
| Tone Curve Name 2012 | Linear |
| Tone Curve PV2012 | 0, 0, 255, 255 |
| Tone Curve PV2012 Blue | 0, 0, 255, 255 |
| Tone Curve PV2012 Green | 0, 0, 255, 255 |
| Tone Curve PV2012 Red | 0, 0, 255, 255 |
| Tone Curve Red | 0, 0, 255, 255 |
| Version | 7.0 |
| Vibrance | +12 |
| Vignette Amount | 0 |
| White Balance | Auto |
| Whites 2012 | 0 |
X