Shooting information for this photo
| Camera: | SAMSUNG GT-I9305 |
| Exposure: | 0.02857 sec. (1/35) |
| Aperture: | f/2.6 |
| Focal Length: | 3.7 mm |
| Flash: | No Flash |
| Exposure mode: | Aperture-priority AE |
| Max Aperture: | 2.6 |
| Resolution: | 72 x 72 dpi |
| Dimension: | 2444 x 2441 pixels |
| Original Date: | 2014:01:27 09:51:34 |
| Created on: | 2014:01:27 09:51:34 |
| Modified on: | 2014:01:27 13:45:33 |
| Software: | Adobe Photoshop Lightroom 4.0 (Windows) |
| Already Applied | True |
| Artist | Picasa |
| Auto Lateral CA | 0 |
| Blacks 2012 | -15 |
| Blue Hue | 0 |
| Blue Saturation | 0 |
| Brightness | 0 |
| Brightness Value | 3.5859375 |
| Camera Profile | Embedded |
| Clarity | 0 |
| Clarity 2012 | +100 |
| Color Noise Reduction | 0 |
| Contrast | 0 |
| Contrast 2012 | +26 |
| Convert To Grayscale | False |
| Creator | Picasa |
| Date Created | 2014:01:27 09:51:34 |
| Defringe | 0 |
| Exposure | 0.00 |
| Exposure 2012 | 0.00 |
| Exposure Compensation | 0 |
| Exposure Mode | Auto |
| Fill Light | 0 |
| Format | image/jpeg |
| Gradient Based Corr Active | true |
| Gradient Based Corr Amount | 1.000000 |
| Gradient Based Corr Brightness | 0.000000 |
| Gradient Based Corr Clarity 2012 | 0.000000 |
| Gradient Based Corr Contrast 2012 | 0.000000 |
| Gradient Based Corr Exposure 2012 | 0.000000 |
| Gradient Based Corr Highlights 2012 | -0.748947 |
| Gradient Based Corr Hue | 359.019989 |
| Gradient Based Corr Luminance Noise | 0.000000 |
| Gradient Based Corr Mask Full X | 0.517420 |
| Gradient Based Corr Mask Full Y | 1.014090 |
| Gradient Based Corr Mask Value | 1.000000 |
| Gradient Based Corr Mask What | Mask/Gradient |
| Gradient Based Corr Mask Zero X | 0.517419 |
| Gradient Based Corr Mask Zero Y | 1.034010 |
| Gradient Based Corr Moire | 0.000000 |
| Gradient Based Corr Saturation | 0.000000 |
| Gradient Based Corr Shadows 2012 | 0.000000 |
| Gradient Based Corr Sharpness | 0.000000 |
| Gradient Based Corr Temperature | 0.000000 |
| Gradient Based Corr Tint | 0.000000 |
| Gradient Based Corr What | Correction |
| Grain Amount | 0 |
| Green Hue | 0 |
| Green Saturation | 0 |
| Has Crop | False |
| Has Settings | True |
| Highlight Recovery | 0 |
| Highlights 2012 | -98 |
| Hue Adjustment Aqua | 0 |
| Hue Adjustment Blue | 0 |
| Hue Adjustment Green | 0 |
| Hue Adjustment Magenta | 0 |
| Hue Adjustment Orange | 0 |
| Hue Adjustment Purple | 0 |
| Hue Adjustment Red | 0 |
| Hue Adjustment Yellow | 0 |
| ISO | 64 |
| Image Size | 2444x2441 |
| Incremental Temperature | 0 |
| Incremental Tint | 0 |
| Last Keyword IPTC | Platycerium superbum, Staghorn Fern, Tewantin, Queensland, Australia, HDR, Dark Green, 365 Days in Colour |
| Last Keyword XMP | Platycerium superbum, Staghorn Fern, Tewantin, Queensland, Australia, HDR, Dark Green, 365 Days in Colour |
| Lens Manual Distortion Amount | 0 |
| Lens Profile Enable | 0 |
| Lens Profile Setup | LensDefaults |
| Light Value | 8.5 |
| Luminance Adjustment Aqua | 0 |
| Luminance Adjustment Blue | 0 |
| Luminance Adjustment Green | 0 |
| Luminance Adjustment Magenta | 0 |
| Luminance Adjustment Orange | 0 |
| Luminance Adjustment Purple | 0 |
| Luminance Adjustment Red | 0 |
| Luminance Adjustment Yellow | 0 |
| Luminance Smoothing | 0 |
| Metering Mode | Center-weighted average |
| Parametric Darks | 0 |
| Parametric Highlight Split | 75 |
| Parametric Highlights | 0 |
| Parametric Lights | 0 |
| Parametric Midtone Split | 50 |
| Parametric Shadow Split | 25 |
| Parametric Shadows | 0 |
| Perspective Horizontal | 0 |
| Perspective Rotate | 0.0 |
| Perspective Scale | 100 |
| Perspective Vertical | 0 |
| Post Crop Vignette Amount | 0 |
| Process Version | 6.7 |
| Red Hue | 0 |
| Red Saturation | 0 |
| Related Image Height | 2448 |
| Related Image Width | 3264 |
| Saturation | +6 |
| Saturation Adjustment Aqua | 0 |
| Saturation Adjustment Blue | 0 |
| Saturation Adjustment Green | 0 |
| Saturation Adjustment Magenta | 0 |
| Saturation Adjustment Orange | 0 |
| Saturation Adjustment Purple | 0 |
| Saturation Adjustment Red | 0 |
| Saturation Adjustment Yellow | 0 |
| Scene Capture Type | Standard |
| Shadow Tint | 0 |
| Shadows | 0 |
| Shadows 2012 | +100 |
| Sharpen Detail | 35 |
| Sharpen Edge Masking | 0 |
| Sharpen Radius | +1.2 |
| Sharpness | 69 |
| Split Toning Balance | 0 |
| Split Toning Highlight Hue | 0 |
| Split Toning Highlight Saturation | 0 |
| Split Toning Shadow Hue | 0 |
| Split Toning Shadow Saturation | 0 |
| Subject | Platycerium superbum, Staghorn Fern, Tewantin, Queensland, Australia, HDR, Dark Green, 365 Days in Colour |
| Tone Curve | 0, 0, 255, 255 |
| Tone Curve Blue | 0, 0, 255, 255 |
| Tone Curve Green | 0, 0, 255, 255 |
| Tone Curve Name | Linear |
| Tone Curve Name 2012 | Linear |
| Tone Curve PV2012 | 0, 0, 255, 255 |
| Tone Curve PV2012 Blue | 0, 0, 255, 255 |
| Tone Curve PV2012 Green | 0, 0, 255, 255 |
| Tone Curve PV2012 Red | 0, 0, 255, 255 |
| Tone Curve Red | 0, 0, 255, 255 |
| User Comment | > |
| Version | 7.0 |
| Vibrance | +46 |
| Vignette Amount | 0 |
| White Balance | Auto |
| Whites 2012 | +31 |
| XP Keywords | Platycerium superbum;Staghorn Fern;Tewantin;Queensland;Austr alia;HDR;Dark Green;365 Days in Colour |
X