Shooting information for this photo
| Camera: | Canon EOS-1D X Mark II |
| Exposure: | 0.07692 sec. (1/13) |
| Aperture: | f/4.0 |
| Focal Length: | 40.0 mm (35 mm equivalent: 109.4 mm) |
| Flash: | Off, Did not fire |
| Exposure mode: | Manual |
| Max Aperture: | 4.0 |
| Resolution: | 300 x 300 dpi |
| Dimension: | 2000 x 1333 pixels |
| Original Date: | 2019:12:08 12:45:48.44 |
| Created on: | 2019:12:08 12:45:48.44 |
| Modified on: | 2019:12:28 11:28:48.44 |
| Software: | Adobe Photoshop CC 2017 (Windows) |
| Copyright: | Non pubblicare senza consenso dell'autore |
| Already Applied | True |
| Approximate Focus Distance | 3.39 |
| Artist | Giancarlo Amadio |
| Auto Lateral CA | 0 |
| Blacks 2012 | -22 |
| Blue Hue | 0 |
| Blue Saturation | 0 |
| Camera Profile | Adobe Standard |
| Circle Of Confusion | 0.011 mm |
| Clarity 2012 | +10 |
| Color Mode | RGB |
| Color Noise Reduction | 25 |
| Color Noise Reduction Detail | 50 |
| Color Noise Reduction Smoothness | 50 |
| Color Space | Uncalibrated |
| Color Temperature | 6900 |
| Contrast 2012 | +40 |
| Convert To Grayscale | False |
| Creator | Giancarlo Amadio |
| Custom Rendered | Normal |
| Date Created | 2019:12:08 12:45:48.044 |
| Defringe Green Amount | 0 |
| Defringe Green Hue Hi | 60 |
| Defringe Green Hue Lo | 40 |
| Defringe Purple Amount | 0 |
| Defringe Purple Hue Hi | 70 |
| Defringe Purple Hue Lo | 30 |
| Dehaze | +13 |
| Exposure 2012 | +0.55 |
| Exposure Compensation | 0 |
| Exposure Mode | Manual |
| Field Of View | 18.7 deg |
| Firmware | 1.1.2 |
| Flash Compensation | 0 |
| Format | image/jpeg |
| Grain Amount | 0 |
| Green Hue | 0 |
| Green Saturation | 0 |
| Has Crop | False |
| Has Settings | True |
| Highlights 2012 | -44 |
| Hue Adjustment Aqua | 0 |
| Hue Adjustment Blue | 0 |
| Hue Adjustment Green | 0 |
| Hue Adjustment Magenta | 0 |
| Hue Adjustment Orange | 0 |
| Hue Adjustment Purple | 0 |
| Hue Adjustment Red | 0 |
| Hue Adjustment Yellow | 0 |
| Hyperfocal Distance | 36.43 m |
| ICC Profile Name | Adobe RGB (1998) |
| ISO | 12800 |
| Image Number | 0 |
| Image Size | 2000x1333 |
| Lens | EF24-105mm f/4L IS USM |
| Lens ID | Canon EF 24-105mm f/4L IS |
| Lens Info | 24-105mm f/? |
| Lens Manual Distortion Amount | 0 |
| Lens Model | EF24-105mm f/4L IS USM |
| Lens Profile Enable | 0 |
| Lens Profile Setup | LensDefaults |
| Light Value | 0.7 |
| Look Amount | 1.000000 |
| Look Copyright | © 2018 Adobe Systems, Inc. |
| Look Group | Profiles |
| Look Name | Adobe Color |
| Look Parameters Camera Profile | Adobe Standard |
| Look Parameters Convert To Grayscale | False |
| Look Parameters Look Table | E1095149FDB39D7A057BAB208837E2 E1 |
| Look Parameters Process Version | 11.0 |
| Look Parameters Tone Curve PV2012 | 0, 0, 22, 16, 40, 35, 127, 127, 224, 230, 240, 246, 255, 255 |
| Look Parameters Tone Curve PV2012 Blue | 0, 0, 255, 255 |
| Look Parameters Tone Curve PV2012 Green | 0, 0, 255, 255 |
| Look Parameters Tone Curve PV2012 Red | 0, 0, 255, 255 |
| Look Parameters Version | 11.3 |
| Look Supports Amount | false |
| Look Supports Monochrome | false |
| Look Supports Output Referred | false |
| Luminance Adjustment Aqua | 0 |
| Luminance Adjustment Blue | 0 |
| Luminance Adjustment Green | 0 |
| Luminance Adjustment Magenta | 0 |
| Luminance Adjustment Orange | 0 |
| Luminance Adjustment Purple | 0 |
| Luminance Adjustment Red | 0 |
| Luminance Adjustment Yellow | 0 |
| Luminance Smoothing | 0 |
| Metering Mode | Partial |
| Override Look Vignette | False |
| Parametric Darks | 0 |
| Parametric Highlight Split | 75 |
| Parametric Highlights | 0 |
| Parametric Lights | 0 |
| Parametric Midtone Split | 50 |
| Parametric Shadow Split | 25 |
| Parametric Shadows | 0 |
| Perspective Aspect | 0 |
| Perspective Horizontal | 0 |
| Perspective Rotate | 0.0 |
| Perspective Scale | 100 |
| Perspective Upright | 0 |
| Perspective Vertical | 0 |
| Perspective X | 0.00 |
| Perspective Y | 0.00 |
| Photometric Interpretation | RGB |
| Post Crop Vignette Amount | 0 |
| Process Version | 11.0 |
| Rating | 0 |
| Raw File Name | _MG_9126.CR2 |
| Recommended Exposure Index | 12800 |
| Red Hue | 0 |
| Red Saturation | 0 |
| Rights | Non pubblicare senza consenso dell'autore |
| Samples Per Pixel | 3 |
| Saturation | +2 |
| Saturation Adjustment Aqua | 0 |
| Saturation Adjustment Blue | 0 |
| Saturation Adjustment Green | 0 |
| Saturation Adjustment Magenta | 0 |
| Saturation Adjustment Orange | 0 |
| Saturation Adjustment Purple | 0 |
| Saturation Adjustment Red | 0 |
| Saturation Adjustment Yellow | 0 |
| Scale Factor To 35 mm Equivalent | 2.7 |
| Scene Capture Type | Standard |
| Sensitivity Type | Recommended Exposure Index |
| Shadow Tint | 0 |
| Shadows 2012 | +52 |
| Sharpen Detail | 25 |
| Sharpen Edge Masking | 0 |
| Sharpen Radius | +1.0 |
| Sharpness | 40 |
| Split Toning Balance | 0 |
| Split Toning Highlight Hue | 0 |
| Split Toning Highlight Saturation | 0 |
| Split Toning Shadow Hue | 0 |
| Split Toning Shadow Saturation | 0 |
| Texture | 0 |
| Tint | +6 |
| Tone Curve | 0, 0, 32, 22, 64, 56, 128, 128, 192, 196, 255, 255 |
| Tone Curve Blue | 0, 0, 255, 255 |
| Tone Curve Green | 0, 0, 255, 255 |
| Tone Curve Name | Medium Contrast |
| Tone Curve Name 2012 | Linear |
| Tone Curve PV2012 | 0, 0, 255, 255 |
| Tone Curve PV2012 Blue | 0, 0, 255, 255 |
| Tone Curve PV2012 Green | 0, 0, 255, 255 |
| Tone Curve PV2012 Red | 0, 0, 255, 255 |
| Tone Curve Red | 0, 0, 255, 255 |
| Tone Map Strength | 0 |
| Version | 11.3 |
| Vibrance | +3 |
| Vignette Amount | 0 |
| White Balance | Auto |
| Whites 2012 | +21 |
GPS Information |
| GPS Altitude | 435.6 m Above Sea Level |
| GPS Altitude Ref | Above Sea Level |
| GPS Date Stamp | 2019:12:08 |
| GPS Date/Time | 2019:12:08 10:45:47.605Z |
| GPS Dilution Of Precision | 2.7 |
| GPS Latitude | 45 deg 56' 2.93" N |
| GPS Latitude Ref | North |
| GPS Longitude | 10 deg 17' 31.28" E |
| GPS Longitude Ref | East |
| GPS Map Datum | WGS-84 |
| GPS Measure Mode | 3-Dimensional Measurement |
| GPS Position | 45 deg 56' 2.93" N, 10 deg 17' 31.28" E |
| GPS Satellites | 6 |
| GPS Status | Measurement Active |
| GPS Time Stamp | 10:45:47.605 |
| GPS Version ID | 2.3.0.0 |
X