Shooting information for this photo
Camera: | Canon EOS-1D X |
Exposure: | 0.00125 sec. (1/800) |
Aperture: | f/7.1 |
Focal Length: | 28.0 mm (35 mm equivalent: 28.0 mm) |
Flash: | Off, Did not fire |
Exposure mode: | Manual |
Max Aperture: | 2.8 |
Resolution: | 240 x 240 dpi |
Dimension: | 5184 x 3456 pixels |
Original Date: | 2013:05:23 10:26:30.99 |
Created on: | 2013:05:23 10:26:30.99 |
Modified on: | 2013:05:25 17:16:55.99 |
Software: | Adobe Photoshop CS5 Windows |
Copyright: | Non_pubblicare_senza_autorizzazione_dell'autore |
Already Applied | True |
Approximate Focus Distance | 168 |
Artist | Giancarlo_Amadio |
Auto Lateral CA | 0 |
Blacks 2012 | 0 |
Blue Hue | 0 |
Blue Saturation | 0 |
Brightness | -4 |
Camera Profile | Adobe Standard |
Circle Of Confusion | 0.030 mm |
Clarity | +33 |
Clarity 2012 | 0 |
Color Mode | RGB |
Color Noise Reduction | 25 |
Color Noise Reduction Detail | 50 |
Color Space | Uncalibrated |
Color Temperature | 4800 |
Contrast | +34 |
Contrast 2012 | 0 |
Convert To Grayscale | False |
Creator | Giancarlo_Amadio |
Custom Rendered | Normal |
Date Created | 2013:05:23 10:26:30.099 |
Defringe | 0 |
Depth Of Field | inf (3.60 m - inf) |
Exposure | +3.05 |
Exposure 2012 | 0.00 |
Exposure Compensation | 0 |
Exposure Mode | Manual |
Field Of View | 65.5 deg |
Fill Light | 24 |
Firmware | 1.2.1 |
Flash Compensation | 0 |
Format | image/jpeg |
Grain Amount | 0 |
Green Hue | 0 |
Green Saturation | 0 |
Has Crop | False |
Has Settings | True |
Highlight Recovery | 0 |
Highlights 2012 | 0 |
Hue Adjustment Aqua | 0 |
Hue Adjustment Blue | 0 |
Hue Adjustment Green | 0 |
Hue Adjustment Magenta | 0 |
Hue Adjustment Orange | 0 |
Hue Adjustment Purple | 0 |
Hue Adjustment Red | 0 |
Hue Adjustment Yellow | 0 |
Hyperfocal Distance | 3.68 m |
ICC Profile Name | Adobe RGB (1998) |
ISO | 200 |
Image Number | 0 |
Image Size | 5184x3456 |
Lens | EF24-70mm f/2.8L II USM |
Lens ID | Canon EF 24-70mm f/2.8L II USM |
Lens Info | 24-70mm f/? |
Lens Manual Distortion Amount | 0 |
Lens Model | EF24-70mm f/2.8L II USM |
Lens Profile Enable | 0 |
Lens Profile Setup | LensDefaults |
Light Value | 14.3 |
Luminance Adjustment Aqua | 0 |
Luminance Adjustment Blue | 0 |
Luminance Adjustment Green | 0 |
Luminance Adjustment Magenta | 0 |
Luminance Adjustment Orange | 0 |
Luminance Adjustment Purple | 0 |
Luminance Adjustment Red | 0 |
Luminance Adjustment Yellow | 0 |
Luminance Smoothing | 0 |
Metering Mode | Partial |
Parametric Darks | 0 |
Parametric Highlight Split | 75 |
Parametric Highlights | 0 |
Parametric Lights | 0 |
Parametric Midtone Split | 50 |
Parametric Shadow Split | 25 |
Parametric Shadows | 0 |
Perspective Horizontal | 0 |
Perspective Rotate | 0.0 |
Perspective Scale | 100 |
Perspective Vertical | 0 |
Post Crop Vignette Amount | 0 |
Process Version | 5.7 |
Rating | 0 |
Raw File Name | _25P3648.CR2 |
Recommended Exposure Index | 200 |
Red Hue | 0 |
Red Saturation | 0 |
Rights | Non_pubblicare_senza_autorizza zione_dell'autore |
Saturation | 0 |
Saturation Adjustment Aqua | 0 |
Saturation Adjustment Blue | 0 |
Saturation Adjustment Green | 0 |
Saturation Adjustment Magenta | 0 |
Saturation Adjustment Orange | +14 |
Saturation Adjustment Purple | 0 |
Saturation Adjustment Red | 0 |
Saturation Adjustment Yellow | +18 |
Scale Factor To 35 mm Equivalent | 1.0 |
Scene Capture Type | Standard |
Sensitivity Type | Recommended Exposure Index |
Shadow Tint | 0 |
Shadows | 5 |
Shadows 2012 | 0 |
Sharpen Detail | 25 |
Sharpen Edge Masking | 0 |
Sharpen Radius | +1.0 |
Sharpness | 25 |
Split Toning Balance | 0 |
Split Toning Highlight Hue | 0 |
Split Toning Highlight Saturation | 0 |
Split Toning Shadow Hue | 0 |
Split Toning Shadow Saturation | 0 |
Subject Distance | 168 m |
Tint | +17 |
Tone Curve | 0, 0, 32, 22, 64, 56, 128, 128, 192, 196, 255, 255 |
Tone Curve Blue | 0, 0, 255, 255 |
Tone Curve Green | 0, 0, 255, 255 |
Tone Curve Name | Medium Contrast |
Tone Curve Name 2012 | Linear |
Tone Curve PV2012 | 0, 0, 255, 255 |
Tone Curve PV2012 Blue | 0, 0, 255, 255 |
Tone Curve PV2012 Green | 0, 0, 255, 255 |
Tone Curve PV2012 Red | 0, 0, 255, 255 |
Tone Curve Red | 0, 0, 255, 255 |
Version | 6.7 |
Vibrance | 0 |
Vignette Amount | 0 |
White Balance | Auto |
Whites 2012 | 0 |
GPS Information |
GPS Altitude | 37.4 m Above Sea Level |
GPS Altitude Ref | Above Sea Level |
GPS Date Stamp | 2013:05:23 |
GPS Date/Time | 2013:05:23 09:26:29.003Z |
GPS Dest Bearing | 0 |
GPS Dest Distance | 0 |
GPS Differential | No Correction |
GPS Dilution Of Precision | 2.4 |
GPS Latitude | 45 deg 8' 39.12" N |
GPS Latitude Ref | North |
GPS Longitude | 10 deg 17' 17.68" E |
GPS Longitude Ref | East |
GPS Map Datum | WGS-84 |
GPS Measure Mode | 3-Dimensional Measurement |
GPS Position | 45 deg 8' 39.12" N, 10 deg 17' 17.68" E |
GPS Satellites | 12 |
GPS Speed | 0 |
GPS Status | Measurement Active |
GPS Time Stamp | 09:26:29.003 |
GPS Track | 0 |
GPS Version ID | 2.3.0.0 |
X