Shooting information for this photo
| Camera: | Canon EOS-1D X |
| Exposure: | 0.0025 sec. (1/400) |
| Aperture: | f/8.0 |
| Focal Length: | 35.0 mm (35 mm equivalent: 35.0 mm) |
| Flash: | Off, Did not fire |
| Exposure mode: | Manual |
| Max Aperture: | 2.8 |
| Resolution: | 240 x 240 dpi |
| Dimension: | 5184 x 3456 pixels |
| Original Date: | 2013:02:26 08:17:06.33 |
| Created on: | 2013:02:26 08:17:06.33 |
| Modified on: | 2013:02:26 20:59:42.33 |
| Software: | Adobe Photoshop CS5 Windows |
| Already Applied | True |
| Approximate Focus Distance | 4294967295 |
| Artist | Giancarlo_Amadio |
| Auto Lateral CA | 0 |
| Blacks 2012 | 0 |
| Blue Hue | 0 |
| Blue Saturation | 0 |
| Brightness | +29 |
| Camera Profile | Adobe Standard |
| Circle Of Confusion | 0.030 mm |
| Clarity | +19 |
| Clarity 2012 | 0 |
| Color Mode | RGB |
| Color Noise Reduction | 25 |
| Color Noise Reduction Detail | 50 |
| Color Space | Uncalibrated |
| Color Temperature | 5100 |
| Contrast | +49 |
| Contrast 2012 | 0 |
| Convert To Grayscale | False |
| Creator | Giancarlo_Amadio |
| Custom Rendered | Normal |
| Date Created | 2013:02:26 08:17:06.033 |
| Defringe | 0 |
| Depth Of Field | inf (5.10 m - inf) |
| Exposure | +1.80 |
| Exposure 2012 | 0.00 |
| Exposure Compensation | 0 |
| Exposure Mode | Manual |
| Field Of View | 54.4 deg |
| Fill Light | 28 |
| Firmware | 1.1.1 |
| Flash Compensation | 0 |
| Format | image/jpeg |
| Grain Amount | 0 |
| Green Hue | 0 |
| Green Saturation | 0 |
| Has Crop | False |
| Has Settings | True |
| Highlight Recovery | 0 |
| Highlights 2012 | 0 |
| Hue Adjustment Aqua | 0 |
| Hue Adjustment Blue | 0 |
| Hue Adjustment Green | 0 |
| Hue Adjustment Magenta | 0 |
| Hue Adjustment Orange | 0 |
| Hue Adjustment Purple | 0 |
| Hue Adjustment Red | 0 |
| Hue Adjustment Yellow | 0 |
| Hyperfocal Distance | 5.10 m |
| ICC Profile Name | Adobe RGB (1998) |
| ISO | 200 |
| Image Number | 0 |
| Image Size | 5184x3456 |
| Lens | EF24-70mm f/2.8L II USM |
| Lens ID | Canon EF 24-70mm f/2.8L II USM |
| Lens Info | 24-70mm f/? |
| Lens Manual Distortion Amount | 0 |
| Lens Model | EF24-70mm f/2.8L II USM |
| Lens Profile Enable | 0 |
| Lens Profile Setup | LensDefaults |
| Light Value | 13.6 |
| Luminance Adjustment Aqua | 0 |
| Luminance Adjustment Blue | 0 |
| Luminance Adjustment Green | 0 |
| Luminance Adjustment Magenta | 0 |
| Luminance Adjustment Orange | 0 |
| Luminance Adjustment Purple | 0 |
| Luminance Adjustment Red | 0 |
| Luminance Adjustment Yellow | 0 |
| Luminance Smoothing | 0 |
| Metering Mode | Partial |
| Parametric Darks | 0 |
| Parametric Highlight Split | 75 |
| Parametric Highlights | 0 |
| Parametric Lights | 0 |
| Parametric Midtone Split | 50 |
| Parametric Shadow Split | 25 |
| Parametric Shadows | 0 |
| Perspective Horizontal | 0 |
| Perspective Rotate | 0.0 |
| Perspective Scale | 100 |
| Perspective Vertical | 0 |
| Post Crop Vignette Amount | 0 |
| Process Version | 5.7 |
| Rating | 0 |
| Raw File Name | _25P1713.CR2 |
| Recommended Exposure Index | 200 |
| Red Hue | 0 |
| Red Saturation | 0 |
| Saturation | 0 |
| Saturation Adjustment Aqua | 0 |
| Saturation Adjustment Blue | 0 |
| Saturation Adjustment Green | +16 |
| Saturation Adjustment Magenta | 0 |
| Saturation Adjustment Orange | +69 |
| Saturation Adjustment Purple | 0 |
| Saturation Adjustment Red | +9 |
| Saturation Adjustment Yellow | 0 |
| Scale Factor To 35 mm Equivalent | 1.0 |
| Scene Capture Type | Standard |
| Sensitivity Type | Recommended Exposure Index |
| Shadow Tint | 0 |
| Shadows | 2 |
| Shadows 2012 | 0 |
| Sharpen Detail | 25 |
| Sharpen Edge Masking | 0 |
| Sharpen Radius | +1.0 |
| Sharpness | 25 |
| Split Toning Balance | 0 |
| Split Toning Highlight Hue | 0 |
| Split Toning Highlight Saturation | 0 |
| Split Toning Shadow Hue | 0 |
| Split Toning Shadow Saturation | 0 |
| Subject Distance | 4294967295 m |
| Tint | +22 |
| Tone Curve | 0, 0, 32, 22, 64, 56, 128, 128, 192, 196, 255, 255 |
| Tone Curve Blue | 0, 0, 255, 255 |
| Tone Curve Green | 0, 0, 255, 255 |
| Tone Curve Name | Medium Contrast |
| Tone Curve Name 2012 | Linear |
| Tone Curve PV2012 | 0, 0, 255, 255 |
| Tone Curve PV2012 Blue | 0, 0, 255, 255 |
| Tone Curve PV2012 Green | 0, 0, 255, 255 |
| Tone Curve PV2012 Red | 0, 0, 255, 255 |
| Tone Curve Red | 0, 0, 255, 255 |
| Version | 6.7 |
| Vibrance | 0 |
| Vignette Amount | 0 |
| White Balance | Auto |
| Whites 2012 | 0 |
GPS Information |
| GPS Altitude | 96.1 m Above Sea Level |
| GPS Altitude Ref | Above Sea Level |
| GPS Date Stamp | 2013:02:26 |
| GPS Date/Time | 2013:02:26 08:17:06Z |
| GPS Dest Bearing | 0 |
| GPS Dest Distance | 0 |
| GPS Differential | No Correction |
| GPS Dilution Of Precision | 1.3 |
| GPS Img Direction | 268 |
| GPS Img Direction Ref | Magnetic North |
| GPS Latitude | 45 deg 28' 25.21" N |
| GPS Latitude Ref | North |
| GPS Longitude | 10 deg 6' 36.58" E |
| GPS Longitude Ref | East |
| GPS Map Datum | WGS-84 |
| GPS Measure Mode | 3-Dimensional Measurement |
| GPS Position | 45 deg 28' 25.21" N, 10 deg 6' 36.58" E |
| GPS Satellites | 12 |
| GPS Speed | 0 |
| GPS Status | Measurement Active |
| GPS Time Stamp | 08:17:06 |
| GPS Track | 0 |
| GPS Version ID | 2.3.0.0 |
X